Workbook

Sheet CAPA
B20: COMPOSIÇÃO DE PREÇOS
B24: CONTRATAÇÃO DE EMPRESA PARA FORNECIMENTO DE MÃO DE OBRA PARA IMPLANTAÇÃO DE PROJETOS HIDROAMBIENTAIS NA BACIA HIDROGRÁFICA DO RIO DOCE – INICIATIVA RIO VIVO, TENDO COMO REFERÊNCIA O PROGRAMA 16 – PROTEÇÃO E CONSERVAÇÃO DOS RECURSOS HÍDRICOS
B26: LOTE 5 CH DO5 CARATINGA
B30: Nome da Empresa
B38: Cidade, data

Sheet COMPOSIÇÃO DE CUSTOS - LOTE 3_
A1: PAINEL 2 - COMPOSIÇÃO DE CUSTOS | LOTE 2 CH DO2 PIRACICABA
A3: CUSTOS FIXOS POR EQUIPE
A4: ITEM | B4: CÓDIGO | C4: FONTE | D4: DATA BASE | E4: DESCRIÇÃO | F4: CUSTO MENSAL | G4: UN. | H4: QUANT. | I4: CUSTO TOTAL | J4: PESO (%)
A5: 1 | B5: EQUIPE PERMANENTE | F5: Com K1 | I5: =SUM(I6:I17) -> #DIV/0! | J5: =SUM(J6:J17) -> #DIV/0!
A6: 1.1 | C6: ='EQUIPE PERMANENTE'!D6 -> 0 | E6: Coordenador | F6: ='EQUIPE PERMANENTE'!D64/6 -> #DIV/0! | G6: Mês | H6: 15 | I6: =H6*F6 -> #DIV/0! | J6: =I6/$I$25 -> #DIV/0!
A7: 1.2 | B7: ='EQUIPE PERMANENTE'!F5 -> 0 | C7: ='EQUIPE PERMANENTE'!F6 -> 0 | D7: ='EQUIPE PERMANENTE'!F7 -> 0 | E7: Mobizador Social | F7: ='EQUIPE PERMANENTE'!F64/6 -> #DIV/0! | G7: Mês | H7: 15 | I7: =H7*F7 -> #DIV/0! | J7: =I7/$I$25 -> #DIV/0!
A8: 1.3 | B8: ='EQUIPE PERMANENTE'!H5 -> 0 | C8: ='EQUIPE PERMANENTE'!F6 -> 0 | D8: ='EQUIPE PERMANENTE'!H7 -> 0 | E8: Técnico Ambiental | F8: ='EQUIPE PERMANENTE'!H64/6 -> #DIV/0! | G8: Mês | H8: 15 | I8: =H8*F8 -> #DIV/0! | J8: =I8/$I$25 -> #DIV/0!
A9: 1.4 | B9: ='EQUIPE PERMANENTE'!J5 -> 0 | C9: ='EQUIPE PERMANENTE'!J6 -> 0 | D9: ='EQUIPE PERMANENTE'!J7 -> 0 | E9: Auxiliar Administrativo | F9: ='EQUIPE PERMANENTE'!J64/6 -> #DIV/0! | G9: Mês | H9: 15 | I9: =H9*F9 -> #DIV/0! | J9: =I9/$I$25 -> #DIV/0!
A10: 1.5 | B10: ='EQUIPE PERMANENTE'!L5 -> 0 | C10: ='EQUIPE PERMANENTE'!L6 -> 0 | D10: ='EQUIPE PERMANENTE'!L7 -> 0 | E10: Encarregado Operacional | F10: ='EQUIPE PERMANENTE'!L64 -> #REF! | G10: Mês | H10: 12 | I10: =H10*F10 -> #REF! | J10: =I10/$I$25 -> #REF!
A11: 1.6 | B11: ='EQUIPE PERMANENTE'!N5 -> 0 | C11: ='EQUIPE PERMANENTE'!N6 -> 0 | D11: ='EQUIPE PERMANENTE'!N7 -> 0 | E11: Motorista | F11: ='EQUIPE PERMANENTE'!N64 -> #REF! | G11: Mês | H11: 12 | I11: =H11*F11 -> #REF! | J11: =I11/$I$25 -> #REF!
A12: 1.8 | B12: ='EQUIPE PERMANENTE'!P5 -> 0 | C12: ='EQUIPE PERMANENTE'!P6 -> 0 | D12: ='EQUIPE PERMANENTE'!P7 -> 0 | E12: Carpinteiro | F12: ='EQUIPE PERMANENTE'!P64 -> #REF! | G12: Mês | H12: 12 | I12: =H12*F12 -> #REF! | J12: =I12/$I$25 -> #REF!
A13: 1.8 | B13: ='EQUIPE PERMANENTE'!P5 -> 0 | C13: ='EQUIPE PERMANENTE'!P6 -> 0 | D13: ='EQUIPE PERMANENTE'!P7 -> 0 | E13: Carpinteiro | F13: ='EQUIPE PERMANENTE'!P64 -> #REF! | G13: Mês | H13: 12 | I13: =H13*F13 -> #REF! | J13: =I13/$I$25 -> #REF!
A14: 1.9 | B14: ='EQUIPE PERMANENTE'!R5 -> 0 | C14: ='EQUIPE PERMANENTE'!R6 -> 0 | D14: ='EQUIPE PERMANENTE'!R7 -> 0 | E14: Ajudante | F14: ='EQUIPE PERMANENTE'!R64 -> #REF! | G14: Mês | H14: 12 | I14: =H14*F14 -> #REF! | J14: =I14/$I$25 -> #REF!
A15: 1.9 | B15: ='EQUIPE PERMANENTE'!R5 -> 0 | C15: ='EQUIPE PERMANENTE'!R6 -> 0 | D15: ='EQUIPE PERMANENTE'!R7 -> 0 | E15: Ajudante | F15: ='EQUIPE PERMANENTE'!R64 -> #REF! | G15: Mês | H15: 12 | I15: =H15*F15 -> #REF! | J15: =I15/$I$25 -> #REF!
A16: 1.9 | B16: ='EQUIPE PERMANENTE'!R5 -> 0 | C16: ='EQUIPE PERMANENTE'!R6 -> 0 | D16: ='EQUIPE PERMANENTE'!R7 -> 0 | E16: Ajudante | F16: ='EQUIPE PERMANENTE'!R64 -> #REF! | G16: Mês | H16: 12 | I16: =H16*F16 -> #REF! | J16: =I16/$I$25 -> #REF!
A17: 1.9 | B17: ='EQUIPE PERMANENTE'!R5 -> 0 | C17: ='EQUIPE PERMANENTE'!R6 -> 0 | D17: ='EQUIPE PERMANENTE'!R7 -> 0 | E17: Ajudante | F17: ='EQUIPE PERMANENTE'!R64 -> #REF! | G17: Mês | H17: 12 | I17: =H17*F17 -> #REF! | J17: =I17/$I$25 -> #REF!
A18: 2 | B18: DESPESAS DIVERSAS | F18: Com K4 | I18: =SUM(I19:I23) -> #REF! | J18: =SUM(J19:J23) -> #DIV/0!
A19: 2.1 | B19: ='DESPESAS DIVERSAS I'!#REF! -> #REF! | C19: ='DESPESAS DIVERSAS I'!#REF! -> #REF! | D19: ='DESPESAS DIVERSAS I'!#REF! -> #REF! | E19: Caminhonete 4x4 cabine dupla | F19: ='DESPESAS DIVERSAS I'!B8/6 -> 0 | G19: Mês | H19: 15 | I19: =H19*F19 -> 0 | J19: =I19/$I$25 -> #DIV/0!
A20: 2.2 | B20: ='DESPESAS DIVERSAS I'!#REF! -> #REF! | C20: ='DESPESAS DIVERSAS I'!#REF! -> #REF! | D20: ='DESPESAS DIVERSAS I'!#REF! -> #REF! | E20: Caminhão toco com cabine suplementar | F20: ='DESPESAS DIVERSAS I'!C8 -> 0 | G20: Mês | H20: 12 | I20: =H20*F20 -> 0 | J20: =I20/$I$25 -> #DIV/0!
A21: 2.4 | B21: ='DESPESAS DIVERSAS I'!#REF! -> #REF! | C21: ='DESPESAS DIVERSAS I'!#REF! -> #REF! | D21: ='DESPESAS DIVERSAS I'!#REF! -> #REF! | E21: Compactador de solos | F21: ='DESPESAS DIVERSAS I'!D8 -> 0 | G21: Mês | H21: 12 | I21: =H21*F21 -> 0 | J21: =I21/$I$25 -> #DIV/0!
A22: 2.5 | B22: - | C22: COMPOSIÇÃO | D22: 45383 | E22: Óleo Diesel S10 | F22: ='DESPESAS DIVERSAS II'!#REF!/6 -> #REF! | G22: Mês | H22: 15 | I22: =H22*F22 -> #REF! | J22: =I22/$I$25 -> #REF!
A23: 2.6 | B23: - | C23: COMPOSIÇÃO | D23: 45383 | E23: Óleo Diesel S500 | F23: ='DESPESAS DIVERSAS II'!#REF! -> #REF! | G23: Mês | H23: 12 | I23: =H23*F23 -> #REF! | J23: =I23/$I$25 -> #REF!
A25: CUSTO FIXO TOTAL POR EQUIPE | I25: =I5+I18 -> #DIV/0! | J25: =I25/I25 -> #DIV/0!
A26: NÚMERO DE EQUIPES | I26: 4 | J26: -
A27: CUSTO FIXO TOTAL | I27: =I25*I26 -> #DIV/0! | J27: -
A29: CUSTOS VARIÁVEIS POR EQUIPE
A30: ITEM | B30: CÓDIGO | C30: ÓRGÃO | D30: DATA BASE | E30: DESCRIÇÃO | F30: CUSTO UNITÁRIO | G30: UN. | H30: QUANT. | I30: CUSTO TOTAL | J30: PESO (%)
A31: 3 | B31: SERVIÇOS TÉCNICOS | F31: Com K3 | I31: =SUM(I32:I34) -> 0 | J31: =SUM(J32:J34) -> #REF!
A32: 3.1 | B32: ='SERVIÇOS TÉCNICOS'!#REF! -> #REF! | C32: ='SERVIÇOS TÉCNICOS'!#REF! -> #REF! | D32: ='SERVIÇOS TÉCNICOS'!#REF! -> #REF! | E32: Técnico em Geoprocessamento | F32: ='SERVIÇOS TÉCNICOS'!H5 -> 0 | G32: hora | H32: 960 | I32: =H32*F32 -> 0 | J32: =I32/$I$41 -> #REF!
A33: 3.2 | B33: ='SERVIÇOS TÉCNICOS'!B6 -> 0 | C33: ='SERVIÇOS TÉCNICOS'!C6 -> 0 | D33: ='SERVIÇOS TÉCNICOS'!D6 -> 0 | E33: Alocação de equipe de topografia básica (inclui equipe composta por um engenheiro e auxiliar de topografia; equipamentos: estação total, rádio comunicador e equipamentos complementares; mobilização e desmobilização; hospedagem e alimentação) | F33: ='SERVIÇOS TÉCNICOS'!H6 -> 0 | G33: diária | H33: 7 | I33: =H33*F33 -> 0 | J33: =I33/$I$41 -> #REF!
A34: 3.3 | B34: ='SERVIÇOS TÉCNICOS'!B7 -> 0 | C34: ='SERVIÇOS TÉCNICOS'!C7 -> 0 | D34: ='SERVIÇOS TÉCNICOS'!D7 -> 0 | E34: Execução de Filmagem com Drone | F34: ='SERVIÇOS TÉCNICOS'!H7 -> 0 | G34: diária | H34: 12 | I34: =H34*F34 -> 0 | J34: =I34/$I$41 -> #REF!
A35: 4 | B35: DESPESAS DIVERSAS | F35: Com K4 | I35: =SUM(I36:I39) -> #REF! | J35: =SUM(J36:J39) -> #REF!
A36: 4.2 | B36: 5678 | C36: SINAPI | D36: 45323 | E36: Locação de Trator | F36: ='DESPESAS DIVERSAS II'!#REF! -> #REF! | G36: hora | H36: ='DESPESAS DIVERSAS II'!#REF! -> #REF! | I36: =F36*H36 -> #REF! | J36: =I36/$I$41 -> #REF!
A37: 4.3 | B37: - | C37: COMPOSIÇÃO | D37: 45383 | E37: Impressão preto e branco | F37: ='DESPESAS DIVERSAS II'!#REF! -> #REF! | G37: unidade | H37: 3750 | I37: =F37*H37 -> #REF! | J37: =I37/$I$41 -> #REF!
A38: 4.4 | B38: - | C38: ='DESPESAS DIVERSAS II'!#REF! -> #REF! | D38: 45383 | E38: Diárias | F38: ='DESPESAS DIVERSAS II'!#REF! -> #REF! | G38: unidade | H38: ='DESPESAS DIVERSAS II'!#REF! -> #REF! | I38: =F38*H38 -> #REF! | J38: =I38/$I$41 -> #REF!
A39: 4.5 | B39: - | C39: ='DESPESAS DIVERSAS II'!#REF! -> #REF! | D39: 45383 | E39: Refeições | F39: ='DESPESAS DIVERSAS II'!#REF! -> #REF! | G39: unidade | H39: ='DESPESAS DIVERSAS II'!#REF! -> #REF! | I39: =F39*H39 -> #REF! | J39: =I39/$I$41 -> #REF!
A41: CUSTO VARIÁVEL TOTAL POR EQUIPE | I41: =I35+I31 -> #REF! | J41: =I41/I41 -> #REF!
A42: NÚMERO DE EQUIPES | I42: 4 | J42: -
A43: CUSTO VARIÁVEL TOTAL | I43: =I42*I41 -> #REF! | J43: -
A45: CUSTO TOTAL DO PROJETO | I45: =I43+I27 -> #REF! | J45: -

Sheet CRON LOTE 3_
A1: PAINEL 3 - CRONOGRAMA FÍSICO-FINANCEIRO | LOTE 2 CH DO2 PIRACICABA
A3: ETAPA | B3: ATIVIDADE | C3: ETAPA A | F3: ETAPA B
C4: MÊS 1 | D4: MÊS 2 | F4: MÊS 3 | G4: MÊS 4 | H4: MÊS 5 | I4: MÊS 6 | J4: MÊS 7
A5: A | B5: Emissão da OS
B6: Recomposição das UGPs
B7: Planejamento | C7: P1 | D7: P1
A8: B | B8: Emissão da OS**
B9: Mobilização Social | I9: P2
B10: Execução das Intervenções | F10: P3 | G10: P3 | H10: P3 | I10: P3 | J10: P3
A11: C | B11: Fiscalização
A12: CUSTOS FIXOS | B12: MENSAL | C12: =('COMPOSIÇÃO DE CUSTOS - LOTE 3_'!F6+'COMPOSIÇÃO DE CUSTOS - LOTE 3_'!F7+'COMPOSIÇÃO DE CUSTOS - LOTE 3_'!F8+'COMPOSIÇÃO DE CUSTOS - LOTE 3_'!F9+'COMPOSIÇÃO DE CUSTOS - LOTE 3_'!F19+'COMPOSIÇÃO DE CUSTOS - LOTE 3_'!F22)*6 -> #DIV/0! | D12: =('COMPOSIÇÃO DE CUSTOS - LOTE 3_'!F6+'COMPOSIÇÃO DE CUSTOS - LOTE 3_'!F7+'COMPOSIÇÃO DE CUSTOS - LOTE 3_'!F8+'COMPOSIÇÃO DE CUSTOS - LOTE 3_'!F9+'COMPOSIÇÃO DE CUSTOS - LOTE 3_'!F19+'COMPOSIÇÃO DE CUSTOS - LOTE 3_'!F22)*6 -> #DIV/0! | F12: =('COMPOSIÇÃO DE CUSTOS - LOTE 3_'!F6+'COMPOSIÇÃO DE CUSTOS - LOTE 3_'!F7+'COMPOSIÇÃO DE CUSTOS - LOTE 3_'!F8+'COMPOSIÇÃO DE CUSTOS - LOTE 3_'!F9+'COMPOSIÇÃO DE CUSTOS - LOTE 3_'!F19+'COMPOSIÇÃO DE CUSTOS - LOTE 3_'!F22)*6 -> #DIV/0! | G12: =SUM('COMPOSIÇÃO DE CUSTOS - LOTE 3_'!F6:F17,'COMPOSIÇÃO DE CUSTOS - LOTE 3_'!F19:F23)*6 -> #DIV/0! | H12: =SUM('COMPOSIÇÃO DE CUSTOS - LOTE 3_'!F6:F17,'COMPOSIÇÃO DE CUSTOS - LOTE 3_'!F19:F23)*6 -> #DIV/0! | I12: =SUM('COMPOSIÇÃO DE CUSTOS - LOTE 3_'!F6:F17,'COMPOSIÇÃO DE CUSTOS - LOTE 3_'!F19:F23)*6 -> #DIV/0! | J12: =SUM('COMPOSIÇÃO DE CUSTOS - LOTE 3_'!F6:F17,'COMPOSIÇÃO DE CUSTOS - LOTE 3_'!F19:F23)*6 -> #DIV/0!
B13: % em relação ao total | C13: =C12/$J$44 -> #DIV/0! | D13: =D12/$J$44 -> #DIV/0! | F13: =F12/$J$44 -> #DIV/0! | G13: =G12/$J$44 -> #DIV/0! | H13: =H12/$J$44 -> #DIV/0! | I13: =I12/$J$44 -> #DIV/0! | J13: =J12/$J$44 -> #DIV/0!
B14: ACUMULADO | C14: =C12 -> #DIV/0! | D14: =D12+C14 -> #DIV/0! | F14: =F12+D14 -> #DIV/0! | G14: =G12+F14 -> #DIV/0! | H14: =H12+G14 -> #DIV/0! | I14: =I12+H14 -> #DIV/0! | J14: =J12+I14 -> #DIV/0!
B15: % acumulado | C15: =C13 -> #DIV/0! | D15: =D13+C15 -> #DIV/0! | F15: =F13+D15 -> #DIV/0! | G15: =G13+F15 -> #DIV/0! | H15: =H13+G15 -> #DIV/0! | I15: =I13+H15 -> #DIV/0! | J15: =J13+I15 -> #DIV/0!
A16: CUSTOS VARIÁVEIS* | B16: MENSAL | C16: 0 | D16: 0 | F16: 0 | G16: ='COMPOSIÇÃO DE CUSTOS - LOTE 3_'!I43/12 -> #REF! | H16: ='COMPOSIÇÃO DE CUSTOS - LOTE 3_'!I43/12 -> #REF! | I16: ='COMPOSIÇÃO DE CUSTOS - LOTE 3_'!I43/12 -> #REF! | J16: ='COMPOSIÇÃO DE CUSTOS - LOTE 3_'!I43/12 -> #REF!
B17: % em relação ao total | C17: =C16/$J$44 -> #DIV/0! | D17: =D16/$J$44 -> #DIV/0! | F17: =F16/$J$44 -> #DIV/0! | G17: =G16/$J$44 -> #REF! | H17: =H16/$J$44 -> #REF! | I17: =I16/$J$44 -> #REF! | J17: =J16/$J$44 -> #REF!
B18: ACUMULADO | C18: =C16 -> 0 | D18: =D16+C18 -> 0 | F18: =F16+D18 -> 0 | G18: =G16+F18 -> #REF! | H18: =H16+G18 -> #REF! | I18: =I16+H18 -> #REF! | J18: =J16+I18 -> #REF!
B19: % acumulado | C19: =C17 -> #DIV/0! | D19: =D17+C19 -> #DIV/0! | F19: =F17+D19 -> #DIV/0! | G19: =G17+F19 -> #REF! | H19: =H17+G19 -> #REF! | I19: =I17+H19 -> #REF! | J19: =J17+I19 -> #REF!
A20: TOTAL | B20: MENSAL | C20: =C12+C16 -> #DIV/0! | D20: =D12+D16 -> #DIV/0! | F20: =F12+F16 -> #DIV/0! | G20: =G12+G16 -> #DIV/0! | H20: =H12+H16 -> #DIV/0! | I20: =I12+I16 -> #DIV/0! | J20: =J12+J16 -> #DIV/0!
B21: % em relação ao total | C21: =C20/$J$44 -> #DIV/0! | D21: =D20/$J$44 -> #DIV/0! | F21: =F20/$J$44 -> #DIV/0! | G21: =G20/$J$44 -> #DIV/0! | H21: =H20/$J$44 -> #DIV/0! | I21: =I20/$J$44 -> #DIV/0! | J21: =J20/$J$44 -> #DIV/0!
B22: ACUMULADO | C22: =C20 -> #DIV/0! | D22: =D20+C22 -> #DIV/0! | F22: =F20+D22 -> #DIV/0! | G22: =G20+F22 -> #DIV/0! | H22: =H20+G22 -> #DIV/0! | I22: =I20+H22 -> #DIV/0! | J22: =J20+I22 -> #DIV/0!
B23: % acumulado | C23: =C22/$J$44 -> #DIV/0! | D23: =D21+C23 -> #DIV/0! | F23: =F21+D23 -> #DIV/0! | G23: =G21+F23 -> #DIV/0! | H23: =H21+G23 -> #DIV/0! | I23: =I21+H23 -> #DIV/0! | J23: =J21+I23 -> #DIV/0!
A25: ETAPA | B25: ATIVIDADE | C25: ETAPA B
C26: MÊS 8 | D26: MÊS 9 | E26: MÊS 10 | F26: MÊS 11 | G26: MÊS 12 | H26: MÊS 13 | I26: MÊS 14 | J26: MÊS 15
A27: A | B27: Emissão da OS
B28: Recomposição das UGPs
B29: Planejamento | C29: P1 Ajustado | I29: P1 Ajustado
A30: B | B30: Emissão da OS**
B31: Mobilização Social | D31: P2 | G31: P2 | J31: P2
B32: Execução das Intervenções | C32: P3 | D32: P3 | E32: P3 | F32: P3 | G32: P3 | H32: P3 | I32: P3 | J32: P3
A33: C | B33: Fiscalização
A34: CUSTOS FIXOS | B34: MENSAL | C34: =SUM('COMPOSIÇÃO DE CUSTOS - LOTE 3_'!F6:F17,'COMPOSIÇÃO DE CUSTOS - LOTE 3_'!F19:F23)*6 -> #DIV/0! | D34: =SUM('COMPOSIÇÃO DE CUSTOS - LOTE 3_'!F6:F17,'COMPOSIÇÃO DE CUSTOS - LOTE 3_'!F19:F23)*6 -> #DIV/0! | E34: =SUM('COMPOSIÇÃO DE CUSTOS - LOTE 3_'!F6:F17,'COMPOSIÇÃO DE CUSTOS - LOTE 3_'!F19:F23)*6 -> #DIV/0! | F34: =SUM('COMPOSIÇÃO DE CUSTOS - LOTE 3_'!F6:F17,'COMPOSIÇÃO DE CUSTOS - LOTE 3_'!F19:F23)*6 -> #DIV/0! | G34: =SUM('COMPOSIÇÃO DE CUSTOS - LOTE 3_'!F6:F17,'COMPOSIÇÃO DE CUSTOS - LOTE 3_'!F19:F23)*6 -> #DIV/0! | H34: =SUM('COMPOSIÇÃO DE CUSTOS - LOTE 3_'!F6:F17,'COMPOSIÇÃO DE CUSTOS - LOTE 3_'!F19:F23)*6 -> #DIV/0! | I34: =SUM('COMPOSIÇÃO DE CUSTOS - LOTE 3_'!F6:F17,'COMPOSIÇÃO DE CUSTOS - LOTE 3_'!F19:F23)*6 -> #DIV/0! | J34: =SUM('COMPOSIÇÃO DE CUSTOS - LOTE 3_'!F6:F17,'COMPOSIÇÃO DE CUSTOS - LOTE 3_'!F19:F23)*6 -> #DIV/0!
B35: % em relação ao total | C35: =C34/$J$44 -> #DIV/0! | D35: =D34/$J$44 -> #DIV/0! | E35: =E34/$J$44 -> #DIV/0! | F35: =F34/$J$44 -> #DIV/0! | G35: =G34/$J$44 -> #DIV/0! | H35: =H34/$J$44 -> #DIV/0! | I35: =I34/$J$44 -> #DIV/0! | J35: =J34/$J$44 -> #DIV/0!
B36: ACUMULADO | C36: =J14+C34 -> #DIV/0! | D36: =D34+C36 -> #DIV/0! | E36: =E34+D36 -> #DIV/0! | F36: =F34+E36 -> #DIV/0! | G36: =G34+F36 -> #DIV/0! | H36: =H34+G36 -> #DIV/0! | I36: =I34+H36 -> #DIV/0! | J36: =J34+I36 -> #DIV/0!
B37: % acumulado | C37: =J15+C35 -> #DIV/0! | D37: =D35+C37 -> #DIV/0! | E37: =E35+D37 -> #DIV/0! | F37: =F35+E37 -> #DIV/0! | G37: =G35+F37 -> #DIV/0! | H37: =H35+G37 -> #DIV/0! | I37: =I35+H37 -> #DIV/0! | J37: =J35+I37 -> #DIV/0!
A38: CUSTOS VARIÁVEIS* | B38: MENSAL | C38: ='COMPOSIÇÃO DE CUSTOS - LOTE 3_'!I43/12 -> #REF! | D38: ='COMPOSIÇÃO DE CUSTOS - LOTE 3_'!I43/12 -> #REF! | E38: ='COMPOSIÇÃO DE CUSTOS - LOTE 3_'!I43/12 -> #REF! | F38: ='COMPOSIÇÃO DE CUSTOS - LOTE 3_'!I43/12 -> #REF! | G38: ='COMPOSIÇÃO DE CUSTOS - LOTE 3_'!I43/12 -> #REF! | H38: ='COMPOSIÇÃO DE CUSTOS - LOTE 3_'!I43/12 -> #REF! | I38: ='COMPOSIÇÃO DE CUSTOS - LOTE 3_'!I43/12 -> #REF! | J38: ='COMPOSIÇÃO DE CUSTOS - LOTE 3_'!I43/12 -> #REF!
B39: % em relação ao total | C39: =C38/$J$44 -> #REF! | D39: =D38/$J$44 -> #REF! | E39: =E38/$J$44 -> #REF! | F39: =F38/$J$44 -> #REF! | G39: =G38/$J$44 -> #REF! | H39: =H38/$J$44 -> #REF! | I39: =I38/$J$44 -> #REF! | J39: =J38/$J$44 -> #REF!
B40: ACUMULADO | C40: =J18+C38 -> #REF! | D40: =D38+C40 -> #REF! | E40: =E38+D40 -> #REF! | F40: =F38+E40 -> #REF! | G40: =G38+F40 -> #REF! | H40: =H38+G40 -> #REF! | I40: =I38+H40 -> #REF! | J40: =J38+I40 -> #REF!
B41: % acumulado | C41: =J19+C39 -> #REF! | D41: =D39+C41 -> #REF! | E41: =E39+D41 -> #REF! | F41: =F39+E41 -> #REF! | G41: =G39+F41 -> #REF! | H41: =H39+G41 -> #REF! | I41: =I39+H41 -> #REF! | J41: =J39+I41 -> #REF!
A42: TOTAL | B42: MENSAL | C42: =C34+C38 -> #DIV/0! | D42: =D34+D38 -> #DIV/0! | E42: =E34+E38 -> #DIV/0! | F42: =F34+F38 -> #DIV/0! | G42: =G34+G38 -> #DIV/0! | H42: =H34+H38 -> #DIV/0! | I42: =I34+I38 -> #DIV/0! | J42: =J34+J38 -> #DIV/0!
...

Sheet COMPOSIÇÃO DE CUSTOS - LOTE 5
A1: PAINEL 1 - COMPOSIÇÃO DE CUSTOS | LOTE 5 CH DO5 CARATINGA
A3: CUSTOS FIXOS POR EQUIPE
A4: ITEM | B4: CÓDIGO | C4: FONTE | D4: DATA BASE | E4: DESCRIÇÃO | F4: CUSTO MENSAL | G4: UN. | H4: QUANT. | I4: CUSTO TOTAL | J4: PESO (%)
A5: 1 | B5: EQUIPE PERMANENTE | F5: Com K1 | I5: =SUM(I6:I16) -> #DIV/0! | J5: =SUM(J6:J16) -> #DIV/0!
A6: 1.1 | E6: Coordenador | F6: ='EQUIPE PERMANENTE'!D64/4 -> #DIV/0! | G6: Mês | H6: 15 | I6: =H6*F6 -> #DIV/0! | J6: =I6/$I$25 -> #DIV/0!
A7: 1.2 | E7: Mobilizador Social | F7: =('EQUIPE PERMANENTE'!F64/4) -> #DIV/0! | G7: Mês | H7: 15 | I7: =H7*F7 -> #DIV/0! | J7: =I7/$I$25 -> #DIV/0!
A8: 1.3 | E8: Técnico Ambiental | F8: =('EQUIPE PERMANENTE'!H64/4) -> #DIV/0! | G8: Mês | H8: 15 | I8: =H8*F8 -> #DIV/0! | J8: =I8/$I$25 -> #DIV/0!
A9: 1.4 | E9: Auxiliar Administrativo | F9: =('EQUIPE PERMANENTE'!J64/4) -> #DIV/0! | G9: Mês | H9: 15 | I9: =H9*F9 -> #DIV/0! | J9: =I9/$I$25 -> #DIV/0!
A10: 1.5 | E10: Encarregado Operacional | F10: =('EQUIPE PERMANENTE'!L64) -> #REF! | G10: Mês | H10: 12 | I10: =H10*F10 -> #REF! | J10: =I10/$I$25 -> #REF!
A11: 1.6 | E11: Motorista | F11: =('EQUIPE PERMANENTE'!N64) -> #REF! | G11: Mês | H11: 12 | I11: =H11*F11 -> #REF! | J11: =I11/$I$25 -> #REF!
A12: 1.7 | E12: Carpinteiro | F12: ='EQUIPE PERMANENTE'!P64 -> #REF! | G12: Mês | H12: 12 | I12: =H12*F12 -> #REF! | J12: =I12/$I$25 -> #REF!
A13: 1.8 | E13: Ajudante | F13: ='EQUIPE PERMANENTE'!R64 -> #REF! | G13: Mês | H13: 12 | I13: =H13*F13 -> #REF! | J13: =I13/$I$25 -> #REF!
A14: 1.9 | E14: Ajudante | F14: ='EQUIPE PERMANENTE'!R64 -> #REF! | G14: Mês | H14: 12 | I14: =H14*F14 -> #REF! | J14: =I14/$I$25 -> #REF!
A15: 1.9 | E15: Ajudante | F15: ='EQUIPE PERMANENTE'!R64 -> #REF! | G15: Mês | H15: 12 | I15: =H15*F15 -> #REF! | J15: =I15/$I$25 -> #REF!
A16: 1.9 | E16: Ajudante | F16: ='EQUIPE PERMANENTE'!R64 -> #REF! | G16: Mês | H16: 12 | I16: =H16*F16 -> #REF! | J16: =I16/$I$25 -> #REF!
A17: 2 | B17: DESPESAS DIVERSAS | F17: Com K4 | I17: =SUM(I18:I23) -> #REF! | J17: =SUM(J18:J23) -> #REF!
A18: 2.1 | E18: Caminhonete 4x4 cabine dupla | F18: ='DESPESAS DIVERSAS I'!B8/4 -> 0 | G18: Mês | H18: 15 | I18: =H18*F18 -> 0 | J18: =I18/$I$25 -> #REF!
A19: 2.2 | E19: Caminhão toco com cabine suplementar | F19: ='DESPESAS DIVERSAS I'!C8*3/4 -> 0 | G19: Mês | H19: 12 | I19: =H19*F19 -> 0 | J19: =I19/$I$25 -> #REF!
A20: 2.4 | E20: Perfurador de Solos | F20: ='DESPESAS DIVERSAS I'!#REF! -> #REF! | G20: un. | H20: 1 | I20: =H20*F20 -> #REF! | J20: =I20/$I$25 -> #REF!
A21: 2.5 | E21: Óleo Diesel S10 | F21: ='DESPESAS DIVERSAS II'!#REF!/4 -> #REF! | G21: Mês | H21: 15 | I21: =H21*F21 -> #REF! | J21: =I21/$I$25 -> #REF!
A22: 2.6 | E22: Óleo Diesel S500 | F22: ='DESPESAS DIVERSAS II'!#REF! -> #REF! | G22: Mês | H22: 12 | I22: =H22*F22 -> #REF! | J22: =I22/$I$25 -> #REF!
A23: 2.7 | E23: Gasolina | F23: ='DESPESAS DIVERSAS II'!#REF! -> #REF! | G23: Mês | H23: 12 | I23: =H23*F23 -> #REF! | J23: =I23/$I$25 -> #REF!
A25: CUSTO FIXO TOTAL POR EQUIPE | I25: =I17+I5 -> #REF! | J25: =I25/I25 -> #REF!
A26: NÚMERO DE EQUIPES | I26: 4 | J26: -
A27: CUSTO FIXO TOTAL | I27: =I25*I26 -> #REF! | J27: -
A29: CUSTOS VARIÁVEIS POR EQUIPE
A30: ITEM | B30: CÓDIGO | C30: FONTE | D30: DATA BASE | E30: DESCRIÇÃO | F30: CUSTO UNITÁRIO | G30: UN. | H30: QUANT. | I30: CUSTO TOTAL | J30: PESO (%)
A31: 3 | B31: SERVIÇOS TÉCNICOS | F31: Com K3 | I31: =SUM(I32:I34) -> 0 | J31: =SUM(J32:J34) -> #REF!
A32: 3.1 | E32: Técnico em Geprocessamento | F32: ='SERVIÇOS TÉCNICOS'!H5 -> 0 | G32: hora | H32: 960 | I32: =H32*F32 -> 0 | J32: =I32/$I$42 -> #REF!
A33: 3.2 | E33: Alocação de equipe de topografia básica (inclui equipe composta por um engenheiro e auxiliar de topografia; equipamentos: estação total, rádio comunicador e equipamentos complementares; mobilização e desmobilização; hospedagem e alimentação) | F33: ='SERVIÇOS TÉCNICOS'!H6 -> 0 | G33: diária | H33: 7 | I33: =H33*F33 -> 0 | J33: =I33/$I$42 -> #REF!
A34: 3.3 | E34: Execução de Filmagem com Drone | F34: ='SERVIÇOS TÉCNICOS'!H7 -> 0 | G34: diária | H34: 12 | I34: =H34*F34 -> 0 | J34: =I34/$I$42 -> #REF!
A35: 4 | B35: DESPESAS DIVERSAS | F35: Com K4 | I35: =SUM(I36:I40) -> #REF! | J35: =SUM(J36:J40) -> #REF!
A36: 4.1 | E36: Locação de trator | F36: ='DESPESAS DIVERSAS II'!#REF! -> #REF! | G36: hora | H36: 504 | I36: =F36*H36 -> #REF! | J36: =I36/$I$42 -> #REF!
E37: Locação de Retroescavadeira | F37: ='DESPESAS DIVERSAS II'!#REF! -> #REF! | G37: hora | H37: =9*8 -> 72 | I37: =F37*H37 -> #REF! | J37: =I37/$I$42 -> #REF!
A38: 4.3 | E38: Impressão preto e branco | F38: ='DESPESAS DIVERSAS II'!#REF! -> #REF! | G38: unidade | H38: 3750 | I38: =F38*H38 -> #REF! | J38: =I38/$I$42 -> #REF!
A39: 4.4 | E39: Diárias | F39: ='DESPESAS DIVERSAS II'!#REF! -> #REF! | G39: unidade | H39: 330 | I39: =F39*H39 -> #REF! | J39: =I39/$I$42 -> #REF!
A40: 4.5 | E40: Refeições | F40: ='DESPESAS DIVERSAS II'!#REF! -> #REF! | G40: unidade | H40: 330 | I40: =F40*H40 -> #REF! | J40: =I40/$I$42 -> #REF!
A42: CUSTO VARIÁVEL TOTAL POR EQUIPE | I42: =I35+I31 -> #REF! | J42: =I42/I42 -> #REF!
A43: NÚMERO DE EQUIPES | I43: 4 | J43: -
A44: CUSTO VARIÁVEL TOTAL | I44: =I43*I42 -> #REF! | J44: -
...

Sheet CRON LOTE 5
A1: PAINEL 2 - CRONOGRAMA FÍSICO-FINANCEIRO | LOTE 5 CH DO5 CARATINGA
A3: ETAPA | B3: ATIVIDADE | C3: ETAPA A | F3: ETAPA B
C4: MÊS 1 | D4: MÊS 2 | E4: MÊS 3 | F4: MÊS 4 | G4: MÊS 5 | H4: MÊS 6 | I4: MÊS 7 | J4: MÊS 8
A5: A | B5: Emissão da OS
B6: Recomposição das UGPs
B7: Planejamento | C7: P1 | D7: P1 | J7: P1 Ajustado
A8: B | B8: Emissão da OS**
B9: Mobilização Social | H9: P2
B10: Execução das Intervenções | E10: P3 | F10: P3 | G10: P3 | H10: P3 | I10: P3 | J10: P3
A11: C | B11: Fiscalização
A12: CUSTOS FIXOS | B12: MENSAL | C12: =('COMPOSIÇÃO DE CUSTOS - LOTE 5'!F6+'COMPOSIÇÃO DE CUSTOS - LOTE 5'!F7+'COMPOSIÇÃO DE CUSTOS - LOTE 5'!F8+'COMPOSIÇÃO DE CUSTOS - LOTE 5'!F9+'COMPOSIÇÃO DE CUSTOS - LOTE 5'!F18+'COMPOSIÇÃO DE CUSTOS - LOTE 5'!F21)*4 -> #DIV/0! | D12: =('COMPOSIÇÃO DE CUSTOS - LOTE 5'!F6+'COMPOSIÇÃO DE CUSTOS - LOTE 5'!F7+'COMPOSIÇÃO DE CUSTOS - LOTE 5'!F8+'COMPOSIÇÃO DE CUSTOS - LOTE 5'!F9+'COMPOSIÇÃO DE CUSTOS - LOTE 5'!F18+'COMPOSIÇÃO DE CUSTOS - LOTE 5'!F21)*4 -> #DIV/0! | E12: =('COMPOSIÇÃO DE CUSTOS - LOTE 5'!F6+'COMPOSIÇÃO DE CUSTOS - LOTE 5'!F7+'COMPOSIÇÃO DE CUSTOS - LOTE 5'!F8+'COMPOSIÇÃO DE CUSTOS - LOTE 5'!F9+'COMPOSIÇÃO DE CUSTOS - LOTE 5'!F18+'COMPOSIÇÃO DE CUSTOS - LOTE 5'!F21)*4 -> #DIV/0! | F12: =SUM('COMPOSIÇÃO DE CUSTOS - LOTE 5'!F6:F16,'COMPOSIÇÃO DE CUSTOS - LOTE 5'!F18:F23)*4 -> #DIV/0! | G12: {=SUM('COMPOSIÇÃO DE CUSTOS - LOTE 5'!$F$6:$F$16,'COMPOSIÇÃO DE CUSTOS - LOTE 5'!$F$18:$F$19+'COMPOSIÇÃO DE CUSTOS - LOTE 5'!$F$21:$F$23)*4} -> #DIV/0! | H12: {=SUM('COMPOSIÇÃO DE CUSTOS - LOTE 5'!$F$6:$F$16,'COMPOSIÇÃO DE CUSTOS - LOTE 5'!$F$18:$F$19+'COMPOSIÇÃO DE CUSTOS - LOTE 5'!$F$21:$F$23)*4} -> #DIV/0! | I12: {=SUM('COMPOSIÇÃO DE CUSTOS - LOTE 5'!$F$6:$F$16,'COMPOSIÇÃO DE CUSTOS - LOTE 5'!$F$18:$F$19+'COMPOSIÇÃO DE CUSTOS - LOTE 5'!$F$21:$F$23)*4} -> #DIV/0! | J12: {=SUM('COMPOSIÇÃO DE CUSTOS - LOTE 5'!$F$6:$F$16,'COMPOSIÇÃO DE CUSTOS - LOTE 5'!$F$18:$F$19+'COMPOSIÇÃO DE CUSTOS - LOTE 5'!$F$21:$F$23)*4} -> #DIV/0!
B13: % em relação ao total | C13: =C12/$I$45 -> #DIV/0! | D13: =D12/$I$45 -> #DIV/0! | E13: =E12/$I$45 -> #DIV/0! | F13: =F12/$I$45 -> #DIV/0! | G13: =G12/$I$45 -> #DIV/0! | H13: =H12/$I$45 -> #DIV/0! | I13: =I12/$I$45 -> #DIV/0! | J13: =J12/$I$45 -> #DIV/0!
B14: ACUMULADO | C14: =C12 -> #DIV/0! | D14: =D12+C14 -> #DIV/0! | E14: =E12+D14 -> #DIV/0! | F14: =F12+E14 -> #DIV/0! | G14: =G12+F14 -> #DIV/0! | H14: =H12+G14 -> #DIV/0! | I14: =I12+H14 -> #DIV/0! | J14: =I14+J12 -> #DIV/0!
B15: % acumulado | C15: =C13 -> #DIV/0! | D15: =D13+C15 -> #DIV/0! | E15: =E13+D15 -> #DIV/0! | F15: =F13+E15 -> #DIV/0! | G15: =G13+F15 -> #DIV/0! | H15: =H13+G15 -> #DIV/0! | I15: =I13+H15 -> #DIV/0! | J15: =I15+J13 -> #DIV/0!
A16: CUSTOS VARIÁVEIS* | B16: MENSAL | C16: 0 | D16: 0 | E16: 0 | F16: ='COMPOSIÇÃO DE CUSTOS - LOTE 5'!I44/12 -> #REF! | G16: ='COMPOSIÇÃO DE CUSTOS - LOTE 5'!I44/12 -> #REF! | H16: ='COMPOSIÇÃO DE CUSTOS - LOTE 5'!I44/12 -> #REF! | I16: ='COMPOSIÇÃO DE CUSTOS - LOTE 5'!I44/12 -> #REF! | J16: ='COMPOSIÇÃO DE CUSTOS - LOTE 5'!I44/12 -> #REF!
B17: % em relação ao total | C17: =C16/$I$45 -> #DIV/0! | D17: =D16/$I$45 -> #DIV/0! | E17: =E16/$I$45 -> #DIV/0! | F17: =F16/$I$45 -> #REF! | G17: =G16/$I$45 -> #REF! | H17: =H16/$I$45 -> #REF! | I17: =I16/$I$45 -> #REF! | J17: =J16/$I$45 -> #REF!
B18: ACUMULADO | C18: =C16 -> 0 | D18: =D16+C18 -> 0 | E18: =E16+D18 -> 0 | F18: =F16+E18 -> #REF! | G18: =G16+F18 -> #REF! | H18: =H16+G18 -> #REF! | I18: =I16+H18 -> #REF! | J18: =I18+J16 -> #REF!
B19: % acumulado | C19: =C17 -> #DIV/0! | D19: =D17+C19 -> #DIV/0! | E19: =E17+D19 -> #DIV/0! | F19: =F17+E19 -> #REF! | G19: =G17+F19 -> #REF! | H19: =H17+G19 -> #REF! | I19: =I17+H19 -> #REF! | J19: =I19+J17 -> #REF!
A20: TOTAL | B20: MENSAL | C20: =C12+C16 -> #DIV/0! | D20: =D12+D16 -> #DIV/0! | E20: =E12+E16 -> #DIV/0! | F20: =F12+F16 -> #DIV/0! | G20: =G12+G16 -> #DIV/0! | H20: =H12+H16 -> #DIV/0! | I20: =I12+I16 -> #DIV/0! | J20: =J12+J16 -> #DIV/0!
B21: % em relação ao total | C21: =C20/$I$45 -> #DIV/0! | D21: =D20/$I$45 -> #DIV/0! | E21: =E20/$I$45 -> #DIV/0! | F21: =F20/$I$45 -> #DIV/0! | G21: =G20/$I$45 -> #DIV/0! | H21: =H20/$I$45 -> #DIV/0! | I21: =I20/$I$45 -> #DIV/0! | J21: =J20/$I$45 -> #DIV/0!
B22: ACUMULADO | C22: =C20 -> #DIV/0! | D22: =D20+C22 -> #DIV/0! | E22: =E20+D22 -> #DIV/0! | F22: =F20+E22 -> #DIV/0! | G22: =G20+F22 -> #DIV/0! | H22: =H20+G22 -> #DIV/0! | I22: =I20+H22 -> #DIV/0! | J22: =I22+J20 -> #DIV/0!
B23: % acumulado | C23: =C22/$I$45 -> #DIV/0! | D23: =D21+C23 -> #DIV/0! | E23: =E21+D23 -> #DIV/0! | F23: =F21+E23 -> #DIV/0! | G23: =G21+F23 -> #DIV/0! | H23: =H21+G23 -> #DIV/0! | I23: =I21+H23 -> #DIV/0! | J23: =I23+J21 -> #DIV/0!
A25: ETAPA | B25: ATIVIDADE | C25: ETAPA B
C26: MÊS 9 | D26: MÊS 10 | E26: MÊS 11 | F26: MÊS 12 | G26: MÊS 13 | H26: MÊS 14 | I26: MÊS 15 | J26: MÊS 16 | K26: MÊS 17
A27: A | B27: Emissão da OS | J27: Encerramento contratual
B28: Recomposição das UGPs
B29: Planejamento | H29: P1 Ajustado
A30: B | B30: Emissão da OS**
B31: Mobilização Social | C31: P2 | F31: P2 | I31: P2
B32: Execução das Intervenções | C32: P3 | D32: P3 | E32: P3 | F32: P3 | G32: P3 | H32: P3 | I32: P3
B33: Relatório Final do Contrato | I33: P4
A34: C | B34: Fiscalização
A35: CUSTOS FIXOS | B35: MENSAL | C35: {=SUM('COMPOSIÇÃO DE CUSTOS - LOTE 5'!$F$6:$F$16,'COMPOSIÇÃO DE CUSTOS - LOTE 5'!$F$18:$F$19+'COMPOSIÇÃO DE CUSTOS - LOTE 5'!$F$21:$F$23)*4} -> #DIV/0! | D35: {=SUM('COMPOSIÇÃO DE CUSTOS - LOTE 5'!$F$6:$F$16,'COMPOSIÇÃO DE CUSTOS - LOTE 5'!$F$18:$F$19+'COMPOSIÇÃO DE CUSTOS - LOTE 5'!$F$21:$F$23)*4} -> #DIV/0! | E35: {=SUM('COMPOSIÇÃO DE CUSTOS - LOTE 5'!$F$6:$F$16,'COMPOSIÇÃO DE CUSTOS - LOTE 5'!$F$18:$F$19+'COMPOSIÇÃO DE CUSTOS - LOTE 5'!$F$21:$F$23)*4} -> #DIV/0! | F35: {=SUM('COMPOSIÇÃO DE CUSTOS - LOTE 5'!$F$6:$F$16,'COMPOSIÇÃO DE CUSTOS - LOTE 5'!$F$18:$F$19+'COMPOSIÇÃO DE CUSTOS - LOTE 5'!$F$21:$F$23)*4} -> #DIV/0! | G35: {=SUM('COMPOSIÇÃO DE CUSTOS - LOTE 5'!$F$6:$F$16,'COMPOSIÇÃO DE CUSTOS - LOTE 5'!$F$18:$F$19+'COMPOSIÇÃO DE CUSTOS - LOTE 5'!$F$21:$F$23)*4} -> #DIV/0! | H35: {=SUM('COMPOSIÇÃO DE CUSTOS - LOTE 5'!$F$6:$F$16,'COMPOSIÇÃO DE CUSTOS - LOTE 5'!$F$18:$F$19+'COMPOSIÇÃO DE CUSTOS - LOTE 5'!$F$21:$F$23)*4} -> #DIV/0! | I35: {=SUM('COMPOSIÇÃO DE CUSTOS - LOTE 5'!$F$6:$F$16,'COMPOSIÇÃO DE CUSTOS - LOTE 5'!$F$18:$F$19+'COMPOSIÇÃO DE CUSTOS - LOTE 5'!$F$21:$F$23)*4} -> #DIV/0!
B36: % em relação ao total | C36: =C35/$I$45 -> #DIV/0! | D36: =D35/$I$45 -> #DIV/0! | E36: =E35/$I$45 -> #DIV/0! | F36: =F35/$I$45 -> #DIV/0! | G36: =G35/$I$45 -> #DIV/0! | H36: =H35/$I$45 -> #DIV/0! | I36: =I35/$I$45 -> #DIV/0!
B37: ACUMULADO | C37: =C35+J14 -> #DIV/0! | D37: =D35+C37 -> #DIV/0! | E37: =E35+D37 -> #DIV/0! | F37: =F35+E37 -> #DIV/0! | G37: =G35+F37 -> #DIV/0! | H37: =H35+G37 -> #DIV/0! | I37: =I35+H37 -> #DIV/0!
B38: % acumulado | C38: =C36+J15 -> #DIV/0! | D38: =D36+C38 -> #DIV/0! | E38: =E36+D38 -> #DIV/0! | F38: =F36+E38 -> #DIV/0! | G38: =G36+F38 -> #DIV/0! | H38: =H36+G38 -> #DIV/0! | I38: =I36+H38 -> #DIV/0!
A39: CUSTOS VARIÁVEIS* | B39: MENSAL | C39: ='COMPOSIÇÃO DE CUSTOS - LOTE 5'!I44/12 -> #REF! | D39: ='COMPOSIÇÃO DE CUSTOS - LOTE 5'!I44/12 -> #REF! | E39: ='COMPOSIÇÃO DE CUSTOS - LOTE 5'!I44/12 -> #REF! | F39: ='COMPOSIÇÃO DE CUSTOS - LOTE 5'!I44/12 -> #REF! | G39: ='COMPOSIÇÃO DE CUSTOS - LOTE 5'!I44/12 -> #REF! | H39: ='COMPOSIÇÃO DE CUSTOS - LOTE 5'!I44/12 -> #REF! | I39: ='COMPOSIÇÃO DE CUSTOS - LOTE 5'!I44/12 -> #REF!
B40: % em relação ao total | C40: =C39/$I$45 -> #REF! | D40: =D39/$I$45 -> #REF! | E40: =E39/$I$45 -> #REF! | F40: =F39/$I$45 -> #REF! | G40: =G39/$I$45 -> #REF! | H40: =H39/$I$45 -> #REF! | I40: =I39/$I$45 -> #REF!
B41: ACUMULADO | C41: =C39+J18 -> #REF! | D41: =D39+C41 -> #REF! | E41: =E39+D41 -> #REF! | F41: =F39+E41 -> #REF! | G41: =G39+F41 -> #REF! | H41: =H39+G41 -> #REF! | I41: =I39+H41 -> #REF!
B42: % acumulado | C42: =C40+J19 -> #REF! | D42: =D40+C42 -> #REF! | E42: =E40+D42 -> #REF! | F42: =F40+E42 -> #REF! | G42: =G40+F42 -> #REF! | H42: =H40+G42 -> #REF! | I42: =I40+H42 -> #REF!
...

Sheet EQUIPE PERMANENTE
A1: PAINEL 3 - EQUIPE PERMANENTE
A3: Item | D3: 1.1 | F3: 1.2 | H3: 1.3 | J3: 1.4 | L3: 1.5 | N3: 1.6 | P3: 1.7 | R3: 1.8
A4: Profissional | D4: Coordenador | F4: Mobilizador Social | H4: Técnico Ambiental | J4: Auxiliar Administrativo | L4: Encarregado | N4: Motorista | P4: Carpinteiro | R4: Ajudante
A5: Código
A6: Fonte
A7: Data Base
A8: Salário
A10: ENCARGOS
A11: 5 | B11: ENCARGOS SOCIAIS | D11: % | E11: R$ | F11: % | G11: R$ | H11: % | I11: R$ | J11: % | K11: R$ | L11: % | M11: R$ | N11: % | O11: R$ | P11: % | Q11: R$ | R11: % | S11: R$
A12: 5.1 | B12: GRUPO A - ENCARGOS SOCIAIS SOBRE A FOLHA DE PAGAMENTO | D12: =SUM(D13:D21) -> 0 | E12: =SUM(E13:E21) -> 0 | F12: =SUM(F13:F21) -> 0 | G12: =SUM(G13:G21) -> 0 | H12: =SUM(H13:H21) -> 0 | I12: =SUM(I13:I21) -> 0 | J12: =SUM(J13:J21) -> 0 | K12: =SUM(K13:K21) -> 0 | ... S12: =SUM(S13:S21) -> 0
A13: 5.1.1 | B13: Instituto Nacional de Securidade Social - INSS | D13: ='ENCARGOS SOCIAIS'!$C$5 -> 0 | E13: =ROUND((D13*$D$8),2) -> 0 | F13: ='ENCARGOS SOCIAIS'!$C$5 -> 0 | G13: =ROUND((F13*$F$8),2) -> 0 | H13: ='ENCARGOS SOCIAIS'!$C$5 -> 0 | I13: =ROUND((H13*$H$8),2) -> 0 | J13: ='ENCARGOS SOCIAIS'!$C$5 -> 0 | K13: =ROUND((J13*$J$8),2) -> 0 | L13: ='ENCARGOS SOCIAIS'!$C$5 -> 0 | M13: =ROUND((L13*$L$8),2) -> 0 | N13: ='ENCARGOS SOCIAIS'!$C$5 -> 0 | O13: =ROUND((N13*$N$8),2) -> 0 | P13: ='ENCARGOS SOCIAIS'!$C$5 -> 0 | Q13: =ROUND((P13*$P$8),2) -> 0 | R13: ='ENCARGOS SOCIAIS'!$C$5 -> 0 | S13: =ROUND((R13*$R$8),2) -> 0
A14: 5.1.2 | B14: Serviço Social da Indústria - SESI | D14: ='ENCARGOS SOCIAIS'!$C$6 -> 0 | E14: =ROUND((D14*$D$8),2) -> 0 | F14: ='ENCARGOS SOCIAIS'!$C$6 -> 0 | G14: =ROUND((F14*$F$8),2) -> 0 | H14: ='ENCARGOS SOCIAIS'!$C$6 -> 0 | I14: =ROUND((H14*$H$8),2) -> 0 | J14: ='ENCARGOS SOCIAIS'!$C$6 -> 0 | K14: =ROUND((J14*$J$8),2) -> 0 | L14: ='ENCARGOS SOCIAIS'!$C$6 -> 0 | M14: =ROUND((L14*$L$8),2) -> 0 | N14: ='ENCARGOS SOCIAIS'!$C$6 -> 0 | O14: =ROUND((N14*$N$8),2) -> 0 | P14: ='ENCARGOS SOCIAIS'!$C$6 -> 0 | Q14: =ROUND((P14*$P$8),2) -> 0 | R14: ='ENCARGOS SOCIAIS'!$C$6 -> 0 | S14: =ROUND((R14*$R$8),2) -> 0
A15: 5.1.3 | B15: Serviço Nacional de Aprendizagem Industrial - SENAI | D15: ='ENCARGOS SOCIAIS'!$C$7 -> 0 | E15: =ROUND((D15*$D$8),2) -> 0 | F15: ='ENCARGOS SOCIAIS'!$C$7 -> 0 | G15: =ROUND((F15*$F$8),2) -> 0 | H15: ='ENCARGOS SOCIAIS'!$C$7 -> 0 | I15: =ROUND((H15*$H$8),2) -> 0 | J15: ='ENCARGOS SOCIAIS'!$C$7 -> 0 | K15: =ROUND((J15*$J$8),2) -> 0 | L15: ='ENCARGOS SOCIAIS'!$C$7 -> 0 | M15: =ROUND((L15*$L$8),2) -> 0 | N15: ='ENCARGOS SOCIAIS'!$C$7 -> 0 | O15: =ROUND((N15*$N$8),2) -> 0 | P15: ='ENCARGOS SOCIAIS'!$C$7 -> 0 | Q15: =ROUND((P15*$P$8),2) -> 0 | R15: ='ENCARGOS SOCIAIS'!$C$7 -> 0 | S15: =ROUND((R15*$R$8),2) -> 0
A16: 5.1.4 | B16: Instituto Nacional de Colonização e Reforma Agrária - INCRA | D16: ='ENCARGOS SOCIAIS'!$C$8 -> 0 | E16: =ROUND((D16*$D$8),2) -> 0 | F16: ='ENCARGOS SOCIAIS'!$C$8 -> 0 | G16: =ROUND((F16*$F$8),2) -> 0 | H16: ='ENCARGOS SOCIAIS'!$C$8 -> 0 | I16: =ROUND((H16*$H$8),2) -> 0 | J16: ='ENCARGOS SOCIAIS'!$C$8 -> 0 | K16: =ROUND((J16*$J$8),2) -> 0 | L16: ='ENCARGOS SOCIAIS'!$C$8 -> 0 | M16: =ROUND((L16*$L$8),2) -> 0 | N16: ='ENCARGOS SOCIAIS'!$C$8 -> 0 | O16: =ROUND((N16*$N$8),2) -> 0 | P16: ='ENCARGOS SOCIAIS'!$C$8 -> 0 | Q16: =ROUND((P16*$P$8),2) -> 0 | R16: ='ENCARGOS SOCIAIS'!$C$8 -> 0 | S16: =ROUND((R16*$R$8),2) -> 0
A17: 5.1.5 | B17: Serviço de Apoio a Pequena e Média Empresa - SEBRAE | D17: ='ENCARGOS SOCIAIS'!$C$9 -> 0 | E17: =ROUND((D17*$D$8),2) -> 0 | F17: ='ENCARGOS SOCIAIS'!$C$9 -> 0 | G17: =ROUND((F17*$F$8),2) -> 0 | H17: ='ENCARGOS SOCIAIS'!$C$9 -> 0 | I17: =ROUND((H17*$H$8),2) -> 0 | J17: ='ENCARGOS SOCIAIS'!$C$9 -> 0 | K17: =ROUND((J17*$J$8),2) -> 0 | L17: ='ENCARGOS SOCIAIS'!$C$9 -> 0 | M17: =ROUND((L17*$L$8),2) -> 0 | N17: ='ENCARGOS SOCIAIS'!$C$9 -> 0 | O17: =ROUND((N17*$N$8),2) -> 0 | P17: ='ENCARGOS SOCIAIS'!$C$9 -> 0 | Q17: =ROUND((P17*$P$8),2) -> 0 | R17: ='ENCARGOS SOCIAIS'!$C$9 -> 0 | S17: =ROUND((R17*$R$8),2) -> 0
A18: 5.1.6 | B18: Salário Educação | D18: ='ENCARGOS SOCIAIS'!$C$10 -> 0 | E18: =ROUND((D18*$D$8),2) -> 0 | F18: ='ENCARGOS SOCIAIS'!$C$10 -> 0 | G18: =ROUND((F18*$F$8),2) -> 0 | H18: ='ENCARGOS SOCIAIS'!$C$10 -> 0 | I18: =ROUND((H18*$H$8),2) -> 0 | J18: ='ENCARGOS SOCIAIS'!$C$10 -> 0 | K18: =ROUND((J18*$J$8),2) -> 0 | L18: ='ENCARGOS SOCIAIS'!$C$10 -> 0 | M18: =ROUND((L18*$L$8),2) -> 0 | N18: ='ENCARGOS SOCIAIS'!$C$10 -> 0 | O18: =ROUND((N18*$N$8),2) -> 0 | P18: ='ENCARGOS SOCIAIS'!$C$10 -> 0 | Q18: =ROUND((P18*$P$8),2) -> 0 | R18: ='ENCARGOS SOCIAIS'!$C$10 -> 0 | S18: =ROUND((R18*$R$8),2) -> 0
A19: 5.1.7 | B19: Seguro contra os Riscos de Acidente de Trabalho | D19: ='ENCARGOS SOCIAIS'!$C$11 -> 0 | E19: =ROUND((D19*$D$8),2) -> 0 | F19: ='ENCARGOS SOCIAIS'!$C$11 -> 0 | G19: =ROUND((F19*$F$8),2) -> 0 | H19: ='ENCARGOS SOCIAIS'!$C$11 -> 0 | I19: =ROUND((H19*$H$8),2) -> 0 | J19: ='ENCARGOS SOCIAIS'!$C$11 -> 0 | K19: =ROUND((J19*$J$8),2) -> 0 | L19: ='ENCARGOS SOCIAIS'!$C$11 -> 0 | M19: =ROUND((L19*$L$8),2) -> 0 | N19: ='ENCARGOS SOCIAIS'!$C$11 -> 0 | O19: =ROUND((N19*$N$8),2) -> 0 | P19: ='ENCARGOS SOCIAIS'!$C$11 -> 0 | Q19: =ROUND((P19*$P$8),2) -> 0 | R19: ='ENCARGOS SOCIAIS'!$C$11 -> 0 | S19: =ROUND((R19*$R$8),2) -> 0
A20: 5.1.8 | B20: Fundo de Garantia por Tempo de Serviço - FGTS | D20: ='ENCARGOS SOCIAIS'!$C$12 -> 0 | E20: =ROUND((D20*$D$8),2) -> 0 | F20: ='ENCARGOS SOCIAIS'!$C$12 -> 0 | G20: =ROUND((F20*$F$8),2) -> 0 | H20: ='ENCARGOS SOCIAIS'!$C$12 -> 0 | I20: =ROUND((H20*$H$8),2) -> 0 | J20: ='ENCARGOS SOCIAIS'!$C$12 -> 0 | K20: =ROUND((J20*$J$8),2) -> 0 | L20: ='ENCARGOS SOCIAIS'!$C$12 -> 0 | M20: =ROUND((L20*$L$8),2) -> 0 | N20: ='ENCARGOS SOCIAIS'!$C$12 -> 0 | O20: =ROUND((N20*$N$8),2) -> 0 | P20: ='ENCARGOS SOCIAIS'!$C$12 -> 0 | Q20: =ROUND((P20*$P$8),2) -> 0 | R20: ='ENCARGOS SOCIAIS'!$C$12 -> 0 | S20: =ROUND((R20*$R$8),2) -> 0
A21: 5.1.9 | B21: Serviço Social da Construção Civil do Estado de Minas Gerais - SECONCI | D21: ='ENCARGOS SOCIAIS'!$C$13 -> 0 | E21: =ROUND((D21*$D$8),2) -> 0 | F21: ='ENCARGOS SOCIAIS'!$C$13 -> 0 | G21: =ROUND((F21*$F$8),2) -> 0 | H21: ='ENCARGOS SOCIAIS'!$C$13 -> 0 | I21: =ROUND((H21*$H$8),2) -> 0 | J21: ='ENCARGOS SOCIAIS'!$C$13 -> 0 | K21: =ROUND((J21*$J$8),2) -> 0 | L21: ='ENCARGOS SOCIAIS'!$C$13 -> 0 | M21: =ROUND((L21*$L$8),2) -> 0 | N21: ='ENCARGOS SOCIAIS'!$C$13 -> 0 | O21: =ROUND((N21*$N$8),2) -> 0 | P21: ='ENCARGOS SOCIAIS'!$C$13 -> 0 | Q21: =ROUND((P21*$P$8),2) -> 0 | R21: ='ENCARGOS SOCIAIS'!$C$13 -> 0 | S21: =ROUND((R21*$R$8),2) -> 0
A22: 5.2 | B22: GRUPO B | D22: =SUM(D23:D29) -> 0 | E22: =SUM(E23:E29) -> 0 | F22: =SUM(F23:F29) -> 0 | G22: =SUM(G23:G29) -> 0 | H22: =SUM(H23:H29) -> 0 | I22: =SUM(I23:I29) -> 0 | J22: =SUM(J23:J29) -> 0 | K22: =SUM(K23:K29) -> 0 | ... S22: =SUM(S23:S29) -> 0
A23: 5.2.1 | B23: Auxílio enfermidade | D23: ='ENCARGOS SOCIAIS'!$C$15 -> 0 | E23: =ROUND((D23*$D$8),2) -> 0 | F23: ='ENCARGOS SOCIAIS'!$C$15 -> 0 | G23: =ROUND((F23*$F$8),2) -> 0 | H23: ='ENCARGOS SOCIAIS'!$C$15 -> 0 | I23: =ROUND((H23*$H$8),2) -> 0 | J23: ='ENCARGOS SOCIAIS'!$C$15 -> 0 | K23: =ROUND((J23*$J$8),2) -> 0 | L23: ='ENCARGOS SOCIAIS'!$C$15 -> 0 | M23: =ROUND((L23*$L$8),2) -> 0 | N23: ='ENCARGOS SOCIAIS'!$C$15 -> 0 | O23: =ROUND((N23*$N$8),2) -> 0 | P23: ='ENCARGOS SOCIAIS'!$C$15 -> 0 | Q23: =ROUND((P23*$P$8),2) -> 0 | R23: ='ENCARGOS SOCIAIS'!$C$15 -> 0 | S23: =ROUND((R23*$R$8),2) -> 0
A24: 5.2.2 | B24: Décimo terceiro salário | D24: ='ENCARGOS SOCIAIS'!$C$16 -> 0 | E24: =ROUND((D24*$D$8),2) -> 0 | F24: ='ENCARGOS SOCIAIS'!$C$16 -> 0 | G24: =ROUND((F24*$F$8),2) -> 0 | H24: ='ENCARGOS SOCIAIS'!$C$16 -> 0 | I24: =ROUND((H24*$H$8),2) -> 0 | J24: ='ENCARGOS SOCIAIS'!$C$16 -> 0 | K24: =ROUND((J24*$J$8),2) -> 0 | L24: ='ENCARGOS SOCIAIS'!$C$16 -> 0 | M24: =ROUND((L24*$L$8),2) -> 0 | N24: ='ENCARGOS SOCIAIS'!$C$16 -> 0 | O24: =ROUND((N24*$N$8),2) -> 0 | P24: ='ENCARGOS SOCIAIS'!$C$16 -> 0 | Q24: =ROUND((P24*$P$8),2) -> 0 | R24: ='ENCARGOS SOCIAIS'!$C$16 -> 0 | S24: =ROUND((R24*$R$8),2) -> 0
A25: 5.2.3 | B25: Licença paternidade | D25: ='ENCARGOS SOCIAIS'!$C$17 -> 0 | E25: =ROUND((D25*$D$8),2) -> 0 | F25: ='ENCARGOS SOCIAIS'!$C$17 -> 0 | G25: =ROUND((F25*$F$8),2) -> 0 | H25: ='ENCARGOS SOCIAIS'!$C$17 -> 0 | I25: =ROUND((H25*$H$8),2) -> 0 | J25: ='ENCARGOS SOCIAIS'!$C$17 -> 0 | K25: =ROUND((J25*$J$8),2) -> 0 | L25: ='ENCARGOS SOCIAIS'!$C$17 -> 0 | M25: =ROUND((L25*$L$8),2) -> 0 | N25: ='ENCARGOS SOCIAIS'!$C$17 -> 0 | O25: =ROUND((N25*$N$8),2) -> 0 | P25: ='ENCARGOS SOCIAIS'!$C$17 -> 0 | Q25: =ROUND((P25*$P$8),2) -> 0 | R25: ='ENCARGOS SOCIAIS'!$C$17 -> 0 | S25: =ROUND((R25*$R$8),2) -> 0
A26: 5.2.4 | B26: Faltas justificadas | D26: ='ENCARGOS SOCIAIS'!$C$18 -> 0 | E26: =ROUND((D26*$D$8),2) -> 0 | F26: ='ENCARGOS SOCIAIS'!$C$18 -> 0 | G26: =ROUND((F26*$F$8),2) -> 0 | H26: ='ENCARGOS SOCIAIS'!$C$18 -> 0 | I26: =ROUND((H26*$H$8),2) -> 0 | J26: ='ENCARGOS SOCIAIS'!$C$18 -> 0 | K26: =ROUND((J26*$J$8),2) -> 0 | L26: ='ENCARGOS SOCIAIS'!$C$18 -> 0 | M26: =ROUND((L26*$L$8),2) -> 0 | N26: ='ENCARGOS SOCIAIS'!$C$18 -> 0 | O26: =ROUND((N26*$N$8),2) -> 0 | P26: ='ENCARGOS SOCIAIS'!$C$18 -> 0 | Q26: =ROUND((P26*$P$8),2) -> 0 | R26: ='ENCARGOS SOCIAIS'!$C$18 -> 0 | S26: =ROUND((R26*$R$8),2) -> 0
A27: 5.2.5 | B27: Auxílio acidente de trabalho | D27: ='ENCARGOS SOCIAIS'!$C$19 -> 0 | E27: =ROUND((D27*$D$8),2) -> 0 | F27: ='ENCARGOS SOCIAIS'!$C$19 -> 0 | G27: =ROUND((F27*$F$8),2) -> 0 | H27: ='ENCARGOS SOCIAIS'!$C$19 -> 0 | I27: =ROUND((H27*$H$8),2) -> 0 | J27: ='ENCARGOS SOCIAIS'!$C$19 -> 0 | K27: =ROUND((J27*$J$8),2) -> 0 | L27: ='ENCARGOS SOCIAIS'!$C$19 -> 0 | M27: =ROUND((L27*$L$8),2) -> 0 | N27: ='ENCARGOS SOCIAIS'!$C$19 -> 0 | O27: =ROUND((N27*$N$8),2) -> 0 | P27: ='ENCARGOS SOCIAIS'!$C$19 -> 0 | Q27: =ROUND((P27*$P$8),2) -> 0 | R27: ='ENCARGOS SOCIAIS'!$C$19 -> 0 | S27: =ROUND((R27*$R$8),2) -> 0
A28: 5.2.6 | B28: Férias gozadas | D28: ='ENCARGOS SOCIAIS'!$C$20 -> 0 | E28: =ROUND((D28*$D$8),2) -> 0 | F28: ='ENCARGOS SOCIAIS'!$C$20 -> 0 | G28: =ROUND((F28*$F$8),2) -> 0 | H28: ='ENCARGOS SOCIAIS'!$C$20 -> 0 | I28: =ROUND((H28*$H$8),2) -> 0 | J28: ='ENCARGOS SOCIAIS'!$C$20 -> 0 | K28: =ROUND((J28*$J$8),2) -> 0 | L28: ='ENCARGOS SOCIAIS'!$C$20 -> 0 | M28: =ROUND((L28*$L$8),2) -> 0 | N28: ='ENCARGOS SOCIAIS'!$C$20 -> 0 | O28: =ROUND((N28*$N$8),2) -> 0 | P28: ='ENCARGOS SOCIAIS'!$C$20 -> 0 | Q28: =ROUND((P28*$P$8),2) -> 0 | R28: ='ENCARGOS SOCIAIS'!$C$20 -> 0 | S28: =ROUND((R28*$R$8),2) -> 0
A29: 5.2.7 | B29: Salário Maternidade | D29: ='ENCARGOS SOCIAIS'!$C$21 -> 0 | E29: =ROUND((D29*$D$8),2) -> 0 | F29: ='ENCARGOS SOCIAIS'!$C$21 -> 0 | G29: =ROUND((F29*$F$8),2) -> 0 | H29: ='ENCARGOS SOCIAIS'!$C$21 -> 0 | I29: =ROUND((H29*$H$8),2) -> 0 | J29: ='ENCARGOS SOCIAIS'!$C$21 -> 0 | K29: =ROUND((J29*$J$8),2) -> 0 | L29: ='ENCARGOS SOCIAIS'!$C$21 -> 0 | M29: =ROUND((L29*$L$8),2) -> 0 | N29: ='ENCARGOS SOCIAIS'!$C$21 -> 0 | O29: =ROUND((N29*$N$8),2) -> 0 | P29: ='ENCARGOS SOCIAIS'!$C$21 -> 0 | Q29: =ROUND((P29*$P$8),2) -> 0 | R29: ='ENCARGOS SOCIAIS'!$C$21 -> 0 | S29: =ROUND((R29*$R$8),2) -> 0
A30: 5.3 | B30: GRUPO C - ENCARGOS DE DEMISSÃO | D30: =SUM(D31:D35) -> 0 | E30: =SUM(E31:E35) -> 0 | F30: =SUM(F31:F35) -> 0 | G30: =SUM(G31:G35) -> 0 | H30: =SUM(H31:H35) -> 0 | I30: =SUM(I31:I35) -> 0 | J30: =SUM(J31:J35) -> 0 | K30: =SUM(K31:K35) -> 0 | ... S30: =SUM(S31:S35) -> 0
A31: 5.3.1 | B31: Aviso prévio indenizado | D31: ='ENCARGOS SOCIAIS'!$C$23 -> 0 | E31: =ROUND((D31*$D$8),2) -> 0 | F31: ='ENCARGOS SOCIAIS'!$C$23 -> 0 | G31: =ROUND((F31*$F$8),2) -> 0 | H31: ='ENCARGOS SOCIAIS'!$C$23 -> 0 | I31: =ROUND((H31*$H$8),2) -> 0 | J31: ='ENCARGOS SOCIAIS'!$C$23 -> 0 | K31: =ROUND((J31*$J$8),2) -> 0 | L31: ='ENCARGOS SOCIAIS'!$C$23 -> 0 | M31: =ROUND((L31*$L$8),2) -> 0 | N31: ='ENCARGOS SOCIAIS'!$C$23 -> 0 | O31: =ROUND((N31*$N$8),2) -> 0 | P31: ='ENCARGOS SOCIAIS'!$C$23 -> 0 | Q31: =ROUND((P31*$P$8),2) -> 0 | R31: ='ENCARGOS SOCIAIS'!$C$23 -> 0 | S31: =ROUND((R31*$R$8),2) -> 0
A32: 5.3.2 | B32: Aviso prévio trabalhado | D32: ='ENCARGOS SOCIAIS'!$C$24 -> 0 | E32: =ROUND((D32*$D$8),2) -> 0 | F32: ='ENCARGOS SOCIAIS'!$C$24 -> 0 | G32: =ROUND((F32*$F$8),2) -> 0 | H32: ='ENCARGOS SOCIAIS'!$C$24 -> 0 | I32: =ROUND((H32*$D$8),2) -> 0 | J32: ='ENCARGOS SOCIAIS'!$C$24 -> 0 | K32: =ROUND((J32*$J$8),2) -> 0 | L32: ='ENCARGOS SOCIAIS'!$C$24 -> 0 | M32: =ROUND((L32*$L$8),2) -> 0 | N32: ='ENCARGOS SOCIAIS'!$C$24 -> 0 | O32: =ROUND((N32*$N$8),2) -> 0 | P32: ='ENCARGOS SOCIAIS'!$C$24 -> 0 | Q32: =ROUND((P32*$P$8),2) -> 0 | R32: ='ENCARGOS SOCIAIS'!$C$24 -> 0 | S32: =ROUND((R32*$R$8),2) -> 0
A33: 5.3.3 | B33: Férias indenizadas | D33: ='ENCARGOS SOCIAIS'!$C$25 -> 0 | E33: =ROUND((D33*$D$8),2) -> 0 | F33: ='ENCARGOS SOCIAIS'!$C$25 -> 0 | G33: =ROUND((F33*$F$8),2) -> 0 | H33: ='ENCARGOS SOCIAIS'!$C$25 -> 0 | I33: =ROUND((H33*$D$8),2) -> 0 | J33: ='ENCARGOS SOCIAIS'!$C$25 -> 0 | K33: =ROUND((J33*$J$8),2) -> 0 | L33: ='ENCARGOS SOCIAIS'!$C$25 -> 0 | M33: =ROUND((L33*$L$8),2) -> 0 | N33: ='ENCARGOS SOCIAIS'!$C$25 -> 0 | O33: =ROUND((N33*$N$8),2) -> 0 | P33: ='ENCARGOS SOCIAIS'!$C$25 -> 0 | Q33: =ROUND((P33*$P$8),2) -> 0 | R33: ='ENCARGOS SOCIAIS'!$C$25 -> 0 | S33: =ROUND((R33*$R$8),2) -> 0
A34: 5.3.4 | B34: Depósito rescisão sem justa causa | D34: ='ENCARGOS SOCIAIS'!$C$26 -> 0 | E34: =ROUND((D34*$D$8),2) -> 0 | F34: ='ENCARGOS SOCIAIS'!$C$26 -> 0 | G34: =ROUND((F34*$F$8),2) -> 0 | H34: ='ENCARGOS SOCIAIS'!$C$26 -> 0 | I34: =ROUND((H34*$D$8),2) -> 0 | J34: ='ENCARGOS SOCIAIS'!$C$26 -> 0 | K34: =ROUND((J34*$J$8),2) -> 0 | L34: ='ENCARGOS SOCIAIS'!$C$26 -> 0 | M34: =ROUND((L34*$L$8),2) -> 0 | N34: ='ENCARGOS SOCIAIS'!$C$26 -> 0 | O34: =ROUND((N34*$N$8),2) -> 0 | P34: ='ENCARGOS SOCIAIS'!$C$26 -> 0 | Q34: =ROUND((P34*$P$8),2) -> 0 | R34: ='ENCARGOS SOCIAIS'!$C$26 -> 0 | S34: =ROUND((R34*$R$8),2) -> 0
A35: 5.3.5 | B35: Indenização adicional | D35: ='ENCARGOS SOCIAIS'!$C$27 -> 0 | E35: =ROUND((D35*$D$8),2) -> 0 | F35: ='ENCARGOS SOCIAIS'!$C$27 -> 0 | G35: =ROUND((F35*$F$8),2) -> 0 | H35: ='ENCARGOS SOCIAIS'!$C$27 -> 0 | I35: =ROUND((H35*$D$8),2) -> 0 | J35: ='ENCARGOS SOCIAIS'!$C$27 -> 0 | K35: =ROUND((J35*$J$8),2) -> 0 | L35: ='ENCARGOS SOCIAIS'!$C$27 -> 0 | M35: =ROUND((L35*$L$8),2) -> 0 | N35: ='ENCARGOS SOCIAIS'!$C$27 -> 0 | O35: =ROUND((N35*$N$8),2) -> 0 | P35: ='ENCARGOS SOCIAIS'!$C$27 -> 0 | Q35: =ROUND((P35*$P$8),2) -> 0 | R35: ='ENCARGOS SOCIAIS'!$C$27 -> 0 | S35: =ROUND((R35*$R$8),2) -> 0
A36: 5.4 | B36: GRUPO D - REINCIDÊNCIAS | D36: =SUM(D37:D38) -> 0 | E36: =SUM(E37:E38) -> 0 | F36: =SUM(F37:F38) -> 0 | G36: =SUM(G37:G38) -> 0 | H36: =SUM(H37:H38) -> 0 | I36: =SUM(I37:I38) -> 0 | J36: =SUM(J37:J38) -> 0 | K36: =SUM(K37:K38) -> 0 | ... S36: =SUM(S37:S38) -> 0
A37: 5.4.1 | B37: Reincidência do Grupo A sobre o Grupo B | D37: ='ENCARGOS SOCIAIS'!$C$29 -> 0 | E37: =ROUND((D37*$D$8),2) -> 0 | F37: ='ENCARGOS SOCIAIS'!$C$29 -> 0 | G37: =ROUND((F37*$F$8),2) -> 0 | H37: ='ENCARGOS SOCIAIS'!$C$29 -> 0 | I37: =ROUND((H37*$H$8),2) -> 0 | J37: ='ENCARGOS SOCIAIS'!$C$29 -> 0 | K37: =ROUND((J37*$J$8),2) -> 0 | L37: ='ENCARGOS SOCIAIS'!$C$29 -> 0 | M37: =ROUND((L37*$L$8),2) -> 0 | N37: ='ENCARGOS SOCIAIS'!$C$29 -> 0 | O37: =ROUND((N37*$N$8),2) -> 0 | P37: ='ENCARGOS SOCIAIS'!$C$29 -> 0 | Q37: =ROUND((P37*$P$8),2) -> 0 | R37: ='ENCARGOS SOCIAIS'!$C$29 -> 0 | S37: =ROUND((R37*$R$8),2) -> 0
A38: 5.4.2 | B38: Reincidência do Grupo A sobre aviso prévio trabalhado e reincidência do FGTS sobre aviso prévio indenizado | D38: ='ENCARGOS SOCIAIS'!$C$30 -> 0 | E38: =ROUND((D38*$D$8),2) -> 0 | F38: ='ENCARGOS SOCIAIS'!$C$30 -> 0 | G38: =ROUND((F38*$F$8),2) -> 0 | H38: ='ENCARGOS SOCIAIS'!$C$30 -> 0 | I38: =ROUND((H38*$H$8),2) -> 0 | J38: ='ENCARGOS SOCIAIS'!$C$30 -> 0 | K38: =ROUND((J38*$J$8),2) -> 0 | L38: ='ENCARGOS SOCIAIS'!$C$30 -> 0 | M38: =ROUND((L38*$L$8),2) -> 0 | N38: ='ENCARGOS SOCIAIS'!$C$30 -> 0 | O38: =ROUND((N38*$N$8),2) -> 0 | P38: ='ENCARGOS SOCIAIS'!$C$30 -> 0 | Q38: =ROUND((P38*$P$8),2) -> 0 | R38: ='ENCARGOS SOCIAIS'!$C$30 -> 0 | S38: =ROUND((R38*$R$8),2) -> 0
A39: TOTAL DE ENCARGOS SOCIAIS | D39: =D36+D30+D22+D12 -> 0 | E39: =E36+E30+E22+E12 -> 0 | F39: =F36+F30+F22+F12 -> 0 | G39: =G36+G30+G22+G12 -> 0 | H39: =H36+H30+H22+H12 -> 0 | I39: =I36+I30+I22+I12 -> 0 | J39: =J36+J30+J22+J12 -> 0 | K39: =K36+K30+K22+K12 -> 0 | ... S39: =S36+S30+S22+S12 -> 0
A41: 6 | B41: ENCARGOS COMPLEMENTARES | D41: % | E41: R$ | F41: % | G41: R$ | H41: % | I41: R$ | J41: % | K41: R$ | L41: % | M41: R$ | N41: % | O41: R$ | P41: % | Q41: R$ | R41: % | S41: R$
A42: 6.1 | B42: Alimentação | D42: =E42/$D$8 -> #DIV/0! | E42: 0 | F42: =G42/$F$8 -> #DIV/0! | G42: 0 | H42: =I42/$H$8 -> #DIV/0! | I42: 0 | J42: =K42/$J$8 -> #DIV/0! | K42: 0 | L42: =M42/$L$8 -> #REF! | M42: =#REF! -> #REF! | N42: =O42/$N$8 -> #REF! | O42: =#REF! -> #REF! | P42: =Q42/$P$8 -> #REF! | Q42: =#REF! -> #REF! | R42: =S42/$R$8 -> #REF! | S42: =#REF! -> #REF!
A43: 6.2 | B43: Transportes - Vale transporte | D43: =E43/$D$8 -> #DIV/0! | E43: 0 | F43: =G43/$F$8 -> #DIV/0! | G43: 0 | H43: =I43/$H$8 -> #DIV/0! | I43: 0 | J43: =K43/$J$8 -> #DIV/0! | K43: 0 | L43: =M43/$L$8 -> #REF! | M43: =#REF! -> #REF! | N43: =O43/$N$8 -> #REF! | O43: =#REF! -> #REF! | P43: =Q43/$P$8 -> #REF! | Q43: =#REF! -> #REF! | R43: =S43/$R$8 -> #REF! | S43: =#REF! -> #REF!
...

Sheet ENCARGOS SOCIAIS
A1: PAINEL 4 - ENCARGOS SOCIAIS
A3: GRUPO | B3: DEFINIÇÕES | C3: %
B4: GRUPO A - ENCARGOS SOCIAIS SOBRE A FOLHA DE PAGAMENTO | C4: =SUM(C5:C13) -> 0
A5: A1 | B5: Instituto Nacional de Securidade Social - INSS
A6: A2 | B6: Serviço Social da Indústria - SESI
A7: A3 | B7: SERVIÇO Nacional de Aprendizagem Industrial - SENAI
A8: A4 | B8: Instituto Nacional de Colonização e Reforma Agrária - INCRA
A9: A5 | B9: Serviço de Apoio a Pequena e Média Empresa - SEBRAE
A10: A6 | B10: Salário Educação
A11: A7 | B11: Seguro contra os Riscos de Acidente de Trabalho
A12: A8 | B12: Fundo de Garantia por Tempo de Serviço - FGTS
A13: A9 | B13: Serviço Social da Construção Civil do Estado de Minas Gerais - SECONCI
B14: GRUPO B | C14: =SUM(C15:C21) -> 0
A15: B3 | B15: Auxílio enfermidade
A16: B4 | B16: Décimo terceiro salário
A17: B5 | B17: Licença paternidade
A18: B6 | B18: Faltas justificadas
A19: B8 | B19: Auxílio acidente de trabalho
A20: B9 | B20: Férias gozadas
A21: B10 | B21: Salário Maternidade
B22: GRUPO C - ENCARGOS DE DEMISSÃO | C22: =SUM(C23:C27) -> 0
A23: C1 | B23: Aviso prévio indenizado
A24: C2 | B24: Aviso prévio trabalhado
A25: C3 | B25: Férias indenizadas
A26: C4 | B26: Depósito rescisão sem justa causa
A27: C5 | B27: Indenização adicional
B28: GRUPO D - REINCIDÊNCIAS | C28: =SUM(C29:C30) -> 0
A29: D1 | B29: Reincidência do Grupo A sobre o Grupo B
A30: D2 | B30: Reincidência do Grupo A sobre Aviso Prévio Trabalhado e Reincidência do FGTS sobre Aviso Prévio Indenizado
A31: ENCARGOS SOCIAIS TOTAIS | C31: =C4+C14+C22+C28 -> 0

Sheet DESPESAS DIVERSAS I
A1: PAINEL 5 - DESPESAS DIVERSAS I
A4: COMPOSIÇÃO DO VALOR FINAL DOS EQUIPAMENTOS *
A5: Equipamento | B5: Caminhonete 4x4 Cabine Dupla | C5: Caminhão Toco com Cabine Suplementar | D5: Perfurador de Solos
A6: Valor
A7: Fator K4 | B7: ='FATOR K'!K19 -> 1 | C7: ='FATOR K'!K19 -> 1 | D7: ='FATOR K'!K19 -> 1
A8: VALOR ADOTADO | B8: =B6*B7 -> 0 | C8: =C6*C7 -> 0 | D8: =D6*D7 -> 0

Sheet DESPESAS DIVERSAS I (2)
A1: PAINEL 9 - DESPESAS DIVERSAS I
A3: COMPOSIÇÃO DE EQUIPAMENTOS
A4: Equipamento | B4: Caminhonete 4x4 Cabine Dupla | C4: Caminhão Toco com Cabine Suplementar | D4: Caminhão Toco com Cabine Suplementar equipado com Guindauto | E4: Compactador de Solos
A5: Item | B5: 2.1 | C5: 2.2 | D5: 2.3 | E5: 2.4
A6: Subitem 1 | B6: Caminhonete com motor a diesel, potencia 160 CV, cabine dupla, 4x4 | C6: Caminhão toco peso bruto total 13200 kg, carga útil máxima 9.200 kg, distância entre eixos 3,31m, potência 175 CV (inclui cabine e chassi, não inclui carroceria) | D6: Caminhão toco peso bruto total 13200 kg, carga útil máxima 9.200 kg, distância entre eixos 3,31m, potência 175 CV (inclui cabine e chassi, não inclui carroceria) | E6: Compactador de solo a percussão (soquete), a gasolina 4 tempos, peso 55 a 65 kg, força de impacto 1.000 a 1.500 kgf, freq. 600 a 700 golpes por minuto, velocidade de trabalho de 10 a 15 m/min, pot. De 2 a 3 HP.
A7: Fonte | B7: SINAPI | C7: SINAPI | D7: SINAPI | E7: SINAPI
A8: Código | B8: 1159 | C8: 44057 | D8: 44057 | E8: 11281
A9: Data Base | B9: 45597 | C9: 45597 | D9: 45597 | E9: 45597
A10: Valor | B10: 269408.33 | C10: 481947.5 | D10: =C10 -> 481947.5 | E10: =9200 -> 9200
A11: Subitem 2 | B11: - | C11: Carroceria fixa aberta de madeira para transporte geral de carga seca dimensões aproximadas 2,25 x 4,10 x 0,50 m (inclui montagem, não inclui caminhão) | D11: Carroceria fixa aberta de madeira para transporte geral de carga seca dimensões aproximadas 2,25 x 4,10 x 0,50 m (inclui montagem, não inclui caminhão)
A12: Fonte | B12: - | C12: SINAPI | D12: SINAPI
A13: Código | B13: - | C13: 37727 | D13: 37727
A14: Data Base | B14: - | C14: 45597 | D14: 45323
A15: Valor | B15: - | C15: 19900 | D15: =C15 -> 19900
A16: Subitem 3 | B16: - | C16: Cabine para transporte de passageiros (06 lugares) | D16: Cabine para transporte de passageiros, em alumínio com isolamento em isopor, 1000x2000x1600mm
A17: Fonte | B17: - | C17: Cotação de mercado | D17: COPASA
A18: Código | B18: - | C18: - | D18: 35001189
A19: Data Base | B19: - | C19: 45261 | D19: 45261
A20: Valor | B20: - | C20: 27478.39 | D20: =C20 -> 27478.39
A21: Subitem 4 | B21: - | D21: Guindauto hidraulico, capacidade maxima de carga 8500 kg, momento maximo de carga 30,4 tm , alcance maximo horizontal 14,30 m, para montagem sobre chassi de caminhao pbt minimo 23000 kg (inclui montagem, nao inclui caminhao)
A22: Fonte | B22: - | D22: SINAPI
A23: Código | B23: - | D23: 3363
A24: Data Base | B24: - | D24: 45597
A25: Valor | B25: - | D25: 144875
A26: VALOR TOTAL | B26: =SUM(B10,B15,B20,B25) -> 269408.33 | C26: =SUM(C10,C15,C20,C25) -> 529325.89 | D26: =SUM(D10,D15,D20,D25) -> 674200.89 | E26: =SUM(E10,E15,E20,E25) -> 9200
A28: SIMULAÇÃO DE INVESTIMENTO PARA AQUISIÇÃO DO EQUIPAMENTO (FINANCIAMENTO TABELA PRICE*)
A29: Equipamento | B29: =B4 -> Caminhonete 4x4 Cabine Dupla | C29: =C4 -> Caminhão Toco com Cabine Suplementar | D29: =D4 -> Caminhão Toco com Cabine Suplementar equipado com Guindauto | E29: =E4 -> Compactador de Solos
A30: Situação | B30: Nova | C30: Nova | D30: Nova | E30: Nova
A31: Custo | B31: =B26 -> 269408.33 | C31: =C26 -> 529325.89 | D31: =D26 -> 674200.89 | E31: =E26 -> 9200
A32: Parcelas | B32: 60 | C32: 60 | D32: 60 | E32: 60
A33: Taxa de Juros | B33: 0.01 | C33: 0.01 | D33: 0.01 | E33: 0.01
A34: Projeção Anual | B34: =B35*12 -> 71914.08 | C34: =C35*12 -> 141294.72 | D34: =D35*12 -> 179966.76 | E34: =E35*12 -> 2455.8
A35: VALOR MENSAL | B35: =-ROUND((PMT(B33,B32,B31)),2) -> 5992.84 | C35: =-ROUND((PMT(C33,C32,C31)),2) -> 11774.56 | D35: =-ROUND((PMT(D33,D32,D31)),2) -> 14997.23 | E35: =-ROUND((PMT(E33,E32,E31)),2) -> 204.65
A36: *www.calculador.com.br/calculo/financiamento-price
A38: COMPOSIÇÃO CONSIDERANDO CARGA HORÁRIA PRODUTIVA E IMPRODUTIVA - SINAPI
A39: MEMÓRIA DE CÁLCULO DOS PARÂMETROS*
A40: Depreciação | C40: (Valor de aquisição - Valor residual) ÷ (Vida útil * Horas trabalhadas por ano * 1,25)
A41: Juros | C41: (Valor médio * Taxa de juros anuais) ÷ (Horas trabalhadas por ano * 1,25) | Valor médio = (Vida útil + 1) * Valor de aquisição ÷ (2 * Vida útil) | Taxa de juros anuais = 3,1501%
A42: Impostos e Seguros | C42: (Vida útil + 1) * Valor de aquisição * Taxa média adotada ÷ (2 * Vida útil * Horas trabalhadas por ano * 1,25) | Taxa média adotada = 0,025
A43: Manutenção | C43: (Valor de aquisição * Coeficiente de manutenção) / (Horas trabalhadas por ano * vida útil em anos)
...

Sheet DESPESAS DIVERSAS II
A1: PAINEL 6 - DESPESAS DIVERSAS II
A4: VALOR MENSAL PREVISTO DE COMBUSTÍVEL
A5: Tipo de combustível | C5: Óleo Diesel S10 | F5: Óleo Diesel S500 | I5: Gasolina
A6: Código
A7: Fonte
A8: Data Base
A9: Valor mensal previsto
A10: Fator K4
A11: VALOR ADOTADO | C11: =C10*C9 -> 0 | F11: =F10*F9 -> 0 | I11: =I10*I9 -> 0
A13: VALOR DA HORA MÁQUINA DE RETROESCAVADEIRA E TRATOR
A14: Descrição | C14: Locação de Retroescavadeira | F14: Localção de trator
A15: Código
A16: Fonte
A17: Data Base
A18: Valor Unitário (h)
A19: Fator K4
A20: VALOR ADOTADO | C20: =C18*C19 -> 0 | F20: =F18*F19 -> 0
A22: VALOR PARA IMPRESSÃO PRETO E BRANCO
A23: Código
A24: Fonte
A25: Data Base
A26: valor unitário
A27: Fator K4
A28: VALOR ADOTADO | C28: =C26*C27 -> 0
A30: VALOR DAS DIÁRIAS E REFEIÇÕES DA EQUIPE
A31: Descrição | C31: Diárias | F31: Refeições
A32: Código
A33: Fonte
A34: Data Base
A35: Valor Unitário
A36: Fator K4
A37: VALOR ADOTADO | C37: =C35*C36 -> 0 | F37: =F35*F36 -> 0

Sheet SERVIÇOS TÉCNICOS
A1: PAINEL 7 - SERVIÇOS TÉCNICOS
A3: DEFINIÇÃO DO VALOR ADOTADO PARA OS SERVIÇOS TÉCNICOS
A4: ITEM | B4: CÓDIGO | C4: FONTE | D4: DATA BASE | E4: DESCRIÇÃO | F4: VALOR UNITÁRIO | G4: FATOR K3 | H4: VALOR FINAL
A5: 3.1 | E5: Técnico em Geoprocessamento | G5: ='FATOR K'!K18 -> 1 | H5: =ROUND((F5*G5),2) -> 0
A6: 4.1 | E6: Alocação de equipe básica de topografia, limitada a 7 (sete) dias | G6: ='FATOR K'!K18 -> 1 | H6: =ROUND((F6*G6),2) -> 0
A7: 5.1 | E7: Execução de Filmagem com Drone | G7: ='FATOR K'!K18 -> 1 | H7: =ROUND((F7*G7),2) -> 0

Sheet FATOR K
A1: PAINEL 8 - CÁLCULO DO K DO PROJETO
A3: DETALHAMENTO DO FATOR K
A4: ES1 - Encargos Sociais
A5: ES2 - Encargos Complementares*
A6: ES - Encargos Sociais + Encargos Complementares | K6: =K4+K5 -> 0
A7: ESA - Equipe Temporária
A8: ARDF - Administração, Risco e Despesas Financeiras
A9: L - Lucro
A10: DFL - Despesas Fiscais e Legais | DFL=(PIS+COFINS+ISS)÷(1-PIS+COFINS+ISS) | K10: =J11/(1-J11) -> 0
A11: PIS + COFINS + ISS
A12: PIS
A13: COFINS
A14: ISS
A16: K1 | B16: MÃO DE OBRA - EQUIPE PERMANENTE | C16: K1 = [(1+ES+ARDF)*(1+L)*(1+DFL)] | K16: =(1+K6+K8)*(1+K9)*(1+K10) -> 1
A17: K2 | B17: MÃO DE OBRA - EQUIPE TEMPORÁRIA | C17: K2 = [(1+ESA+ARDF)*(1+L)*(1+DFL)] | K17: =ROUND(((1+K7+K8)*(1+K9)*(1+K10)),2) -> 1
A18: K3 | B18: SERVIÇOS TÉCNICOS E DE APOIO | C18: K3 = [(1+ARDF)*(1+L)*(1+DFL)] | K18: =ROUND(((1+K8)*(1+K9)*(1+K10)),2) -> 1
A19: K4 | B19: DESPESAS DIRETAS | C19: K4 = (1+L)*(1+DFL) | K19: =ROUND(((1+K9)*(1+K10)),2) -> 1
A20: *Os encargos complementares e, consequentemente, o FATOR K1 serão definidos de maneira específica para cada profissional da equipe.
A22: QUADRO COMPARATIVO DA COMPOSIÇÃO DO BDI E FATOR K
A24: TIPO DE OBRA DO EMPREENDIMENTO | J24: DESONERAÇÃO
A25: CONSTRUÇÃO DE REDES DE ABASTECIMENTO DE ÁGUA, COLETA DE ESGOTO E CONSTRUÇÕES CORRELATAS | J25: NÃO
A26: Conforme legislação tributária municipal, definir estimativa de percentual da base de cálculo para o ISS: | J26: 1
A27: Sobre a base de cálculo, definir a respectiva alíquota do ISS (entre 2% e 5%): | J27: 0.05
A29: ITENS | E29: SIGLAS | F29: % ADOTADO | G29: % MODIFICADO | H29: SITUAÇÃO | I29: INTERVALO DE ADMISSIBILIDADE
I30: 1º Quartil | J30: Médio | K30: 3º Quartil
A31: Administração Central | E31: AC | F31: 0.0425 | G31: 0.0425 | H31: - | I31: 0.0343 | J31: 0.0493 | K31: 0.0671
A32: Seguro e Garantia | E32: SG | F32: 0.0075 | G32: 0.0049 | H32: - | I32: 0.0028 | J32: 0.0049 | K32: 0.0075
A33: Risco | E33: R | F33: 0.0174 | G33: 0.0139 | H33: - | I33: 0.01 | J33: 0.0139 | K33: 0.0174
A34: Despesas Financeiras | E34: DF | F34: 0.0117 | G34: 0.0099 | H34: - | I34: 0.0094 | J34: 0.0099 | K34: 0.0117
A35: Lucro | E35: L | F35: 0.0696 | G35: 0.077 | H35: - | I35: 0.0674 | J35: 0.0804 | K35: 0.094
A36: Tributos (impostos COFINS 3%, e PIS 0,65%) | E36: CP | F36: 0.0365 | G36: 0.0365 | H36: - | I36: 0.0365 | J36: 0.0365 | K36: 0.0365
A37: Tributos (ISS, variável de acordo com o município) | E37: ISS | F37: =J27 -> 0.05 | G37: =J27*J26 -> 0.05 | H37: - | I37: 0 | J37: 0.025 | K37: 0.05
A38: Tributos (Contribuição Previdenciária - 0% ou 4,5%, conforme Lei 12.844/2013 - Desoneração) | E38: CPRB | F38: 0.045 | G38: 0.045 | H38: =IF(AND(G38>=I38, G38<=K38), "OK", "Não OK") -> OK | I38: 0 | J38: 0.045 | K38: 0.045
A39: BDI SEM desoneração (Fórmula Acórdão TCU) | E39: BDI PAD | F39: =ROUND((((1+F31+F32+F33)*(1+F34)*(1+F35)/(1-(F36+F37)))-1),4) -> 0.2644 | G39: =ROUND((((1+G31+G32+G33)*(1+G34)*(1+G35)/(1-(G36+G37)))-1),4) -> 0.2636 | H39: =IF(OR(AND(G39>=I39, G39<=K39)), "OK", "NÃO OK") -> OK | I39: 0.2076 | J39: 0.2418 | K39: 0.2644
A40: BDI COM desoneração | E40: BDI DES | F40: =ROUND((((1+F31+F32+F33)*(1+F34)*(1+F35)/(1-(F36+F37+F38)))-1),4) -> 0.3299 | G40: =ROUND((((1+G31+G32+G33)*(1+G34)*(1+G35)/(1-(G36+G37+G38)))-1),4) -> 0.3291 | H40: =H39 -> OK
J41: ARDF | K41: =SUM(J31:J34) -> 0.078
A43: Os valores de referência foram retirados da publicação Orientações para Elaboração de Planilhas Orçamentárias de Obras Públicas, do TCU. Os valores de BDI foram calculados com o emprego da fórmula:
E44: =IF(J25="Sim","BDI.DES =","BDI.PAD =") -> BDI.PAD = | F44: (1+AC + S + R + G)*(1 + DF)*(1+L) | H44: -1
F45: (1-CP-ISS-CRPB)

Sheet REFERÊNCIAS
A1: PAINEL9 - REFERÊNCIAS
A3: DNIT: RELATÓRIO DE CONSOLIDAÇÃO DOS CUSTOS DE MÃO DE OBRA Tabela 1 - Consolidação dos custos de mão de obra - Tabela de Preços de Consultoria - mês de referência: janeiro de 2025.
A5: SINAPI: Preços de Insumos: Sistema Nacional de Pesquisa de Custos e Índices da Construção Civil / Caixa Econômica Federal. Abril/2025.
A7: DNIT: SISTEMA DE CUSTOS REFERENCIAIS DE OBRAS - Caderno Técnico Parâmetros de Equipamentos - SICRO. Janeiro/2025.
A9: SINAPI: Cálculos e Parâmetros/ 7° EDIÇÃO/ CAIXA. Junho/2025.
A11: DNIT: SISTEMA DE CUSTOS REFERENCIAIS DE OBRAS -Relatório Sintético de Mão de Obra - SICRO. Janeiro/2025.
A13: AGÊNCIA NACIONAL DO PETRÓLEO, GÁS NATURAL E BIOCOMBUSTÍVEIS - ANP: Levantamento de Preços de Combustíveis - 25/05/25 a 31/05/2025. 2025.
A15: TCU, Acórdão nº 1787, de 06 de julho de 2011. Levantamento de auditoria. FISCOBRAS 2011. barragem Congonhas/MG. Elaboração do plano de controle ambiental.
A17: TCU - BRASIL, Tribunal de Contas da União. Orientações para elaboração de planilhas orçamentárias de obras públicas / Tribunal de Contas da União, Coordenação-Geral de Controle Externo da Área de Infraestrutura e da Região Sudeste. Brasília, 2012.
A19: SINAPI: Metodologias e Conceitos: Sistema Nacional de Pesquisa de Custos e Índices da Construção Civil / Caixa Econômica Federal. – 9ª Ed. – Brasília: CAIXA, 2023.
A20: SINAPI: Referências para Custos Horários e Encargos: Sistema Nacional de Pesquisa de Custos e Índices da Construção Civil / Caixa Econômica Federal. – 7ª Ed. – Brasília: CAIXA, 2025.
A22: ANA, Portaria nº 363, de 2 de fevereiro de 2021, que estabelece cálculos padronizados para consultoria da Agência Nacional de Águas e Saneamento Básico - ANA e dá outras providências.
... A28: SINAPI: Cadernos Técnicos de Composições para Transporte, Carga e Descarga de Materiais: Sistema Nacional de Pesquisa de Custos e Índices da Construção Civil / Caixa Econômica Federal. Junho de 2023.
