Workbook

Sheet CAPA
B20: PLANILHA ORÇAMENTÁRIA
B24: CONTRATAÇÃO DE PESSOA JURÍDICA ESPECIALIZADA NA PRESTAÇÃO DE SERVIÇOS DE ASSESSORIA NA IMPLEMENTAÇÃO DO SUBPROGRAMA 11.1 - PLANEJAMENTO E IMPLEMENTAÇÃO DE AÇÕES DE CAPACITAÇÃO E EDUCAÇÃO AMBIENTAL NO TERRITÓRIO DA BACIA HIDROGRÁFICA DO RIO DOCE
B26: Referência: Ato Convocatório nº 08/2025
B28: Processo: 4.201.04.155225.0363.2025
B32: EMPRESA: XXXXXXX - CNPJ XXXXXXX
B38: Governador Valadares, MG, xxx de 202x.

Sheet COMPOSIÇÃO DE CUSTOS - LOTE 3_
A1: PAINEL 2 - COMPOSIÇÃO DE CUSTOS | LOTE 2 CH DO2 PIRACICABA
A3: CUSTOS FIXOS POR EQUIPE
A4: ITEM | B4: CÓDIGO | C4: FONTE | D4: DATA BASE | E4: DESCRIÇÃO | F4: CUSTO MENSAL | G4: UN. | H4: QUANT. | I4: CUSTO TOTAL | J4: PESO (%)
A5: 1 | B5: EQUIPE PERMANENTE | F5: Com K1 | I5: =SUM(I6:I17) -> #REF! | J5: =SUM(J6:J17) -> #REF!
A6: 1.1 | C6: ='EQUIPE PERMANENTE'!#REF! -> #REF! | E6: Coordenador | F6: ='EQUIPE PERMANENTE'!#REF!/6 -> #REF! | G6: Mês | H6: 15 | I6: =H6*F6 -> #REF! | J6: =I6/$I$25 -> #REF!
A7: 1.2 | B7: ='EQUIPE PERMANENTE'!G5 -> 0 | C7: ='EQUIPE PERMANENTE'!G6 -> 0 | D7: ='EQUIPE PERMANENTE'!G7 -> 0 | E7: Mobizador Social | F7: ='EQUIPE PERMANENTE'!G64/6 -> #DIV/0! | G7: Mês | H7: 15 | I7: =H7*F7 -> #DIV/0! | J7: =I7/$I$25 -> #DIV/0!
A8: 1.3 | B8: ='EQUIPE PERMANENTE'!#REF! -> #REF! | C8: ='EQUIPE PERMANENTE'!G6 -> 0 | D8: ='EQUIPE PERMANENTE'!#REF! -> #REF! | E8: Técnico Ambiental | F8: ='EQUIPE PERMANENTE'!#REF!/6 -> #REF! | G8: Mês | H8: 15 | I8: =H8*F8 -> #REF! | J8: =I8/$I$25 -> #REF!
A9: 1.4 | B9: ='EQUIPE PERMANENTE'!#REF! -> #REF! | C9: ='EQUIPE PERMANENTE'!#REF! -> #REF! | D9: ='EQUIPE PERMANENTE'!#REF! -> #REF! | E9: Auxiliar Administrativo | F9: ='EQUIPE PERMANENTE'!#REF!/6 -> #REF! | G9: Mês | H9: 15 | I9: =H9*F9 -> #REF! | J9: =I9/$I$25 -> #REF!
A10: 1.5 | B10: ='EQUIPE PERMANENTE'!#REF! -> #REF! | C10: ='EQUIPE PERMANENTE'!#REF! -> #REF! | D10: ='EQUIPE PERMANENTE'!#REF! -> #REF! | E10: Encarregado Operacional | F10: ='EQUIPE PERMANENTE'!#REF! -> #REF! | G10: Mês | H10: 12 | I10: =H10*F10 -> #REF! | J10: =I10/$I$25 -> #REF!
A11: 1.6 | B11: ='EQUIPE PERMANENTE'!I5 -> P8112 | C11: ='EQUIPE PERMANENTE'!I6 -> DNIT | D11: ='EQUIPE PERMANENTE'!I7 -> 45658 | E11: Motorista | F11: ='EQUIPE PERMANENTE'!I64 -> #REF! | G11: Mês | H11: 12 | I11: =H11*F11 -> #REF! | J11: =I11/$I$25 -> #REF!
A12: 1.8 | B12: ='EQUIPE PERMANENTE'!K5 -> P9808 | C12: ='EQUIPE PERMANENTE'!K6 -> DNIT | D12: ='EQUIPE PERMANENTE'!K7 -> 45658 | E12: Carpinteiro | F12: ='EQUIPE PERMANENTE'!K64 -> #REF! | G12: Mês | H12: 12 | I12: =H12*F12 -> #REF! | J12: =I12/$I$25 -> #REF!
A13: 1.8 | B13: ='EQUIPE PERMANENTE'!K5 -> P9808 | C13: ='EQUIPE PERMANENTE'!K6 -> DNIT | D13: ='EQUIPE PERMANENTE'!K7 -> 45658 | E13: Carpinteiro | F13: ='EQUIPE PERMANENTE'!K64 -> #REF! | G13: Mês | H13: 12 | I13: =H13*F13 -> #REF! | J13: =I13/$I$25 -> #REF!
A14: 1.9 | B14: ='EQUIPE PERMANENTE'!M5 -> P9801 | C14: ='EQUIPE PERMANENTE'!M6 -> DNIT | D14: ='EQUIPE PERMANENTE'!M7 -> 45658 | E14: Ajudante | F14: ='EQUIPE PERMANENTE'!M64 -> #REF! | G14: Mês | H14: 12 | I14: =H14*F14 -> #REF! | J14: =I14/$I$25 -> #REF!
A15: 1.9 | B15: ='EQUIPE PERMANENTE'!M5 -> P9801 | C15: ='EQUIPE PERMANENTE'!M6 -> DNIT | D15: ='EQUIPE PERMANENTE'!M7 -> 45658 | E15: Ajudante | F15: ='EQUIPE PERMANENTE'!M64 -> #REF! | G15: Mês | H15: 12 | I15: =H15*F15 -> #REF! | J15: =I15/$I$25 -> #REF!
A16: 1.9 | B16: ='EQUIPE PERMANENTE'!M5 -> P9801 | C16: ='EQUIPE PERMANENTE'!M6 -> DNIT | D16: ='EQUIPE PERMANENTE'!M7 -> 45658 | E16: Ajudante | F16: ='EQUIPE PERMANENTE'!M64 -> #REF! | G16: Mês | H16: 12 | I16: =H16*F16 -> #REF! | J16: =I16/$I$25 -> #REF!
A17: 1.9 | B17: ='EQUIPE PERMANENTE'!M5 -> P9801 | C17: ='EQUIPE PERMANENTE'!M6 -> DNIT | D17: ='EQUIPE PERMANENTE'!M7 -> 45658 | E17: Ajudante | F17: ='EQUIPE PERMANENTE'!M64 -> #REF! | G17: Mês | H17: 12 | I17: =H17*F17 -> #REF! | J17: =I17/$I$25 -> #REF!
A18: 2 | B18: DESPESAS DIVERSAS | F18: Com K4 | I18: =SUM(I19:I23) -> #REF! | J18: =SUM(J19:J23) -> #REF!
A19: 2.1 | B19: =#REF! -> #REF! | C19: =#REF! -> #REF! | D19: =#REF! -> #REF! | E19: Caminhonete 4x4 cabine dupla | F19: =#REF!/6 -> #REF! | G19: Mês | H19: 15 | I19: =H19*F19 -> #REF! | J19: =I19/$I$25 -> #REF!
A20: 2.2 | B20: =#REF! -> #REF! | C20: =#REF! -> #REF! | D20: =#REF! -> #REF! | E20: Caminhão toco com cabine suplementar | F20: =#REF! -> #REF! | G20: Mês | H20: 12 | I20: =H20*F20 -> #REF! | J20: =I20/$I$25 -> #REF!
A21: 2.4 | B21: =#REF! -> #REF! | C21: =#REF! -> #REF! | D21: =#REF! -> #REF! | E21: Compactador de solos | F21: =#REF! -> #REF! | G21: Mês | H21: 12 | I21: =H21*F21 -> #REF! | J21: =I21/$I$25 -> #REF!
A22: 2.5 | B22: - | C22: COMPOSIÇÃO | D22: 45383 | E22: Óleo Diesel S10 | F22: =#REF!/6 -> #REF! | G22: Mês | H22: 15 | I22: =H22*F22 -> #REF! | J22: =I22/$I$25 -> #REF!
A23: 2.6 | B23: - | C23: COMPOSIÇÃO | D23: 45383 | E23: Óleo Diesel S500 | F23: =#REF! -> #REF! | G23: Mês | H23: 12 | I23: =H23*F23 -> #REF! | J23: =I23/$I$25 -> #REF!
A25: CUSTO FIXO TOTAL POR EQUIPE | I25: =I5+I18 -> #REF! | J25: =I25/I25 -> #REF!
A26: NÚMERO DE EQUIPES | I26: 4 | J26: -
A27: CUSTO FIXO TOTAL | I27: =I25*I26 -> #REF! | J27: -
A29: CUSTOS VARIÁVEIS POR EQUIPE
A30: ITEM | B30: CÓDIGO | C30: ÓRGÃO | D30: DATA BASE | E30: DESCRIÇÃO | F30: CUSTO UNITÁRIO | G30: UN. | H30: QUANT. | I30: CUSTO TOTAL | J30: PESO (%)
A31: 3 | B31: SERVIÇOS TÉCNICOS | F31: Com K3 | I31: =SUM(I32:I34) -> #REF! | J31: =SUM(J32:J34) -> #REF!
A32: 3.1 | B32: =#REF! -> #REF! | C32: =#REF! -> #REF! | D32: =#REF! -> #REF! | E32: Técnico em Geoprocessamento | F32: =#REF! -> #REF! | G32: hora | H32: 960 | I32: =H32*F32 -> #REF! | J32: =I32/$I$41 -> #REF!
A33: 3.2 | B33: =#REF! -> #REF! | C33: =#REF! -> #REF! | D33: =#REF! -> #REF! | E33: Alocação de equipe de topografia básica (inclui equipe composta por um engenheiro e auxiliar de topografia; equipamentos: estação total, rádio comunicador e equipamentos complementares; mobilização e desmobilização; hospedagem e alimentação) | F33: =#REF! -> #REF! | G33: diária | H33: 7 | I33: =H33*F33 -> #REF! | J33: =I33/$I$41 -> #REF!
A34: 3.3 | B34: =#REF! -> #REF! | C34: =#REF! -> #REF! | D34: =#REF! -> #REF! | E34: Execução de Filmagem com Drone | F34: =#REF! -> #REF! | G34: diária | H34: 12 | I34: =H34*F34 -> #REF! | J34: =I34/$I$41 -> #REF!
A35: 4 | B35: DESPESAS DIVERSAS | F35: Com K4 | I35: =SUM(I36:I39) -> #REF! | J35: =SUM(J36:J39) -> #REF!
A36: 4.2 | B36: 5678 | C36: SINAPI | D36: 45323 | E36: Locação de Trator | F36: =#REF! -> #REF! | G36: hora | H36: =#REF! -> #REF! | I36: =F36*H36 -> #REF! | J36: =I36/$I$41 -> #REF!
A37: 4.3 | B37: - | C37: COMPOSIÇÃO | D37: 45383 | E37: Impressão preto e branco | F37: =#REF! -> #REF! | G37: unidade | H37: 3750 | I37: =F37*H37 -> #REF! | J37: =I37/$I$41 -> #REF!
A38: 4.4 | B38: - | C38: =#REF! -> #REF! | D38: 45383 | E38: Diárias | F38: =#REF! -> #REF! | G38: unidade | H38: =#REF! -> #REF! | I38: =F38*H38 -> #REF! | J38: =I38/$I$41 -> #REF!
A39: 4.5 | B39: - | C39: =#REF! -> #REF! | D39: 45383 | E39: Refeições | F39: =#REF! -> #REF! | G39: unidade | H39: =#REF! -> #REF! | I39: =F39*H39 -> #REF! | J39: =I39/$I$41 -> #REF!
A41: CUSTO VARIÁVEL TOTAL POR EQUIPE | I41: =I35+I31 -> #REF! | J41: =I41/I41 -> #REF!
A42: NÚMERO DE EQUIPES | I42: 4 | J42: -
A43: CUSTO VARIÁVEL TOTAL | I43: =I42*I41 -> #REF! | J43: -
A45: CUSTO TOTAL DO PROJETO | I45: =I43+I27 -> #REF! | J45: -

Sheet CRON LOTE 3_
A1: PAINEL 3 - CRONOGRAMA FÍSICO-FINANCEIRO | LOTE 2 CH DO2 PIRACICABA
A3: ETAPA | B3: ATIVIDADE | C3: ETAPA A | F3: ETAPA B
C4: MÊS 1 | D4: MÊS 2 | F4: MÊS 3 | G4: MÊS 4 | H4: MÊS 5 | I4: MÊS 6 | J4: MÊS 7
A5: A | B5: Emissão da OS
B6: Recomposição das UGPs
B7: Planejamento | C7: P1 | D7: P1
A8: B | B8: Emissão da OS**
B9: Mobilização Social | I9: P2
B10: Execução das Intervenções | F10: P3 | G10: P3 | H10: P3 | I10: P3 | J10: P3
A11: C | B11: Fiscalização
A12: CUSTOS FIXOS | B12: MENSAL | C12: =('COMPOSIÇÃO DE CUSTOS - LOTE 3_'!F6+'COMPOSIÇÃO DE CUSTOS - LOTE 3_'!F7+'COMPOSIÇÃO DE CUSTOS - LOTE 3_'!F8+'COMPOSIÇÃO DE CUSTOS - LOTE 3_'!F9+'COMPOSIÇÃO DE CUSTOS - LOTE 3_'!F19+'COMPOSIÇÃO DE CUSTOS - LOTE 3_'!F22)*6 -> #REF! | D12: =('COMPOSIÇÃO DE CUSTOS - LOTE 3_'!F6+'COMPOSIÇÃO DE CUSTOS - LOTE 3_'!F7+'COMPOSIÇÃO DE CUSTOS - LOTE 3_'!F8+'COMPOSIÇÃO DE CUSTOS - LOTE 3_'!F9+'COMPOSIÇÃO DE CUSTOS - LOTE 3_'!F19+'COMPOSIÇÃO DE CUSTOS - LOTE 3_'!F22)*6 -> #REF! | F12: =('COMPOSIÇÃO DE CUSTOS - LOTE 3_'!F6+'COMPOSIÇÃO DE CUSTOS - LOTE 3_'!F7+'COMPOSIÇÃO DE CUSTOS - LOTE 3_'!F8+'COMPOSIÇÃO DE CUSTOS - LOTE 3_'!F9+'COMPOSIÇÃO DE CUSTOS - LOTE 3_'!F19+'COMPOSIÇÃO DE CUSTOS - LOTE 3_'!F22)*6 -> #REF! | G12: =SUM('COMPOSIÇÃO DE CUSTOS - LOTE 3_'!F6:F17,'COMPOSIÇÃO DE CUSTOS - LOTE 3_'!F19:F23)*6 -> #REF! | H12: =SUM('COMPOSIÇÃO DE CUSTOS - LOTE 3_'!F6:F17,'COMPOSIÇÃO DE CUSTOS - LOTE 3_'!F19:F23)*6 -> #REF! | I12: =SUM('COMPOSIÇÃO DE CUSTOS - LOTE 3_'!F6:F17,'COMPOSIÇÃO DE CUSTOS - LOTE 3_'!F19:F23)*6 -> #REF! | J12: =SUM('COMPOSIÇÃO DE CUSTOS - LOTE 3_'!F6:F17,'COMPOSIÇÃO DE CUSTOS - LOTE 3_'!F19:F23)*6 -> #REF!
B13: % em relação ao total | C13: =C12/$J$44 -> #REF! | D13: =D12/$J$44 -> #REF! | F13: =F12/$J$44 -> #REF! | G13: =G12/$J$44 -> #REF! | H13: =H12/$J$44 -> #REF! | I13: =I12/$J$44 -> #REF! | J13: =J12/$J$44 -> #REF!
B14: ACUMULADO | C14: =C12 -> #REF! | D14: =D12+C14 -> #REF! | F14: =F12+D14 -> #REF! | G14: =G12+F14 -> #REF! | H14: =H12+G14 -> #REF! | I14: =I12+H14 -> #REF! | J14: =J12+I14 -> #REF!
B15: % acumulado | C15: =C13 -> #REF! | D15: =D13+C15 -> #REF! | F15: =F13+D15 -> #REF! | G15: =G13+F15 -> #REF! | H15: =H13+G15 -> #REF! | I15: =I13+H15 -> #REF! | J15: =J13+I15 -> #REF!
A16: CUSTOS VARIÁVEIS* | B16: MENSAL | C16: 0 | D16: 0 | F16: 0 | G16: ='COMPOSIÇÃO DE CUSTOS - LOTE 3_'!I43/12 -> #REF! | H16: ='COMPOSIÇÃO DE CUSTOS - LOTE 3_'!I43/12 -> #REF! | I16: ='COMPOSIÇÃO DE CUSTOS - LOTE 3_'!I43/12 -> #REF! | J16: ='COMPOSIÇÃO DE CUSTOS - LOTE 3_'!I43/12 -> #REF!
B17: % em relação ao total | C17: =C16/$J$44 -> #REF! | D17: =D16/$J$44 -> #REF! | F17: =F16/$J$44 -> #REF! | G17: =G16/$J$44 -> #REF! | H17: =H16/$J$44 -> #REF! | I17: =I16/$J$44 -> #REF! | J17: =J16/$J$44 -> #REF!
B18: ACUMULADO | C18: =C16 -> 0 | D18: =D16+C18 -> 0 | F18: =F16+D18 -> 0 | G18: =G16+F18 -> #REF! | H18: =H16+G18 -> #REF! | I18: =I16+H18 -> #REF! | J18: =J16+I18 -> #REF!
B19: % acumulado | C19: =C17 -> #REF! | D19: =D17+C19 -> #REF! | F19: =F17+D19 -> #REF! | G19: =G17+F19 -> #REF! | H19: =H17+G19 -> #REF! | I19: =I17+H19 -> #REF! | J19: =J17+I19 -> #REF!
A20: TOTAL | B20: MENSAL | C20: =C12+C16 -> #REF! | D20: =D12+D16 -> #REF! | F20: =F12+F16 -> #REF! | G20: =G12+G16 -> #REF! | H20: =H12+H16 -> #REF! | I20: =I12+I16 -> #REF! | J20: =J12+J16 -> #REF!
B21: % em relação ao total | C21: =C20/$J$44 -> #REF! | D21: =D20/$J$44 -> #REF! | F21: =F20/$J$44 -> #REF! | G21: =G20/$J$44 -> #REF! | H21: =H20/$J$44 -> #REF! | I21: =I20/$J$44 -> #REF! | J21: =J20/$J$44 -> #REF!
B22: ACUMULADO | C22: =C20 -> #REF! | D22: =D20+C22 -> #REF! | F22: =F20+D22 -> #REF! | G22: =G20+F22 -> #REF! | H22: =H20+G22 -> #REF! | I22: =I20+H22 -> #REF! | J22: =J20+I22 -> #REF!
B23: % acumulado | C23: =C22/$J$44 -> #REF! | D23: =D21+C23 -> #REF! | F23: =F21+D23 -> #REF! | G23: =G21+F23 -> #REF! | H23: =H21+G23 -> #REF! | I23: =I21+H23 -> #REF! | J23: =J21+I23 -> #REF!
A25: ETAPA | B25: ATIVIDADE | C25: ETAPA B
C26: MÊS 8 | D26: MÊS 9 | E26: MÊS 10 | F26: MÊS 11 | G26: MÊS 12 | H26: MÊS 13 | I26: MÊS 14 | J26: MÊS 15
A27: A | B27: Emissão da OS
B28: Recomposição das UGPs
B29: Planejamento | C29: P1 Ajustado | I29: P1 Ajustado
A30: B | B30: Emissão da OS**
B31: Mobilização Social | D31: P2 | G31: P2 | J31: P2
B32: Execução das Intervenções | C32: P3 | D32: P3 | E32: P3 | F32: P3 | G32: P3 | H32: P3 | I32: P3 | J32: P3
A33: C | B33: Fiscalização
A34: CUSTOS FIXOS | B34: MENSAL | C34: =SUM('COMPOSIÇÃO DE CUSTOS - LOTE 3_'!F6:F17,'COMPOSIÇÃO DE CUSTOS - LOTE 3_'!F19:F23)*6 -> #REF! | D34: =SUM('COMPOSIÇÃO DE CUSTOS - LOTE 3_'!F6:F17,'COMPOSIÇÃO DE CUSTOS - LOTE 3_'!F19:F23)*6 -> #REF! | E34: =SUM('COMPOSIÇÃO DE CUSTOS - LOTE 3_'!F6:F17,'COMPOSIÇÃO DE CUSTOS - LOTE 3_'!F19:F23)*6 -> #REF! | F34: =SUM('COMPOSIÇÃO DE CUSTOS - LOTE 3_'!F6:F17,'COMPOSIÇÃO DE CUSTOS - LOTE 3_'!F19:F23)*6 -> #REF! | G34: =SUM('COMPOSIÇÃO DE CUSTOS - LOTE 3_'!F6:F17,'COMPOSIÇÃO DE CUSTOS - LOTE 3_'!F19:F23)*6 -> #REF! | H34: =SUM('COMPOSIÇÃO DE CUSTOS - LOTE 3_'!F6:F17,'COMPOSIÇÃO DE CUSTOS - LOTE 3_'!F19:F23)*6 -> #REF! | I34: =SUM('COMPOSIÇÃO DE CUSTOS - LOTE 3_'!F6:F17,'COMPOSIÇÃO DE CUSTOS - LOTE 3_'!F19:F23)*6 -> #REF! | J34: =SUM('COMPOSIÇÃO DE CUSTOS - LOTE 3_'!F6:F17,'COMPOSIÇÃO DE CUSTOS - LOTE 3_'!F19:F23)*6 -> #REF!
B35: % em relação ao total | C35: =C34/$J$44 -> #REF! | D35: =D34/$J$44 -> #REF! | E35: =E34/$J$44 -> #REF! | F35: =F34/$J$44 -> #REF! | G35: =G34/$J$44 -> #REF! | H35: =H34/$J$44 -> #REF! | I35: =I34/$J$44 -> #REF! | J35: =J34/$J$44 -> #REF!
B36: ACUMULADO | C36: =J14+C34 -> #REF! | D36: =D34+C36 -> #REF! | E36: =E34+D36 -> #REF! | F36: =F34+E36 -> #REF! | G36: =G34+F36 -> #REF! | H36: =H34+G36 -> #REF! | I36: =I34+H36 -> #REF! | J36: =J34+I36 -> #REF!
B37: % acumulado | C37: =J15+C35 -> #REF! | D37: =D35+C37 -> #REF! | E37: =E35+D37 -> #REF! | F37: =F35+E37 -> #REF! | G37: =G35+F37 -> #REF! | H37: =H35+G37 -> #REF! | I37: =I35+H37 -> #REF! | J37: =J35+I37 -> #REF!
A38: CUSTOS VARIÁVEIS* | B38: MENSAL | C38: ='COMPOSIÇÃO DE CUSTOS - LOTE 3_'!I43/12 -> #REF! | D38: ='COMPOSIÇÃO DE CUSTOS - LOTE 3_'!I43/12 -> #REF! | E38: ='COMPOSIÇÃO DE CUSTOS - LOTE 3_'!I43/12 -> #REF! | F38: ='COMPOSIÇÃO DE CUSTOS - LOTE 3_'!I43/12 -> #REF! | G38: ='COMPOSIÇÃO DE CUSTOS - LOTE 3_'!I43/12 -> #REF! | H38: ='COMPOSIÇÃO DE CUSTOS - LOTE 3_'!I43/12 -> #REF! | I38: ='COMPOSIÇÃO DE CUSTOS - LOTE 3_'!I43/12 -> #REF! | J38: ='COMPOSIÇÃO DE CUSTOS - LOTE 3_'!I43/12 -> #REF!
B39: % em relação ao total | C39: =C38/$J$44 -> #REF! | D39: =D38/$J$44 -> #REF! | E39: =E38/$J$44 -> #REF! | F39: =F38/$J$44 -> #REF! | G39: =G38/$J$44 -> #REF! | H39: =H38/$J$44 -> #REF! | I39: =I38/$J$44 -> #REF! | J39: =J38/$J$44 -> #REF!
B40: ACUMULADO | C40: =J18+C38 -> #REF! | D40: =D38+C40 -> #REF! | E40: =E38+D40 -> #REF! | F40: =F38+E40 -> #REF! | G40: =G38+F40 -> #REF! | H40: =H38+G40 -> #REF! | I40: =I38+H40 -> #REF! | J40: =J38+I40 -> #REF!
B41: % acumulado | C41: =J19+C39 -> #REF! | D41: =D39+C41 -> #REF! | E41: =E39+D41 -> #REF! | F41: =F39+E41 -> #REF! | G41: =G39+F41 -> #REF! | H41: =H39+G41 -> #REF! | I41: =I39+H41 -> #REF! | J41: =J39+I41 -> #REF!
A42: TOTAL | B42: MENSAL | C42: =C34+C38 -> #REF! | D42: =D34+D38 -> #REF! | E42: =E34+E38 -> #REF! | F42: =F34+F38 -> #REF! | G42: =G34+G38 -> #REF! | H42: =H34+H38 -> #REF! | I42: =I34+I38 -> #REF! | J42: =J34+J38 -> #REF!
...

Sheet COMPOSIÇÃO DE CUSTOS 
A1: COMPOSIÇÃO DE CUSTOS
A3: CUSTOS FIXOS
A4: ITEM | B4: CÓDIGO | C4: FONTE | D4: DATA BASE | E4: DESCRIÇÃO | G4: CUSTO MENSAL | H4: UN. | I4: QUANT. | J4: CUSTO TOTAL | K4: PESO (%)
A5: 1 | B5: EQUIPE PERMANENTE | G5: Com K1 | J5: =SUM(J6:J7) -> #DIV/0! | K5: =SUM(K6:K7) -> #DIV/0!
A6: 1.1 | E6: Coordenador | G6: =('EQUIPE PERMANENTE'!D64)/2 -> #DIV/0! | H6: Mês | I6: 12 | J6: =I6*G6 -> #DIV/0! | K6: =J6/$J$8 -> #DIV/0!
A7: 1.2 | E7: Assessor de Educação Ambiental | G7: =('EQUIPE PERMANENTE'!G64) -> #DIV/0! | H7: Mês | I7: 12 | J7: =I7*G7 -> #DIV/0! | K7: =J7/$J$8 -> #DIV/0!
A8: CUSTO FIXO TOTAL POR EQUIPE | J8: =J5 -> #DIV/0! | K8: =J8/J8 -> #DIV/0!
A9: NÚMERO DE EQUIPES | J9: 1 | K9: -
A10: CUSTO FIXO TOTAL | J10: =J8*J9 -> #DIV/0! | K10: -
A12: CUSTOS VARIÁVEIS
A13: ITEM | B13: CÓDIGO | C13: FONTE | D13: DATA BASE | E13: DESCRIÇÃO | F13: CUSTO UNITÁRIO | G13: CUSTO UNITÁRIO | H13: UN. | I13: QUANT. | J13: CUSTO TOTAL | K13: PESO (%)
A14: 1 | B14: DESPESAS DIVERSAS | G14: Com K4 | J14: =SUM(J15:J18) -> 0 | K14: =SUM(K15:K18) -> #DIV/0!
A15: 1.1 | E15: Diárias | G15: =F15*'FATOR K'!$K$21 -> 0 | H15: unidade | I15: 144 | J15: =G15*I15 -> 0 | K15: =J15/$J$20 -> #DIV/0!
A16: 1.2 | E16: Refeições | G16: =F16*'FATOR K'!$K$21 -> 0 | H16: unidade | I16: 288 | J16: =G16*I16 -> 0 | K16: =J16/$J$20 -> #DIV/0!
A17: 2.1 | E17: Veículo leve picape 4 x 4 com capacidade de 1,10 t - 147 kW | G17: =F17*'FATOR K'!$K$21 -> 0 | H17: Mês | I17: 12 | J17: =I17*G17 -> 0 | K17: =J17/$J$20 -> #DIV/0!
A18: 2.2 | E18: Óleo Diesel S10 | G18: =F18*'FATOR K'!$K$21 -> 0 | H18: Mês | I18: 12 | J18: =I18*G18 -> 0 | K18: =J18/$J$20 -> #DIV/0!
A20: CUSTO VARIÁVEL TOTAL POR EQUIPE | J20: =J14 -> 0 | K20: =J20/J20 -> #DIV/0!
A21: NÚMERO DE EQUIPES | J21: 1 | K21: -
A22: CUSTO VARIÁVEL TOTAL | J22: =J21*J20 -> 0 | K22: -
A24: CUSTO TOTAL DO PROJETO | J24: =J22+J10 -> #DIV/0! | K24: -
A26: Carga Horária do Coordenador - 20 horas
A27: Carga Horária do Assessor de Educação Ambiental - 40 horas

Sheet CRONOGRAMA
A1: CRONOGRAMA FÍSICO-FINANCEIRO
A3: ETAPA | B3: ATIVIDADE | C3: Período
C4: MÊS 1 | D4: MÊS 2 | E4: MÊS 3 | F4: MÊS 4 | G4: MÊS 5 | H4: MÊS 6 | I4: MÊS 7 | J4: MÊS 8 | K4: MÊS 9 | L4: MÊS 10 | M4: MÊS 11 | N4: MÊS 12 | O4: MÊS 13
A5: A | B5: Emissão da OS | O5: Encerramento do Contrato
B6: P1 -Plano de Trabalho | C6: P1
A7: B | B7: P2 - Diagnóstico | D7: P2
B8: P3 - Relatório Mensal 2 | E8: P3
B9: P4 - Relatório Mensal 3 | F9: P4
B10: P5 - Relatório Mensal 4 | G10: P5
B11: P6 - Relatório Mensal 5 | H11: P6
B12: P7 - Relatório Mensal 6 | I12: P7
B13: P8 - Relatório Mensal 7 | J13: P8
B14: P9 - Relatório Mensal 8 | K14: P9
B15: P10 - Relatório Mensal 9 | L15: P10
B16: P113 - Relatório Mensal 10 | M16: P11
B17: P12 - Relatório Mensal 11 | N17: P12
B18: P13 - Relatório Final | N18: P13
A19: CUSTOS FIXOS | B19: MENSAL | C19: =('COMPOSIÇÃO DE CUSTOS '!$J$10)/12 -> #DIV/0! | D19: =('COMPOSIÇÃO DE CUSTOS '!$J$10)/12 -> #DIV/0! | E19: =('COMPOSIÇÃO DE CUSTOS '!$J$10)/12 -> #DIV/0! | F19: =('COMPOSIÇÃO DE CUSTOS '!$J$10)/12 -> #DIV/0! | G19: =('COMPOSIÇÃO DE CUSTOS '!$J$10)/12 -> #DIV/0! | H19: =('COMPOSIÇÃO DE CUSTOS '!$J$10)/12 -> #DIV/0! | I19: =('COMPOSIÇÃO DE CUSTOS '!$J$10)/12 -> #DIV/0! | J19: =('COMPOSIÇÃO DE CUSTOS '!$J$10)/12 -> #DIV/0! | ... N19: =('COMPOSIÇÃO DE CUSTOS '!$J$10)/12 -> #DIV/0!
B20: % em relação ao total | C20: =C19/$N$21 -> #DIV/0! | D20: =D19/$N$21 -> #DIV/0! | E20: =E19/$N$21 -> #DIV/0! | F20: =F19/$N$21 -> #DIV/0! | G20: =G19/$N$21 -> #DIV/0! | H20: =H19/$N$21 -> #DIV/0! | I20: =I19/$N$21 -> #DIV/0! | J20: =J19/$N$21 -> #DIV/0! | ... N20: =N19/$N$21 -> #DIV/0!
B21: ACUMULADO | C21: =C19 -> #DIV/0! | D21: =D19+C21 -> #DIV/0! | E21: =E19+D21 -> #DIV/0! | F21: =F19+E21 -> #DIV/0! | G21: =G19+F21 -> #DIV/0! | H21: =H19+G21 -> #DIV/0! | I21: =I19+H21 -> #DIV/0! | J21: =J19+I21 -> #DIV/0! | K21: =K19+J21 -> #DIV/0! | ... N21: =N19+M21 -> #DIV/0!
B22: % acumulado | C22: =C20 -> #DIV/0! | D22: =D20+C22 -> #DIV/0! | E22: =E20+D22 -> #DIV/0! | F22: =F20+E22 -> #DIV/0! | G22: =G20+F22 -> #DIV/0! | H22: =H20+G22 -> #DIV/0! | I22: =I20+H22 -> #DIV/0! | J22: =J20+I22 -> #DIV/0! | K22: =K20+J22 -> #DIV/0! | ... N22: =N20+M22 -> #DIV/0!
A23: CUSTOS VARIÁVEIS* | B23: MENSAL | C23: ='COMPOSIÇÃO DE CUSTOS '!$J$14/12 -> 0 | D23: ='COMPOSIÇÃO DE CUSTOS '!$J$14/12 -> 0 | E23: ='COMPOSIÇÃO DE CUSTOS '!$J$14/12 -> 0 | F23: ='COMPOSIÇÃO DE CUSTOS '!$J$14/12 -> 0 | G23: ='COMPOSIÇÃO DE CUSTOS '!$J$14/12 -> 0 | H23: ='COMPOSIÇÃO DE CUSTOS '!$J$14/12 -> 0 | I23: ='COMPOSIÇÃO DE CUSTOS '!$J$14/12 -> 0 | J23: ='COMPOSIÇÃO DE CUSTOS '!$J$14/12 -> 0 | ... N23: ='COMPOSIÇÃO DE CUSTOS '!$J$14/12 -> 0
B24: % em relação ao total | C24: =C23/$N$25 -> #DIV/0! | D24: =D23/$N$25 -> #DIV/0! | E24: =E23/$N$25 -> #DIV/0! | F24: =F23/$N$25 -> #DIV/0! | G24: =G23/$N$25 -> #DIV/0! | H24: =H23/$N$25 -> #DIV/0! | I24: =I23/$N$25 -> #DIV/0! | J24: =J23/$N$25 -> #DIV/0! | ... N24: =N23/$N$25 -> #DIV/0!
B25: ACUMULADO | C25: =C23 -> 0 | D25: =D23+C25 -> 0 | E25: =E23+D25 -> 0 | F25: =F23+E25 -> 0 | G25: =G23+F25 -> 0 | H25: =H23+G25 -> 0 | I25: =I23+H25 -> 0 | J25: =J23+I25 -> 0 | K25: =K23+J25 -> 0 | ... N25: =N23+M25 -> 0
B26: % acumulado | C26: =C24 -> #DIV/0! | D26: =D24+C26 -> #DIV/0! | E26: =E24+D26 -> #DIV/0! | F26: =F24+E26 -> #DIV/0! | G26: =G24+F26 -> #DIV/0! | H26: =H24+G26 -> #DIV/0! | I26: =I24+H26 -> #DIV/0! | J26: =J24+I26 -> #DIV/0! | K26: =K24+J26 -> #DIV/0! | ... N26: =N24+M26 -> #DIV/0!
A27: TOTAL | B27: MENSAL | C27: =C19+C23 -> #DIV/0! | D27: =D19+D23 -> #DIV/0! | E27: =E19+E23 -> #DIV/0! | F27: =F19+F23 -> #DIV/0! | G27: =G19+G23 -> #DIV/0! | H27: =H19+H23 -> #DIV/0! | I27: =I19+I23 -> #DIV/0! | J27: =J19+J23 -> #DIV/0! | ... N27: =N19+N23 -> #DIV/0!
B28: % em relação ao total | C28: =C27/$N$29 -> #DIV/0! | D28: =D27/$N$29 -> #DIV/0! | E28: =E27/$N$29 -> #DIV/0! | F28: =F27/$N$29 -> #DIV/0! | G28: =G27/$N$29 -> #DIV/0! | H28: =H27/$N$29 -> #DIV/0! | I28: =I27/$N$29 -> #DIV/0! | J28: =J27/$N$29 -> #DIV/0! | ... N28: =N27/$N$29 -> #DIV/0!
B29: ACUMULADO | C29: =C27 -> #DIV/0! | D29: =D27+C29 -> #DIV/0! | E29: =E27+D29 -> #DIV/0! | F29: =F27+E29 -> #DIV/0! | G29: =G27+F29 -> #DIV/0! | H29: =H27+G29 -> #DIV/0! | I29: =I27+H29 -> #DIV/0! | J29: =J27+I29 -> #DIV/0! | K29: =K27+J29 -> #DIV/0! | ... N29: =N27+M29 -> #DIV/0!
B30: % acumulado | C30: =C28 -> #DIV/0! | D30: =D28+C30 -> #DIV/0! | E30: =E28+D30 -> #DIV/0! | F30: =F28+E30 -> #DIV/0! | G30: =G28+F30 -> #DIV/0! | H30: =H28+G30 -> #DIV/0! | I30: =I28+H30 -> #DIV/0! | J30: =J28+I30 -> #DIV/0! | K30: =K28+J30 -> #DIV/0! | ... N30: =N28+M30 -> #DIV/0!
A32: *O uso dos custos variáveis deverá ser previamente solicitado pela CONTRATADA e autorizado pela AGEDOCE. Desse modo, durante o projeto, o desembolso desses custos poderá ser alterado.
A33: *Os pagamentos referentes aos produtos contratados serão realizados somente após a devida aprovação do respectivo Produto pelo Gestor do Contrato, mediante verificação do cumprimento integral das especificações técnicas, prazos e demais condições estabelecidas no Termo de Referência e no Contrato.

Sheet EQUIPE PERMANENTE
A1: EQUIPE PERMANENTE
A3: Item | D3: 1.1 | G3: 1.2 | I3: 1.6 | K3: 1.7 | M3: 1.8
A4: Profissional | D4: Coordenador | G4: Assessor | I4: Motorista | K4: Carpinteiro | M4: Ajudante
A5: Código | I5: P8112 | K5: P9808 | M5: P9801
A6: Fonte | I6: DNIT | K6: DNIT | M6: DNIT
A7: Data Base | I7: 45658 | K7: 45658 | M7: 45658
A8: Salário | I8: 2427.21 | K8: =9.5288*220 -> 2096.336 | M8: =7.9666*220 -> 1752.652
A10: ENCARGOS
A11: 5 | B11: ENCARGOS SOCIAIS | D11: % | E11: R$ | G11: % | H11: R$ | I11: % | J11: R$ | K11: % | L11: R$ | M11: % | N11: R$
A12: 5.1 | B12: GRUPO A - ENCARGOS SOCIAIS SOBRE A FOLHA DE PAGAMENTO | D12: =SUM(D13:D21) -> 0 | E12: =SUM(E13:E21) -> 0 | G12: =SUM(G13:G21) -> 0 | H12: =SUM(H13:H21) -> 0 | I12: =SUM(I13:I21) -> 0 | J12: =SUM(J13:J21) -> 0 | K12: =SUM(K13:K21) -> 0 | L12: =SUM(L13:L21) -> 0 | M12: =SUM(M13:M21) -> 0 | N12: =SUM(N13:N21) -> 0
A13: 5.1.1 | B13: Instituto Nacional de Securidade Social - INSS | D13: ='ENCARGOS SOCIAIS'!C5 -> 0 | E13: =ROUND((D13*$D$8),2) -> 0 | G13: ='ENCARGOS SOCIAIS'!$C$5 -> 0 | H13: =ROUND((G13*$G$8),2) -> 0 | I13: ='ENCARGOS SOCIAIS'!$C$5 -> 0 | J13: =ROUND((I13*$I$8),2) -> 0 | K13: ='ENCARGOS SOCIAIS'!$C$5 -> 0 | L13: =ROUND((K13*$K$8),2) -> 0 | M13: ='ENCARGOS SOCIAIS'!$C$5 -> 0 | N13: =ROUND((M13*$M$8),2) -> 0
A14: 5.1.2 | B14: Serviço Social da Indústria - SESI | D14: ='ENCARGOS SOCIAIS'!C6 -> 0 | E14: =ROUND((D14*$D$8),2) -> 0 | G14: ='ENCARGOS SOCIAIS'!$C$6 -> 0 | H14: =ROUND((G14*$G$8),2) -> 0 | I14: ='ENCARGOS SOCIAIS'!$C$6 -> 0 | J14: =ROUND((I14*$I$8),2) -> 0 | K14: ='ENCARGOS SOCIAIS'!$C$6 -> 0 | L14: =ROUND((K14*$K$8),2) -> 0 | M14: ='ENCARGOS SOCIAIS'!$C$6 -> 0 | N14: =ROUND((M14*$M$8),2) -> 0
A15: 5.1.3 | B15: Serviço Nacional de Aprendizagem Industrial - SENAI | D15: ='ENCARGOS SOCIAIS'!C7 -> 0 | E15: =ROUND((D15*$D$8),2) -> 0 | G15: ='ENCARGOS SOCIAIS'!$C$7 -> 0 | H15: =ROUND((G15*$G$8),2) -> 0 | I15: ='ENCARGOS SOCIAIS'!$C$7 -> 0 | J15: =ROUND((I15*$I$8),2) -> 0 | K15: ='ENCARGOS SOCIAIS'!$C$7 -> 0 | L15: =ROUND((K15*$K$8),2) -> 0 | M15: ='ENCARGOS SOCIAIS'!$C$7 -> 0 | N15: =ROUND((M15*$M$8),2) -> 0
A16: 5.1.4 | B16: Instituto Nacional de Colonização e Reforma Agrária - INCRA | D16: ='ENCARGOS SOCIAIS'!C8 -> 0 | E16: =ROUND((D16*$D$8),2) -> 0 | G16: ='ENCARGOS SOCIAIS'!$C$8 -> 0 | H16: =ROUND((G16*$G$8),2) -> 0 | I16: ='ENCARGOS SOCIAIS'!$C$8 -> 0 | J16: =ROUND((I16*$I$8),2) -> 0 | K16: ='ENCARGOS SOCIAIS'!$C$8 -> 0 | L16: =ROUND((K16*$K$8),2) -> 0 | M16: ='ENCARGOS SOCIAIS'!$C$8 -> 0 | N16: =ROUND((M16*$M$8),2) -> 0
A17: 5.1.5 | B17: Serviço de Apoio a Pequena e Média Empresa - SEBRAE | D17: ='ENCARGOS SOCIAIS'!C9 -> 0 | E17: =ROUND((D17*$D$8),2) -> 0 | G17: ='ENCARGOS SOCIAIS'!$C$9 -> 0 | H17: =ROUND((G17*$G$8),2) -> 0 | I17: ='ENCARGOS SOCIAIS'!$C$9 -> 0 | J17: =ROUND((I17*$I$8),2) -> 0 | K17: ='ENCARGOS SOCIAIS'!$C$9 -> 0 | L17: =ROUND((K17*$K$8),2) -> 0 | M17: ='ENCARGOS SOCIAIS'!$C$9 -> 0 | N17: =ROUND((M17*$M$8),2) -> 0
A18: 5.1.6 | B18: Salário Educação | D18: ='ENCARGOS SOCIAIS'!C10 -> 0 | E18: =ROUND((D18*$D$8),2) -> 0 | G18: ='ENCARGOS SOCIAIS'!$C$10 -> 0 | H18: =ROUND((G18*$G$8),2) -> 0 | I18: ='ENCARGOS SOCIAIS'!$C$10 -> 0 | J18: =ROUND((I18*$I$8),2) -> 0 | K18: ='ENCARGOS SOCIAIS'!$C$10 -> 0 | L18: =ROUND((K18*$K$8),2) -> 0 | M18: ='ENCARGOS SOCIAIS'!$C$10 -> 0 | N18: =ROUND((M18*$M$8),2) -> 0
A19: 5.1.7 | B19: Seguro contra os Riscos de Acidente de Trabalho | D19: ='ENCARGOS SOCIAIS'!C11 -> 0 | E19: =ROUND((D19*$D$8),2) -> 0 | G19: ='ENCARGOS SOCIAIS'!$C$11 -> 0 | H19: =ROUND((G19*$G$8),2) -> 0 | I19: ='ENCARGOS SOCIAIS'!$C$11 -> 0 | J19: =ROUND((I19*$I$8),2) -> 0 | K19: ='ENCARGOS SOCIAIS'!$C$11 -> 0 | L19: =ROUND((K19*$K$8),2) -> 0 | M19: ='ENCARGOS SOCIAIS'!$C$11 -> 0 | N19: =ROUND((M19*$M$8),2) -> 0
A20: 5.1.8 | B20: Fundo de Garantia por Tempo de Serviço - FGTS | D20: ='ENCARGOS SOCIAIS'!C12 -> 0 | E20: =ROUND((D20*$D$8),2) -> 0 | G20: ='ENCARGOS SOCIAIS'!$C$12 -> 0 | H20: =ROUND((G20*$G$8),2) -> 0 | I20: ='ENCARGOS SOCIAIS'!$C$12 -> 0 | J20: =ROUND((I20*$I$8),2) -> 0 | K20: ='ENCARGOS SOCIAIS'!$C$12 -> 0 | L20: =ROUND((K20*$K$8),2) -> 0 | M20: ='ENCARGOS SOCIAIS'!$C$12 -> 0 | N20: =ROUND((M20*$M$8),2) -> 0
A21: 5.1.9 | B21: Serviço Social da Construção Civil do Estado de Minas Gerais - SECONCI | D21: ='ENCARGOS SOCIAIS'!C13 -> 0 | E21: =ROUND((D21*$D$8),2) -> 0 | G21: ='ENCARGOS SOCIAIS'!$C$13 -> 0 | H21: =ROUND((G21*$G$8),2) -> 0 | I21: ='ENCARGOS SOCIAIS'!$C$13 -> 0 | J21: =ROUND((I21*$I$8),2) -> 0 | K21: ='ENCARGOS SOCIAIS'!$C$13 -> 0 | L21: =ROUND((K21*$K$8),2) -> 0 | M21: ='ENCARGOS SOCIAIS'!$C$13 -> 0 | N21: =ROUND((M21*$M$8),2) -> 0
A22: 5.2 | B22: GRUPO B | D22: =SUM(D23:D29) -> 0 | E22: =SUM(E23:E29) -> 0 | G22: =SUM(G23:G29) -> 0 | H22: =SUM(H23:H29) -> 0 | I22: =SUM(I23:I29) -> 0 | J22: =SUM(J23:J29) -> 0 | K22: =SUM(K23:K29) -> 0 | L22: =SUM(L23:L29) -> 0 | M22: =SUM(M23:M29) -> 0 | N22: =SUM(N23:N29) -> 0
A23: 5.2.1 | B23: Auxílio enfermidade | D23: ='ENCARGOS SOCIAIS'!C15 -> 0 | E23: =ROUND((D23*$D$8),2) -> 0 | G23: ='ENCARGOS SOCIAIS'!$C$15 -> 0 | H23: =ROUND((G23*$G$8),2) -> 0 | I23: ='ENCARGOS SOCIAIS'!$C$15 -> 0 | J23: =ROUND((I23*$I$8),2) -> 0 | K23: ='ENCARGOS SOCIAIS'!$C$15 -> 0 | L23: =ROUND((K23*$K$8),2) -> 0 | M23: ='ENCARGOS SOCIAIS'!$C$15 -> 0 | N23: =ROUND((M23*$M$8),2) -> 0
A24: 5.2.2 | B24: Décimo terceiro salário | D24: ='ENCARGOS SOCIAIS'!C16 -> 0 | E24: =ROUND((D24*$D$8),2) -> 0 | G24: ='ENCARGOS SOCIAIS'!$C$16 -> 0 | H24: =ROUND((G24*$G$8),2) -> 0 | I24: ='ENCARGOS SOCIAIS'!$C$16 -> 0 | J24: =ROUND((I24*$I$8),2) -> 0 | K24: ='ENCARGOS SOCIAIS'!$C$16 -> 0 | L24: =ROUND((K24*$K$8),2) -> 0 | M24: ='ENCARGOS SOCIAIS'!$C$16 -> 0 | N24: =ROUND((M24*$M$8),2) -> 0
A25: 5.2.3 | B25: Licença paternidade | D25: ='ENCARGOS SOCIAIS'!C17 -> 0 | E25: =ROUND((D25*$D$8),2) -> 0 | G25: ='ENCARGOS SOCIAIS'!$C$17 -> 0 | H25: =ROUND((G25*$G$8),2) -> 0 | I25: ='ENCARGOS SOCIAIS'!$C$17 -> 0 | J25: =ROUND((I25*$I$8),2) -> 0 | K25: ='ENCARGOS SOCIAIS'!$C$17 -> 0 | L25: =ROUND((K25*$K$8),2) -> 0 | M25: ='ENCARGOS SOCIAIS'!$C$17 -> 0 | N25: =ROUND((M25*$M$8),2) -> 0
A26: 5.2.4 | B26: Faltas justificadas | D26: ='ENCARGOS SOCIAIS'!C18 -> 0 | E26: =ROUND((D26*$D$8),2) -> 0 | G26: ='ENCARGOS SOCIAIS'!$C$18 -> 0 | H26: =ROUND((G26*$G$8),2) -> 0 | I26: ='ENCARGOS SOCIAIS'!$C$18 -> 0 | J26: =ROUND((I26*$I$8),2) -> 0 | K26: ='ENCARGOS SOCIAIS'!$C$18 -> 0 | L26: =ROUND((K26*$K$8),2) -> 0 | M26: ='ENCARGOS SOCIAIS'!$C$18 -> 0 | N26: =ROUND((M26*$M$8),2) -> 0
A27: 5.2.5 | B27: Auxílio acidente de trabalho | D27: ='ENCARGOS SOCIAIS'!C19 -> 0 | E27: =ROUND((D27*$D$8),2) -> 0 | G27: ='ENCARGOS SOCIAIS'!$C$19 -> 0 | H27: =ROUND((G27*$G$8),2) -> 0 | I27: ='ENCARGOS SOCIAIS'!$C$19 -> 0 | J27: =ROUND((I27*$I$8),2) -> 0 | K27: ='ENCARGOS SOCIAIS'!$C$19 -> 0 | L27: =ROUND((K27*$K$8),2) -> 0 | M27: ='ENCARGOS SOCIAIS'!$C$19 -> 0 | N27: =ROUND((M27*$M$8),2) -> 0
A28: 5.2.6 | B28: Férias gozadas | D28: ='ENCARGOS SOCIAIS'!C20 -> 0 | E28: =ROUND((D28*$D$8),2) -> 0 | G28: ='ENCARGOS SOCIAIS'!$C$20 -> 0 | H28: =ROUND((G28*$G$8),2) -> 0 | I28: ='ENCARGOS SOCIAIS'!$C$20 -> 0 | J28: =ROUND((I28*$I$8),2) -> 0 | K28: ='ENCARGOS SOCIAIS'!$C$20 -> 0 | L28: =ROUND((K28*$K$8),2) -> 0 | M28: ='ENCARGOS SOCIAIS'!$C$20 -> 0 | N28: =ROUND((M28*$M$8),2) -> 0
A29: 5.2.7 | B29: Salário Maternidade | D29: ='ENCARGOS SOCIAIS'!C21 -> 0 | E29: =ROUND((D29*$D$8),2) -> 0 | G29: ='ENCARGOS SOCIAIS'!$C$21 -> 0 | H29: =ROUND((G29*$G$8),2) -> 0 | I29: ='ENCARGOS SOCIAIS'!$C$21 -> 0 | J29: =ROUND((I29*$I$8),2) -> 0 | K29: ='ENCARGOS SOCIAIS'!$C$21 -> 0 | L29: =ROUND((K29*$K$8),2) -> 0 | M29: ='ENCARGOS SOCIAIS'!$C$21 -> 0 | N29: =ROUND((M29*$M$8),2) -> 0
A30: 5.3 | B30: GRUPO C - ENCARGOS DE DEMISSÃO | D30: =SUM(D31:D35) -> 0 | E30: =SUM(E31:E35) -> 0 | G30: =SUM(G31:G35) -> 0 | H30: =SUM(H31:H35) -> 0 | I30: =SUM(I31:I35) -> 0 | J30: =SUM(J31:J35) -> 0 | K30: =SUM(K31:K35) -> 0 | L30: =SUM(L31:L35) -> 0 | M30: =SUM(M31:M35) -> 0 | N30: =SUM(N31:N35) -> 0
A31: 5.3.1 | B31: Aviso prévio indenizado | D31: ='ENCARGOS SOCIAIS'!C23 -> 0 | E31: =ROUND((D31*$D$8),2) -> 0 | G31: ='ENCARGOS SOCIAIS'!$C$23 -> 0 | H31: =ROUND((G31*$G$8),2) -> 0 | I31: ='ENCARGOS SOCIAIS'!$C$23 -> 0 | J31: =ROUND((I31*$I$8),2) -> 0 | K31: ='ENCARGOS SOCIAIS'!$C$23 -> 0 | L31: =ROUND((K31*$K$8),2) -> 0 | M31: ='ENCARGOS SOCIAIS'!$C$23 -> 0 | N31: =ROUND((M31*$M$8),2) -> 0
A32: 5.3.2 | B32: Aviso prévio trabalhado | D32: ='ENCARGOS SOCIAIS'!C24 -> 0 | E32: =ROUND((D32*$D$8),2) -> 0 | G32: ='ENCARGOS SOCIAIS'!$C$24 -> 0 | H32: =ROUND((G32*$G$8),2) -> 0 | I32: ='ENCARGOS SOCIAIS'!$C$24 -> 0 | J32: =ROUND((I32*$I$8),2) -> 0 | K32: ='ENCARGOS SOCIAIS'!$C$24 -> 0 | L32: =ROUND((K32*$K$8),2) -> 0 | M32: ='ENCARGOS SOCIAIS'!$C$24 -> 0 | N32: =ROUND((M32*$M$8),2) -> 0
A33: 5.3.3 | B33: Férias indenizadas | D33: ='ENCARGOS SOCIAIS'!C25 -> 0 | E33: =ROUND((D33*$D$8),2) -> 0 | G33: ='ENCARGOS SOCIAIS'!$C$25 -> 0 | H33: =ROUND((G33*$G$8),2) -> 0 | I33: ='ENCARGOS SOCIAIS'!$C$25 -> 0 | J33: =ROUND((I33*$I$8),2) -> 0 | K33: ='ENCARGOS SOCIAIS'!$C$25 -> 0 | L33: =ROUND((K33*$K$8),2) -> 0 | M33: ='ENCARGOS SOCIAIS'!$C$25 -> 0 | N33: =ROUND((M33*$M$8),2) -> 0
A34: 5.3.4 | B34: Depósito rescisão sem justa causa | D34: ='ENCARGOS SOCIAIS'!C26 -> 0 | E34: =ROUND((D34*$D$8),2) -> 0 | G34: ='ENCARGOS SOCIAIS'!$C$26 -> 0 | H34: =ROUND((G34*$G$8),2) -> 0 | I34: ='ENCARGOS SOCIAIS'!$C$26 -> 0 | J34: =ROUND((I34*$I$8),2) -> 0 | K34: ='ENCARGOS SOCIAIS'!$C$26 -> 0 | L34: =ROUND((K34*$K$8),2) -> 0 | M34: ='ENCARGOS SOCIAIS'!$C$26 -> 0 | N34: =ROUND((M34*$M$8),2) -> 0
A35: 5.3.5 | B35: Indenização adicional | D35: ='ENCARGOS SOCIAIS'!C27 -> 0 | E35: =ROUND((D35*$D$8),2) -> 0 | G35: ='ENCARGOS SOCIAIS'!$C$27 -> 0 | H35: =ROUND((G35*$G$8),2) -> 0 | I35: ='ENCARGOS SOCIAIS'!$C$27 -> 0 | J35: =ROUND((I35*$I$8),2) -> 0 | K35: ='ENCARGOS SOCIAIS'!$C$27 -> 0 | L35: =ROUND((K35*$K$8),2) -> 0 | M35: ='ENCARGOS SOCIAIS'!$C$27 -> 0 | N35: =ROUND((M35*$M$8),2) -> 0
A36: 5.4 | B36: GRUPO D - REINCIDÊNCIAS | D36: =SUM(D37:D38) -> 0 | E36: =SUM(E37:E38) -> 0 | G36: =SUM(G37:G38) -> 0 | H36: =SUM(H37:H38) -> 0 | I36: =SUM(I37:I38) -> 0 | J36: =SUM(J37:J38) -> 0 | K36: =SUM(K37:K38) -> 0 | L36: =SUM(L37:L38) -> 0 | M36: =SUM(M37:M38) -> 0 | N36: =SUM(N37:N38) -> 0
A37: 5.4.1 | B37: Reincidência do Grupo A sobre o Grupo B | D37: ='ENCARGOS SOCIAIS'!C29 -> 0 | E37: =ROUND((D37*$D$8),2) -> 0 | G37: ='ENCARGOS SOCIAIS'!$C$29 -> 0 | H37: =ROUND((G37*$G$8),2) -> 0 | I37: ='ENCARGOS SOCIAIS'!$C$29 -> 0 | J37: =ROUND((I37*$I$8),2) -> 0 | K37: ='ENCARGOS SOCIAIS'!$C$29 -> 0 | L37: =ROUND((K37*$K$8),2) -> 0 | M37: ='ENCARGOS SOCIAIS'!$C$29 -> 0 | N37: =ROUND((M37*$M$8),2) -> 0
A38: 5.4.2 | B38: Reincidência do Grupo A sobre aviso prévio trabalhado e reincidência do FGTS sobre aviso prévio indenizado | D38: ='ENCARGOS SOCIAIS'!C30 -> 0 | E38: =ROUND((D38*$D$8),2) -> 0 | G38: ='ENCARGOS SOCIAIS'!$C$30 -> 0 | H38: =ROUND((G38*$G$8),2) -> 0 | I38: ='ENCARGOS SOCIAIS'!$C$30 -> 0 | J38: =ROUND((I38*$I$8),2) -> 0 | K38: ='ENCARGOS SOCIAIS'!$C$30 -> 0 | L38: =ROUND((K38*$K$8),2) -> 0 | M38: ='ENCARGOS SOCIAIS'!$C$30 -> 0 | N38: =ROUND((M38*$M$8),2) -> 0
A39: TOTAL DE ENCARGOS SOCIAIS | D39: =D36+D30+D22+D12 -> 0 | E39: =E36+E30+E22+E12 -> 0 | G39: =G36+G30+G22+G12 -> 0 | H39: =H36+H30+H22+H12 -> 0 | I39: =I36+I30+I22+I12 -> 0 | J39: =J36+J30+J22+J12 -> 0 | K39: =K36+K30+K22+K12 -> 0 | L39: =L36+L30+L22+L12 -> 0 | M39: =M36+M30+M22+M12 -> 0 | N39: =N36+N30+N22+N12 -> 0
A41: 6 | B41: ENCARGOS COMPLEMENTARES | D41: % | E41: R$ | G41: % | H41: R$ | I41: % | J41: R$ | K41: % | L41: R$ | M41: % | N41: R$
A42: 6.1 | B42: Alimentação | D42: =E42/$D$8 -> #DIV/0! | E42: 0 | G42: =H42/$G$8 -> #DIV/0! | H42: 0 | I42: =J42/$I$8 -> #REF! | J42: =#REF! -> #REF! | K42: =L42/$K$8 -> #REF! | L42: =#REF! -> #REF! | M42: =N42/$M$8 -> #REF! | N42: =#REF! -> #REF!
A43: 6.2 | B43: Transportes - Vale transporte | D43: =E43/$D$8 -> #DIV/0! | E43: 0 | G43: =H43/$G$8 -> #DIV/0! | H43: 0 | I43: =J43/$I$8 -> #REF! | J43: =#REF! -> #REF! | K43: =L43/$K$8 -> #REF! | L43: =#REF! -> #REF! | M43: =N43/$M$8 -> #REF! | N43: =#REF! -> #REF!
...

Sheet ENCARGOS SOCIAIS
A1: ENCARGOS SOCIAIS
A3: GRUPO | B3: DEFINIÇÕES | C3: %
B4: GRUPO A - ENCARGOS SOCIAIS SOBRE A FOLHA DE PAGAMENTO | C4: =SUM(C5:C13) -> 0
A5: A1 | B5: Instituto Nacional de Securidade Social - INSS
A6: A2 | B6: Serviço Social da Indústria - SESI
A7: A3 | B7: SERVIÇO Nacional de Aprendizagem Industrial - SENAI
A8: A4 | B8: Instituto Nacional de Colonização e Reforma Agrária - INCRA
A9: A5 | B9: Serviço de Apoio a Pequena e Média Empresa - SEBRAE
A10: A6 | B10: Salário Educação
A11: A7 | B11: Seguro contra os Riscos de Acidente de Trabalho
A12: A8 | B12: Fundo de Garantia por Tempo de Serviço - FGTS
A13: A9 | B13: Serviço Social da Construção Civil do Estado de Minas Gerais - SECONCI
B14: GRUPO B | C14: =SUM(C15:C21) -> 0
A15: B3 | B15: Auxílio enfermidade
A16: B4 | B16: Décimo terceiro salário
A17: B5 | B17: Licença paternidade
A18: B6 | B18: Faltas justificadas
A19: B8 | B19: Auxílio acidente de trabalho
A20: B9 | B20: Férias gozadas
A21: B10 | B21: Salário Maternidade
B22: GRUPO C - ENCARGOS DE DEMISSÃO | C22: =SUM(C23:C27) -> 0
A23: C1 | B23: Aviso prévio indenizado
A24: C2 | B24: Aviso prévio trabalhado
A25: C3 | B25: Férias indenizadas
A26: C4 | B26: Depósito rescisão sem justa causa
A27: C5 | B27: Indenização adicional
B28: GRUPO D - REINCIDÊNCIAS | C28: =SUM(C29:C30) -> 0
A29: D1 | B29: Reincidência do Grupo A sobre o Grupo B
A30: D2 | B30: Reincidência do Grupo A sobre Aviso Prévio Trabalhado e Reincidência do FGTS sobre Aviso Prévio Indenizado
A31: ENCARGOS SOCIAIS TOTAIS | C31: =C4+C14+C22+C28 -> 0

Sheet DESPESAS DIVERSAS I (2)
A1: PAINEL 9 - DESPESAS DIVERSAS I
A3: COMPOSIÇÃO DE EQUIPAMENTOS
A4: Equipamento | B4: Caminhonete 4x4 Cabine Dupla | C4: Caminhão Toco com Cabine Suplementar | D4: Caminhão Toco com Cabine Suplementar equipado com Guindauto | E4: Compactador de Solos
A5: Item | B5: 2.1 | C5: 2.2 | D5: 2.3 | E5: 2.4
A6: Subitem 1 | B6: Caminhonete com motor a diesel, potencia 160 CV, cabine dupla, 4x4 | C6: Caminhão toco peso bruto total 13200 kg, carga útil máxima 9.200 kg, distância entre eixos 3,31m, potência 175 CV (inclui cabine e chassi, não inclui carroceria) | D6: Caminhão toco peso bruto total 13200 kg, carga útil máxima 9.200 kg, distância entre eixos 3,31m, potência 175 CV (inclui cabine e chassi, não inclui carroceria) | E6: Compactador de solo a percussão (soquete), a gasolina 4 tempos, peso 55 a 65 kg, força de impacto 1.000 a 1.500 kgf, freq. 600 a 700 golpes por minuto, velocidade de trabalho de 10 a 15 m/min, pot. De 2 a 3 HP.
A7: Fonte | B7: SINAPI | C7: SINAPI | D7: SINAPI | E7: SINAPI
A8: Código | B8: 1159 | C8: 44057 | D8: 44057 | E8: 11281
A9: Data Base | B9: 45597 | C9: 45597 | D9: 45597 | E9: 45597
A10: Valor | B10: 269408.33 | C10: 481947.5 | D10: =C10 -> 481947.5 | E10: =9200 -> 9200
A11: Subitem 2 | B11: - | C11: Carroceria fixa aberta de madeira para transporte geral de carga seca dimensões aproximadas 2,25 x 4,10 x 0,50 m (inclui montagem, não inclui caminhão) | D11: Carroceria fixa aberta de madeira para transporte geral de carga seca dimensões aproximadas 2,25 x 4,10 x 0,50 m (inclui montagem, não inclui caminhão)
A12: Fonte | B12: - | C12: SINAPI | D12: SINAPI
A13: Código | B13: - | C13: 37727 | D13: 37727
A14: Data Base | B14: - | C14: 45597 | D14: 45323
A15: Valor | B15: - | C15: 19900 | D15: =C15 -> 19900
A16: Subitem 3 | B16: - | C16: Cabine para transporte de passageiros (06 lugares) | D16: Cabine para transporte de passageiros, em alumínio com isolamento em isopor, 1000x2000x1600mm
A17: Fonte | B17: - | C17: Cotação de mercado | D17: COPASA
A18: Código | B18: - | C18: - | D18: 35001189
A19: Data Base | B19: - | C19: 45261 | D19: 45261
A20: Valor | B20: - | C20: 27478.39 | D20: =C20 -> 27478.39
A21: Subitem 4 | B21: - | D21: Guindauto hidraulico, capacidade maxima de carga 8500 kg, momento maximo de carga 30,4 tm , alcance maximo horizontal 14,30 m, para montagem sobre chassi de caminhao pbt minimo 23000 kg (inclui montagem, nao inclui caminhao)
A22: Fonte | B22: - | D22: SINAPI
A23: Código | B23: - | D23: 3363
A24: Data Base | B24: - | D24: 45597
A25: Valor | B25: - | D25: 144875
A26: VALOR TOTAL | B26: =SUM(B10,B15,B20,B25) -> 269408.33 | C26: =SUM(C10,C15,C20,C25) -> 529325.89 | D26: =SUM(D10,D15,D20,D25) -> 674200.89 | E26: =SUM(E10,E15,E20,E25) -> 9200
A28: SIMULAÇÃO DE INVESTIMENTO PARA AQUISIÇÃO DO EQUIPAMENTO (FINANCIAMENTO TABELA PRICE*)
A29: Equipamento | B29: =B4 -> Caminhonete 4x4 Cabine Dupla | C29: =C4 -> Caminhão Toco com Cabine Suplementar | D29: =D4 -> Caminhão Toco com Cabine Suplementar equipado com Guindauto | E29: =E4 -> Compactador de Solos
A30: Situação | B30: Nova | C30: Nova | D30: Nova | E30: Nova
A31: Custo | B31: =B26 -> 269408.33 | C31: =C26 -> 529325.89 | D31: =D26 -> 674200.89 | E31: =E26 -> 9200
A32: Parcelas | B32: 60 | C32: 60 | D32: 60 | E32: 60
A33: Taxa de Juros | B33: 0.01 | C33: 0.01 | D33: 0.01 | E33: 0.01
A34: Projeção Anual | B34: =B35*12 -> 71914.08 | C34: =C35*12 -> 141294.72 | D34: =D35*12 -> 179966.76 | E34: =E35*12 -> 2455.8
A35: VALOR MENSAL | B35: =-ROUND((PMT(B33,B32,B31)),2) -> 5992.84 | C35: =-ROUND((PMT(C33,C32,C31)),2) -> 11774.56 | D35: =-ROUND((PMT(D33,D32,D31)),2) -> 14997.23 | E35: =-ROUND((PMT(E33,E32,E31)),2) -> 204.65
A36: *www.calculador.com.br/calculo/financiamento-price
A38: COMPOSIÇÃO CONSIDERANDO CARGA HORÁRIA PRODUTIVA E IMPRODUTIVA - SINAPI
A39: MEMÓRIA DE CÁLCULO DOS PARÂMETROS*
A40: Depreciação | C40: (Valor de aquisição - Valor residual) ÷ (Vida útil * Horas trabalhadas por ano * 1,25)
A41: Juros | C41: (Valor médio * Taxa de juros anuais) ÷ (Horas trabalhadas por ano * 1,25) | Valor médio = (Vida útil + 1) * Valor de aquisição ÷ (2 * Vida útil) | Taxa de juros anuais = 3,1501%
A42: Impostos e Seguros | C42: (Vida útil + 1) * Valor de aquisição * Taxa média adotada ÷ (2 * Vida útil * Horas trabalhadas por ano * 1,25) | Taxa média adotada = 0,025
A43: Manutenção | C43: (Valor de aquisição * Coeficiente de manutenção) / (Horas trabalhadas por ano * vida útil em anos)
...

Sheet FATOR K
A1: CÁLCULO DO K DO PROJETO
A3: Os K's foram calculados através de fórmulas estabelecidas pelo Acórdão 1787/2011. Os parâmetros utilizados foram estabelecidos pela Nota Técnica Conjunta nº 01/2012/SIP/SAF da Agência Nacional de Águas. Os valores para Administração, Risco e Despesas Financeiras, Lucro e Despesas Fiscais e Legais foram estabelecidas com base na análise do BDI x Fator K
A5: DETALHAMENTO DO FATOR K
A6: ES1 - Encargos Sociais | K6: 0.6779
A7: ES2 - Encargos Complementares* | K7: 0.7061
A8: ES - Encargos Sociais + Encargos Complementares | K8: =K6+K7 -> 1.384
A9: ESA - Equipe Temporária | K9: 0.2
A10: ARDF - Administração, Risco e Despesas Financeiras | K10: =K43 -> 0.078
A11: L - Lucro | K11: =J37 -> 0.0804
A12: DFL - Despesas Fiscais e Legais | DFL=(PIS+COFINS+ISS)÷(1-PIS+COFINS+ISS) | K12: =J13/(1-J13) -> 0.09469075
A13: PIS + COFINS + ISS | J13: =J14+J15+J16 -> 0.0865
A14: PIS | J14: 0.0065
A15: COFINS | J15: 0.03
A16: ISS | J16: 0.05
A18: K1 | B18: MÃO DE OBRA - EQUIPE PERMANENTE | C18: K1 = [(1+ES+ARDF)*(1+L)*(1+DFL)] | K18: =(1+K8+K10)*(1+K11)*(1+K12) -> 2.911817
A19: K2 | B19: MÃO DE OBRA - EQUIPE TEMPORÁRIA | C19: K2 = [(1+ESA+ARDF)*(1+L)*(1+DFL)] | K19: =ROUND(((1+K9+K10)*(1+K11)*(1+K12)),2) -> 1.51
A20: K3 | B20: SERVIÇOS TÉCNICOS E DE APOIO | C20: K3 = [(1+ARDF)*(1+L)*(1+DFL)] | K20: =ROUND(((1+K10)*(1+K11)*(1+K12)),2) -> 1.27
A21: K4 | B21: DESPESAS DIRETAS | C21: K4 = (1+L)*(1+DFL) | K21: =ROUND(((1+K11)*(1+K12)),2) -> 1.18
A22: *Os encargos complementares e, consequentemente, o FATOR K1 serão definidos de maneira específica para cada profissional da equipe.
A24: QUADRO COMPARATIVO DA COMPOSIÇÃO DO BDI E FATOR K
A26: TIPO DE OBRA DO EMPREENDIMENTO | J26: DESONERAÇÃO
A27: CONSTRUÇÃO DE REDES DE ABASTECIMENTO DE ÁGUA, COLETA DE ESGOTO E CONSTRUÇÕES CORRELATAS | J27: NÃO
A28: Conforme legislação tributária municipal, definir estimativa de percentual da base de cálculo para o ISS: | J28: 1
A29: Sobre a base de cálculo, definir a respectiva alíquota do ISS (entre 2% e 5%): | J29: 0.05
A31: ITENS | E31: SIGLAS | F31: % ADOTADO | G31: % MODIFICADO | H31: SITUAÇÃO | I31: INTERVALO DE ADMISSIBILIDADE
I32: 1º Quartil | J32: Médio | K32: 3º Quartil
A33: Administração Central | E33: AC | F33: 0.0425 | G33: 0.0425 | H33: - | I33: 0.0343 | J33: 0.0493 | K33: 0.0671
A34: Seguro e Garantia | E34: SG | F34: 0.0075 | G34: 0.0049 | H34: - | I34: 0.0028 | J34: 0.0049 | K34: 0.0075
A35: Risco | E35: R | F35: 0.0174 | G35: 0.0139 | H35: - | I35: 0.01 | J35: 0.0139 | K35: 0.0174
A36: Despesas Financeiras | E36: DF | F36: 0.0117 | G36: 0.0099 | H36: - | I36: 0.0094 | J36: 0.0099 | K36: 0.0117
A37: Lucro | E37: L | F37: 0.0696 | G37: 0.077 | H37: - | I37: 0.0674 | J37: 0.0804 | K37: 0.094
A38: Tributos (impostos COFINS 3%, e PIS 0,65%) | E38: CP | F38: 0.0365 | G38: 0.0365 | H38: - | I38: 0.0365 | J38: 0.0365 | K38: 0.0365
A39: Tributos (ISS, variável de acordo com o município) | E39: ISS | F39: =J29 -> 0.05 | G39: =J29*J28 -> 0.05 | H39: - | I39: 0 | J39: 0.025 | K39: 0.05
A40: Tributos (Contribuição Previdenciária - 0% ou 4,5%, conforme Lei 12.844/2013 - Desoneração) | E40: CPRB | F40: 0.045 | G40: 0.045 | H40: =IF(AND(G40>=I40, G40<=K40), "OK", "Não OK") -> OK | I40: 0 | J40: 0.045 | K40: 0.045
A41: BDI SEM desoneração (Fórmula Acórdão TCU) | E41: BDI PAD | F41: =ROUND((((1+F33+F34+F35)*(1+F36)*(1+F37)/(1-(F38+F39)))-1),4) -> 0.2644 | G41: =ROUND((((1+G33+G34+G35)*(1+G36)*(1+G37)/(1-(G38+G39)))-1),4) -> 0.2636 | H41: =IF(OR(AND(G41>=I41, G41<=K41)), "OK", "NÃO OK") -> OK | I41: 0.2076 | J41: 0.2418 | K41: 0.2644
A42: BDI COM desoneração | E42: BDI DES | F42: =ROUND((((1+F33+F34+F35)*(1+F36)*(1+F37)/(1-(F38+F39+F40)))-1),4) -> 0.3299 | G42: =ROUND((((1+G33+G34+G35)*(1+G36)*(1+G37)/(1-(G38+G39+G40)))-1),4) -> 0.3291 | H42: =H41 -> OK
J43: ARDF | K43: =SUM(J33:J36) -> 0.078
A45: Os valores de referência foram retirados da publicação Orientações para Elaboração de Planilhas Orçamentárias de Obras Públicas, do TCU. Os valores de BDI foram calculados com o emprego da fórmula:
E46: =IF(J27="Sim","BDI.DES =","BDI.PAD =") -> BDI.PAD = | F46: (1+AC + S + R + G)*(1 + DF)*(1+L) | H46: -1
F47: (1-CP-ISS-CRPB)
