Workbook

Sheet CAPA
S5: Preencher as células destacadas em verde
C10: NOME DA EMPRESA
B15: ORÇAMENTO DETALHADO - ATO CONVOCATÓRIO N° 12/2026
C19: LOTE 03 - CIRCUNSCRIÇÃO HIDROGRÁFICA DO RIO SANTO ANTÔNIO (CH DO3)
C20: RESPONSÁVEL TÉCNICO PELA ELABORAÇÃO DO ORÇAMENTO
C21: CREA
F27: CIDADE, ESTADO
B30: DATA

Sheet SUMÁRIO
A1: SUMÁRIO EXECUTIVO
A3: PAINEL 1 | C3: INTRODUÇÃO
A5: PAINEL 2 | C5: DEFINIÇÕES
A7: PAINEL 3 | C7: DASHBOARD
A9: PAINEL 4 | C9: CUSTOS FIXOS - LOTE 06 CH DO6 MANHUAÇU
A11: PAINEL 5 | C11: CUSTOS VARIÁVEIS - LOTE 06 CH DO6 MANHUAÇU
A13: PAINEL 6 | C13: CRONOGRAMA - LOTE 06 CH DO6 MANHUAÇU
A15: PAINEL 7 | C15: CUSTOS FIXOS - LOTE 03 CH DO3 SANTO ANTÔNIO
A17: PAINEL 8 | C17: CUSTOS VARIÁVEIS - LOTE 03 CH DO3 SANTO ANTÔNIO
A19: PAINEL 9 | C19: CRONOGRAMA - LOTE 03 CH DO3 SANTO ANTÔNIO
A21: PAINEL 10 | C21: CUSTOS FIXOS - LOTE 05 CH DO5 CARATINGA
A23: PAINEL 11 | C23: CUSTOS VARIÁVEIS - LOTE 05 CH DO5 CARATINGA
A25: PAINEL 12 | C25: CRONOGRAMA - LOTE 05 CH DO5 CARATINGA
... A55: PAINEL 27 | C55: REFERÊNCIAS

Sheet CUSTOS FIXOS L3
A1: PAINEL 7 | C1: CUSTOS FIXOS - LOTE 3 CH DO3 SANTO ANTÔNIO
A3: ITEM | B3: CÓDIGO | C3: ÓRGÃO | D3: DESCRIÇÃO | E3: CUSTO MENSAL | F3: UNIDADE | G3: QUANTITATIVO | H3: CUSTO ANUAL | I3: PESO (%)
A4: 1 | B4: EQUIPE PERMANENTE | E4: Com K1 | H4: =SUM(H5:H12) -> #DIV/0! | I4: =SUM(I5:I12) -> #DIV/0!
A5: 1.1 | D5: Coordenador do Projeto | E5: ='1.1 COORD'!D69/2 -> #DIV/0! | F5: mês | G5: 15 | H5: =E5*G5 -> #DIV/0! | I5: =H5/$H$22 -> #DIV/0!
A6: 1.2 | D6: Mobilizador Social | E6: ='1.2 MOB SOCIAL'!D69 -> #DIV/0! | F6: mês | G6: 15 | H6: =E6*G6 -> #DIV/0! | I6: =H6/$H$22 -> #DIV/0!
A7: 1.3 | D7: Auxiliar Administrativo | E7: ='1.3 AUX ADM'!D69 -> #REF! | F7: mês | G7: 15 | H7: =E7*G7 -> #REF! | I7: =H7/$H$22 -> #REF!
A8: 1.4 | D8: Encarregado Operacional | E8: ='1.4 ENC OPER'!D69 -> #DIV/0! | F8: mês | G8: 12 | H8: =E8*G8 -> #DIV/0! | I8: =H8/$H$22 -> #DIV/0!
A9: 1.5 | D9: Motorista | E9: ='1.5 MOT'!D69 -> #DIV/0! | F9: mês | G9: 12 | H9: =E9*G9 -> #DIV/0! | I9: =H9/$H$22 -> #DIV/0!
A10: 1.6 | D10: Pedreiro | E10: ='1.6 PEDR'!D69 -> #DIV/0! | F10: mês | G10: 12 | H10: =E10*G10 -> #DIV/0! | I10: =H10/$H$22 -> #DIV/0!
A11: 1.7 | D11: Servente | E11: ='1.7 SERV'!D69 -> #DIV/0! | F11: mês | G11: 12 | H11: =E11*G11 -> #DIV/0! | I11: =H11/$H$22 -> #DIV/0!
A12: 1.7 | D12: Servente | E12: ='1.7 SERV'!D69 -> #DIV/0! | F12: mês | G12: 12 | H12: =E12*G12 -> #DIV/0! | I12: =H12/$H$22 -> #DIV/0!
A14: 2 | B14: DESPESAS DIVERSAS | E14: Com K4 | H14: =SUM(H15:H20) -> #REF! | I14: =SUM(I15:I20) -> #REF!
A15: 2.1 | D15: Veículo caminhonete 4x4 | E15: =#REF! -> #REF! | F15: mês | G15: 15 | H15: =E15*G15 -> #REF! | I15: =H15/$H$22 -> #REF!
A16: 2.2 | D16: Caminhão toco 4x2, PBT mínimo de 16.000 kg, potência mínima de 175 cv, com carroceria aberta de madeira para carga seca, cabine dupla para 4 a 6 passageiros e guindauto hidráulico (tipo Munck) com momento mínimo de 10,5 tm e alcance horizontal mínimo de 11 m, incluindo estabilizadores e dispositivos de segurança, sem motorista e combustível. | E16: =#REF! -> #REF! | F16: mês | G16: 12 | H16: =E16*G16 -> #REF! | I16: =H16/$H$22 -> #REF!
A17: 2.3 | D17: Compactador de solos | E17: =#REF! -> #REF! | F17: mês | G17: 12 | H17: =E17*G17 -> #REF! | I17: =H17/$H$22 -> #REF!
A18: 2.4 | D18: Óleo diesel S10 | E18: =#REF! -> #REF! | F18: mês | G18: 15 | H18: =E18*G18 -> #REF! | I18: =H18/$H$22 -> #REF!
A19: 2.5 | D19: Óleo diesel | E19: =#REF! -> #REF! | F19: mês | G19: 12 | H19: =E19*G19 -> #REF! | I19: =H19/$H$22 -> #REF!
A20: 2.6 | D20: Diárias | E20: =#REF! -> #REF! | F20: mês | G20: 12 | H20: =E20*G20 -> #REF! | I20: =H20/$H$22 -> #REF!
F22: TOTAL GERAL | H22: =H4+H14 -> #DIV/0! | I22: =I4+I14 -> #DIV/0!
A24: VALOR FINAL
A25: Lote | E25: Valor por equipe | F25: Unidade | G25: Nº de equipes | I25: Custo total
A26: 3 CH DO3 SANTO ANTÔNIO | E26: =H22 -> #DIV/0! | F26: Equipe | G26: 1 | I26: =E26*G26 -> #DIV/0!
A27: VALOR TOTAL - Inclusos K's | H27: R$ | I27: =I26 -> #DIV/0!
A29: A carga horária do "Coordenador" é de 20 horas/semanais. Demais profissionais é de 40 horas/semanais.

Sheet CUSTOS VARIÁVEIS L3
A1: PAINEL 8 | C1: CUSTOS VARIÁVEIS - LOTE 3 CH DO3 SANTO ANTÔNIO
A3: ITEM | B3: CÓDIGO | C3: ÓRGÃO | D3: DESCRIÇÃO | E3: CUSTO UNITÁRIO | F3: UNIDADE | G3: QUANTITATIVO | H3: CUSTO ANUAL | I3: PESO (%)
A5: 3 | B5: SERVIÇOS TÉCNICOS | E5: Com K3 | H5: =SUM(H7,H10:H10) -> #REF! | I5: =SUM(I7,I10:I10) -> #REF!
A6: 3.1 | B6: SERVIÇOS DE GEOPROCESSAMENTO
A7: 3.1.1 | D7: Técnico em Geoprocessamento | E7: =#REF! -> #REF! | F7: hora | G7: 960 | H7: =E7*G7 -> #REF! | I7: =H7/$H$19 -> #REF!
A9: 3.2 | B9: SERVIÇOS DE TOPOGRAFIA
A10: 3.2.1 | D10: Alocação de equipe de topografia básica (inclui equipe composta por um engenheiro e auxiliar de topografia; equipamentos: estação total, rádio comunicador e equipamentos complementares; mobilização e desmobilização; hospedagem e alimentação) | E10: =#REF! -> #REF! | F10: diária | G10: 7 | H10: =E10*G10 -> #REF! | I10: =H10/$H$19 -> #REF!
A13: 4 | B13: DESPESAS DIVERSAS | E13: Com K4 | H13: =SUM(H14:H17) -> #REF! | I13: =SUM(I14:I17) -> #REF!
A14: 4.1 | D14: Locação de retroescavadeira sobre rodas com carregadeira, tração 4x4, potência 88 HP (incluído operador e combustível) | E14: =#REF! -> #REF! | F14: Hora | G14: 500 | H14: =E14*G14 -> #REF! | I14: =H14/$H$19 -> #REF!
A15: 4.2 | D15: Impressão preto e branco | E15: =#REF! -> #REF! | F15: unidade | G15: 3000 | H15: =E15*G15 -> #REF! | I15: =H15/$H$19 -> #REF!
A16: 4.3 | D16: Refeição | E16: =#REF! -> #REF! | F16: unidade | G16: 264 | H16: =E16*G16 -> #REF! | I16: =H16/$H$19 -> #REF!
A17: 4.4 | D17: Diária | E17: =#REF! -> #REF! | F17: unidade | G17: 264 | H17: =E17*G17 -> #REF! | I17: =H17/$H$19 -> #REF!
E19: TOTAL GERAL | H19: =H5+H13 -> #REF! | I19: =I5+I13 -> #REF!
A21: VALOR FINAL
A22: Lote | E22: Valor por equipe | F22: Unidade | G22: Nº de equipes | I22: Custo total]
A23: 3 CH DO3 SANTO ANTÔNIO | E23: =H19 -> #REF! | F23: Equipe | G23: 1 | I23: =E23*G23 -> #REF!
A24: VALOR TOTAL - Inclusos K's | H24: R$ | I24: =I23 -> #REF!

Sheet CRONOGRAMA L3
A1: PAINEL 9 | B1: CRONOGRAMA FÍSICO-FINANCEIRO - LOTE 3 CH DO3 SANTO ANTÔNIO
A3: ETAPA | B3: ATIVIDADE | C3: ETAPA A | F3: ETAPA B
C4: MÊS 1 | D4: MÊS 2 | F4: MÊS 3 | G4: MÊS 4 | H4: MÊS 5 | I4: MÊS 6 | J4: MÊS 7
A5: A | B5: Emissão da Ordem de Serviço
B6: Composição/ recomposição das UGPs
B7: Planejamento | C7: Produto 1 Rel. Atividades | D7: Produto 1 Plano de Trabalho
A8: B e C | B8: Emissão da Ordem de Serviço**
B9: Mobilização Social | I9: Produto 2 Rel. de Mobilização
B10: Implantação dos Projetos | F10: Produto 3 Relatório Mensal | G10: Produto 3 Relatório Mensal | H10: Produto 3 Relatório Mensal | I10: Produto 3 Relatório Mensal | J10: Produto 3 Relatório Mensal
A11: CUSTOS FIXOS | B11: MENSAL | C11: =('CUSTOS FIXOS L3'!E5+'CUSTOS FIXOS L3'!E6+'CUSTOS FIXOS L3'!E7+'CUSTOS FIXOS L3'!E15+'CUSTOS FIXOS L3'!E18) -> #DIV/0! | D11: =('CUSTOS FIXOS L3'!E5+'CUSTOS FIXOS L3'!E6+'CUSTOS FIXOS L3'!E7+'CUSTOS FIXOS L3'!E15+'CUSTOS FIXOS L3'!E18) -> #DIV/0! | F11: =('CUSTOS FIXOS L3'!E5+'CUSTOS FIXOS L3'!E6+'CUSTOS FIXOS L3'!E7+'CUSTOS FIXOS L3'!E15+'CUSTOS FIXOS L3'!E18) -> #DIV/0! | G11: =SUM('CUSTOS FIXOS L3'!E5:E12,'CUSTOS FIXOS L3'!E15:E20) -> #DIV/0! | H11: =SUM('CUSTOS FIXOS L3'!E5:E12,'CUSTOS FIXOS L3'!E15:E20) -> #DIV/0! | I11: =SUM('CUSTOS FIXOS L3'!E5:E12,'CUSTOS FIXOS L3'!E15:E20) -> #DIV/0! | J11: =SUM('CUSTOS FIXOS L3'!E5:E12,'CUSTOS FIXOS L3'!E15:E20) -> #DIV/0!
B12: Percentual em relação ao valor total | C12: =C11/$J$43 -> #DIV/0! | D12: =D11/$J$43 -> #DIV/0! | F12: =F11/$J$43 -> #DIV/0! | G12: =G11/$J$43 -> #DIV/0! | H12: =H11/$J$43 -> #DIV/0! | I12: =I11/$J$43 -> #DIV/0! | J12: =J11/$J$43 -> #DIV/0!
B13: ACUMULADO | C13: =C11 -> #DIV/0! | D13: =D11+C13 -> #DIV/0! | F13: =F11+D13 -> #DIV/0! | G13: =G11+F13 -> #DIV/0! | H13: =H11+G13 -> #DIV/0! | I13: =I11+H13 -> #DIV/0! | J13: =J11+I13 -> #DIV/0!
B14: Percentual acumulado | C14: =C12 -> #DIV/0! | D14: =D12+C14 -> #DIV/0! | F14: =F12+D14 -> #DIV/0! | G14: =G12+F14 -> #DIV/0! | H14: =H12+G14 -> #DIV/0! | I14: =I12+H14 -> #DIV/0! | J14: =J12+I14 -> #DIV/0!
A15: CUSTOS VARIÁVEIS* | B15: MENSAL | C15: 0 | D15: 0 | F15: 0 | G15: ='CUSTOS VARIÁVEIS L3'!I24/12 -> #REF! | H15: ='CUSTOS VARIÁVEIS L3'!I24/12 -> #REF! | I15: ='CUSTOS VARIÁVEIS L3'!I24/12 -> #REF! | J15: ='CUSTOS VARIÁVEIS L3'!I24/12 -> #REF!
B16: Percentual em relação ao valor total | C16: =C15/$J$43 -> #DIV/0! | D16: =D15/$J$43 -> #DIV/0! | F16: =F15/$J$43 -> #DIV/0! | G16: =G15/$J$43 -> #REF! | H16: =H15/$J$43 -> #REF! | I16: =I15/$J$43 -> #REF! | J16: =J15/$J$43 -> #REF!
B17: ACUMULADO | C17: =C15 -> 0 | D17: =D15+C17 -> 0 | F17: =F15+D17 -> 0 | G17: =G15+F17 -> #REF! | H17: =H15+G17 -> #REF! | I17: =I15+H17 -> #REF! | J17: =J15+I17 -> #REF!
B18: Percentual acumulado | C18: =C16 -> #DIV/0! | D18: =D16+C18 -> #DIV/0! | F18: =F16+D18 -> #DIV/0! | G18: =G16+F18 -> #REF! | H18: =H16+G18 -> #REF! | I18: =I16+H18 -> #REF! | J18: =J16+I18 -> #REF!
A19: TOTAL | B19: MENSAL | C19: =C11+C15 -> #DIV/0! | D19: =D11+D15 -> #DIV/0! | F19: =F11+F15 -> #DIV/0! | G19: =G11+G15 -> #DIV/0! | H19: =H11+H15 -> #DIV/0! | I19: =I11+I15 -> #DIV/0! | J19: =J11+J15 -> #DIV/0!
B20: Percentual em relação ao valor total | C20: =C19/$J$43 -> #DIV/0! | D20: =D19/$J$43 -> #DIV/0! | F20: =F19/$J$43 -> #DIV/0! | G20: =G19/$J$43 -> #DIV/0! | H20: =H19/$J$43 -> #DIV/0! | I20: =I19/$J$43 -> #DIV/0! | J20: =J19/$J$43 -> #DIV/0!
B21: ACUMULADO | C21: =C19 -> #DIV/0! | D21: =D19+C21 -> #DIV/0! | F21: =F19+D21 -> #DIV/0! | G21: =G19+F21 -> #DIV/0! | H21: =H19+G21 -> #DIV/0! | I21: =I19+H21 -> #DIV/0! | J21: =J19+I21 -> #DIV/0!
B22: Percentual acumulado | C22: =C21/$J$43 -> #DIV/0! | D22: =D20+C22 -> #DIV/0! | F22: =F20+D22 -> #DIV/0! | G22: =G20+F22 -> #DIV/0! | H22: =H20+G22 -> #DIV/0! | I22: =I20+H22 -> #DIV/0! | J22: =J20+I22 -> #DIV/0!
A24: ETAPA | B24: ATIVIDADE | C24: ETAPA B
C25: MÊS 8 | D25: MÊS 9 | E25: MÊS 10 | F25: MÊS 11 | G25: MÊS 12 | H25: MÊS 13 | I25: MÊS 14 | J25: MÊS 15 | K25: MÊS 16 | L25: MÊS 17
A26: A | B26: Emissão da Ordem de Serviço | K26: Finalização administrativa do contrato.
B27: Composição/ recomposição das UGPs
B28: Planejamento | C28: Produto 1 PT Ajustado | I28: Produto 1 PT Ajustado
A29: B e C | B29: Emissão da Ordem de Serviço**
B30: Mobilização Social | D30: Produto 2 Rel. de Mobilização | G30: Produto 2 Rel. de Mobilização | J30: Produto 2 Rel. de Mobilização
B31: Implantação dos Projetos | C31: Produto 3 Relatório Mensal | D31: Produto 3 Relatório Mensal | E31: Produto 3 Relatório Mensal | F31: Produto 3 Relatório Mensal | G31: Produto 3 Relatório Mensal | H31: Produto 3 Relatório Mensal | I31: Produto 3 Relatório Mensal | J31: Produto 3 Relatório Mensal
B32: Relatório Final | J32: Produto 4 Relatório Final
A33: CUSTOS FIXOS | B33: MENSAL | C33: =SUM('CUSTOS FIXOS L3'!E5:E12,'CUSTOS FIXOS L3'!E15:E20) -> #DIV/0! | D33: =SUM('CUSTOS FIXOS L3'!E5:E12,'CUSTOS FIXOS L3'!E15:E20) -> #DIV/0! | E33: =SUM('CUSTOS FIXOS L3'!E5:E12,'CUSTOS FIXOS L3'!E15:E20) -> #DIV/0! | F33: =SUM('CUSTOS FIXOS L3'!E5:E12,'CUSTOS FIXOS L3'!E15:E20) -> #DIV/0! | G33: =SUM('CUSTOS FIXOS L3'!E5:E12,'CUSTOS FIXOS L3'!E15:E20) -> #DIV/0! | H33: =SUM('CUSTOS FIXOS L3'!E5:E12,'CUSTOS FIXOS L3'!E15:E20) -> #DIV/0! | I33: =SUM('CUSTOS FIXOS L3'!E5:E12,'CUSTOS FIXOS L3'!E15:E20) -> #DIV/0! | J33: =SUM('CUSTOS FIXOS L3'!E5:E12,'CUSTOS FIXOS L3'!E15:E20) -> #DIV/0!
B34: Percentual em relação ao valor total | C34: =C33/$J$43 -> #DIV/0! | D34: =D33/$J$43 -> #DIV/0! | E34: =E33/$J$43 -> #DIV/0! | F34: =F33/$J$43 -> #DIV/0! | G34: =G33/$J$43 -> #DIV/0! | H34: =H33/$J$43 -> #DIV/0! | I34: =I33/$J$43 -> #DIV/0! | J34: =J33/$J$43 -> #DIV/0!
B35: ACUMULADO | C35: =J13+C33 -> #DIV/0! | D35: =D33+C35 -> #DIV/0! | E35: =E33+D35 -> #DIV/0! | F35: =F33+E35 -> #DIV/0! | G35: =G33+F35 -> #DIV/0! | H35: =H33+G35 -> #DIV/0! | I35: =I33+H35 -> #DIV/0! | J35: =J33+I35 -> #DIV/0!
B36: Percentual acumulado | C36: =J14+C34 -> #DIV/0! | D36: =D34+C36 -> #DIV/0! | E36: =E34+D36 -> #DIV/0! | F36: =F34+E36 -> #DIV/0! | G36: =G34+F36 -> #DIV/0! | H36: =H34+G36 -> #DIV/0! | I36: =I34+H36 -> #DIV/0! | J36: =J34+I36 -> #DIV/0!
A37: CUSTOS VARIÁVEIS* | B37: MENSAL | C37: ='CUSTOS VARIÁVEIS L3'!I24/12 -> #REF! | D37: ='CUSTOS VARIÁVEIS L3'!I24/12 -> #REF! | E37: ='CUSTOS VARIÁVEIS L3'!I24/12 -> #REF! | F37: ='CUSTOS VARIÁVEIS L3'!I24/12 -> #REF! | G37: ='CUSTOS VARIÁVEIS L3'!I24/12 -> #REF! | H37: ='CUSTOS VARIÁVEIS L3'!I24/12 -> #REF! | I37: ='CUSTOS VARIÁVEIS L3'!I24/12 -> #REF! | J37: ='CUSTOS VARIÁVEIS L3'!I24/12 -> #REF!
B38: Percentual em relação ao valor total | C38: =C37/$J$43 -> #REF! | D38: =D37/$J$43 -> #REF! | E38: =E37/$J$43 -> #REF! | F38: =F37/$J$43 -> #REF! | G38: =G37/$J$43 -> #REF! | H38: =H37/$J$43 -> #REF! | I38: =I37/$J$43 -> #REF! | J38: =J37/$J$43 -> #REF!
B39: ACUMULADO | C39: =J17+C37 -> #REF! | D39: =D37+C39 -> #REF! | E39: =E37+D39 -> #REF! | F39: =F37+E39 -> #REF! | G39: =G37+F39 -> #REF! | H39: =H37+G39 -> #REF! | I39: =I37+H39 -> #REF! | J39: =J37+I39 -> #REF!
B40: Percentual acumulado | C40: =J18+C38 -> #REF! | D40: =D38+C40 -> #REF! | E40: =E38+D40 -> #REF! | F40: =F38+E40 -> #REF! | G40: =G38+F40 -> #REF! | H40: =H38+G40 -> #REF! | I40: =I38+H40 -> #REF! | J40: =J38+I40 -> #REF!
A41: TOTAL | B41: MENSAL | C41: =C33+C37 -> #DIV/0! | D41: =D33+D37 -> #DIV/0! | E41: =E33+E37 -> #DIV/0! | F41: =F33+F37 -> #DIV/0! | G41: =G33+G37 -> #DIV/0! | H41: =H33+H37 -> #DIV/0! | I41: =I33+I37 -> #DIV/0! | J41: =J33+J37 -> #DIV/0!
B42: Percentual em relação ao valor total | C42: =C41/$J$43 -> #DIV/0! | D42: =D41/$J$43 -> #DIV/0! | E42: =E41/$J$43 -> #DIV/0! | F42: =F41/$J$43 -> #DIV/0! | G42: =G41/$J$43 -> #DIV/0! | H42: =H41/$J$43 -> #DIV/0! | I42: =I41/$J$43 -> #DIV/0! | J42: =J41/$J$43 -> #DIV/0!
...

Sheet 1.1 COORD
A1: PAINEL 13 | B1: 1.1 COORDENADOR
A3: Item | B3: 1.1
A4: Código | B4: 40811
A5: Data Base | B5: 46054
A6: Fonte* | B6: SINAPI
A7: Descrição** | B7: Coordenador do Projeto
A8: Salário Base
B10: ENCARGOS SOCIAIS | C10: % | D10: R$
A12: 5.1 | B12: GRUPO A - ENCARGOS SOCIAIS SOBRE A FOLHA DE PAGAMENTO | C12: =SUM(C13:C21) -> 0 | D12: =SUM(D13:D21) -> 0
A13: 5.1.1 | B13: Instituto Nacional de Securidade Social - INSS | D13: =ROUND(($B$8*C13/100),2) -> 0
A14: 5.1.2 | B14: Serviço Social da Indústria - SESI | D14: =ROUND(($B$8*C14/100),2) -> 0
A15: 5.1.3 | B15: Serviço Nacional de Aprendizagem Industrial - SENAI | D15: =ROUND(($B$8*C15/100),2) -> 0
A16: 5.1.4 | B16: Instituto Nacional de Colonização e Reforma Agrária - INCRA | D16: =ROUND(($B$8*C16/100),2) -> 0
A17: 5.1.5 | B17: Serviço de Apoio a Pequena e Média Empresa - SEBRAE | D17: =ROUND(($B$8*C17/100),2) -> 0
A18: 5.1.6 | B18: Salário Educação | D18: =ROUND(($B$8*C18/100),2) -> 0
A19: 5.1.7 | B19: Seguro contra os Riscos de Acidente de Trabalho | D19: =ROUND(($B$8*C19/100),2) -> 0
A20: 5.1.8 | B20: Fundo de Garantia por Tempo de Serviço - FGTS | D20: =ROUND(($B$8*C20/100),2) -> 0
A21: 5.1.9 | B21: Serviço Social da Construção Civil do Estado de Minas Gerais - SECONCI | D21: =ROUND(($B$8*C21/100),2) -> 0
A23: 5.2 | B23: GRUPO B | C23: =SUM(C24:C30) -> 0 | D23: =SUM(D24:D30) -> 0
A24: 5.2.1 | B24: Auxílio enfermidade | D24: =ROUND(($B$8*C24/100),2) -> 0
A25: 5.2.2 | B25: Décimo terceiro salário | D25: =ROUND(($B$8*C25/100),2) -> 0
A26: 5.2.3 | B26: Licença paternidade | D26: =ROUND(($B$8*C26/100),2) -> 0
A27: 5.2.4 | B27: Faltas justificadas | D27: =ROUND(($B$8*C27/100),2) -> 0
A28: 5.2.5 | B28: Auxílio acidente de trabalho | D28: =ROUND(($B$8*C28/100),2) -> 0
A29: 5.2.6 | B29: Férias gozadas | D29: =ROUND(($B$8*C29/100),2) -> 0
A30: 5.2.7 | B30: Salário Maternidade | D30: =ROUND(($B$8*C30/100),2) -> 0
A32: 5.3 | B32: GRUPO C - ENCARGOS DE DEMISSÃO | C32: =SUM(C33:C37) -> 0 | D32: =SUM(D33:D37) -> 0
A33: 5.3.1 | B33: Aviso prévio indenizado | D33: =ROUND(($B$8*C33/100),2) -> 0
A34: 5.3.2 | B34: Aviso prévio trabalhado | D34: =ROUND(($B$8*C34/100),2) -> 0
A35: 5.3.3 | B35: Férias indenizadas | D35: =ROUND(($B$8*C35/100),2) -> 0
A36: 5.3.4 | B36: Depósito rescisão sem justa causa | D36: =ROUND(($B$8*C36/100),2) -> 0
A37: 5.3.5 | B37: Indenização adicional | D37: =ROUND(($B$8*C37/100),2) -> 0
A39: 5.4 | B39: GRUPO D - REINCIDÊNCIAS | C39: =SUM(C40:C41) -> 0 | D39: =SUM(D40:D41) -> 0
A40: 5.4.1 | B40: Reincidência do Grupo A sobre o Grupo B | D40: =ROUND(($B$8*C40/100),2) -> 0
A41: 5.4.2 | B41: Reincidência do Grupo A sobre aviso prévio trabalhado e reincidência do FGTS sobre aviso prévio indenizado | D41: =ROUND(($B$8*C41/100),2) -> 0
A43: TOTAL DE ENCARGOS SOCIAIS | C43: =C12+C23+C32+C39 -> 0 | D43: =D12+D23+D32+D39 -> 0
A45: 6 | B45: ENCARGOS COMPLEMENTARES | C45: % | D45: R$
A46: 6.1 | B46: Alimentação | C46: =ROUND((D46/$B$8),4)*100 -> #DIV/0!
A47: 6.2 | B47: Transportes - Vale transporte | C47: =ROUND((D47/$B$8),4)*100 -> #DIV/0!
A48: 6.3 | B48: Equipamento de Proteção Individual – EPI | C48: =ROUND((D48/$B$8),4)*100 -> #DIV/0!
...

Sheet 1.2 MOB SOCIAL
A1: PAINEL 14 | B1: 1.2 MOBILIZADOR SOCIAL
A3: Item | B3: 1.2
A4: Código | B4: P8020
A5: Data Base** | B5: 46023
A6: Fonte | B6: DNIT
A7: Descrição* | B7: Mobilizador Social
A8: Salário Base
A10: 5 | B10: ENCARGOS SOCIAIS | C10: % | D10: R$
A12: 5.1 | B12: GRUPO A - ENCARGOS SOCIAIS SOBRE A FOLHA DE PAGAMENTO | C12: =SUM(C13:C21) -> 0 | D12: =SUM(D13:D21) -> 0
A13: 5.1.1 | B13: Instituto Nacional de Securidade Social - INSS | D13: =ROUND(($B$8*C13/100),2) -> 0
A14: 5.1.2 | B14: Serviço Social da Indústria - SESI | D14: =ROUND(($B$8*C14/100),2) -> 0
A15: 5.1.3 | B15: Serviço Nacional de Aprendizagem Industrial - SENAI | D15: =ROUND(($B$8*C15/100),2) -> 0
A16: 5.1.4 | B16: Instituto Nacional de Colonização e Reforma Agrária - INCRA | D16: =ROUND(($B$8*C16/100),2) -> 0
A17: 5.1.5 | B17: Serviço de Apoio a Pequena e Média Empresa - SEBRAE | D17: =ROUND(($B$8*C17/100),2) -> 0
A18: 5.1.6 | B18: Salário Educação | D18: =ROUND(($B$8*C18/100),2) -> 0
A19: 5.1.7 | B19: Seguro contra os Riscos de Acidente de Trabalho | D19: =ROUND(($B$8*C19/100),2) -> 0
A20: 5.1.8 | B20: Fundo de Garantia por Tempo de Serviço - FGTS | D20: =ROUND(($B$8*C20/100),2) -> 0
A21: 5.1.9 | B21: Serviço Social da Construção Civil do Estado de Minas Gerais - SECONCI | D21: =ROUND(($B$8*C21/100),2) -> 0
A23: 5.2 | B23: GRUPO B | C23: =SUM(C24:C30) -> 0 | D23: =SUM(D24:D30) -> 0
A24: 5.2.1 | B24: Auxílio enfermidade | D24: =ROUND(($B$8*C24/100),2) -> 0
A25: 5.2.2 | B25: Décimo terceiro salário | D25: =ROUND(($B$8*C25/100),2) -> 0
A26: 5.2.3 | B26: Licença paternidade | D26: =ROUND(($B$8*C26/100),2) -> 0
A27: 5.2.4 | B27: Faltas justificadas | D27: =ROUND(($B$8*C27/100),2) -> 0
A28: 5.2.5 | B28: Auxílio acidente de trabalho | D28: =ROUND(($B$8*C28/100),2) -> 0
A29: 5.2.6 | B29: Férias gozadas | D29: =ROUND(($B$8*C29/100),2) -> 0
A30: 5.2.7 | B30: Salário Maternidade | D30: =ROUND(($B$8*C30/100),2) -> 0
A32: 5.3 | B32: GRUPO C - ENCARGOS DE DEMISSÃO | C32: =SUM(C33:C37) -> 0 | D32: =SUM(D33:D37) -> 0
A33: 5.3.1 | B33: Aviso prévio indenizado | D33: =ROUND(($B$8*C33/100),2) -> 0
A34: 5.3.2 | B34: Aviso prévio trabalhado | D34: =ROUND(($B$8*C34/100),2) -> 0
A35: 5.3.3 | B35: Férias indenizadas | D35: =ROUND(($B$8*C35/100),2) -> 0
A36: 5.3.4 | B36: Depósito rescisão sem justa causa | D36: =ROUND(($B$8*C36/100),2) -> 0
A37: 5.3.5 | B37: Indenização adicional | D37: =ROUND(($B$8*C37/100),2) -> 0
A39: 5.4 | B39: GRUPO D - REINCIDÊNCIAS | C39: =SUM(C40:C41) -> 0 | D39: =SUM(D40:D41) -> 0
A40: 5.4.1 | B40: Reincidência do Grupo A sobre o Grupo B | D40: =ROUND(($B$8*C40/100),2) -> 0
A41: 5.4.2 | B41: Reincidência do Grupo A sobre aviso prévio trabalhado e reincidência do FGTS sobre aviso prévio indenizado | D41: =ROUND(($B$8*C41/100),2) -> 0
A43: TOTAL DE ENCARGOS SOCIAIS | C43: =C12+C23+C32+C39 -> 0 | D43: =D12+D23+D32+D39 -> 0
A45: 6 | B45: ENCARGOS COMPLEMENTARES | C45: % | D45: R$
A46: 6.1 | B46: Alimentação | C46: =ROUND((D46/$B$8),4)*100 -> #DIV/0!
A47: 6.2 | B47: Transportes - Vale transporte | C47: =ROUND((D47/$B$8),4)*100 -> #DIV/0!
A48: 6.3 | B48: Equipamento de Proteção Individual – EPI | C48: =ROUND((D48/$B$8),4)*100 -> #DIV/0!
...

Sheet 1.3 AUX ADM
A1: PAINEL 15 | B1: 1.4 AUXILIAR ADMINISTRATIVO
A3: Item | B3: 1.3
A4: Código | B4: 40812
A5: Data Base | B5: 46023
A6: Fonte | B6: SINAPI
A7: Descrição* | B7: Auxiliar Administrativo
A8: Salário Base
A10: 5 | B10: ENCARGOS SOCIAIS | C10: % | D10: R$
A12: 5.1 | B12: GRUPO A - ENCARGOS SOCIAIS SOBRE A FOLHA DE PAGAMENTO | C12: =SUM(C13:C21) -> 0 | D12: =SUM(D13:D21) -> 0
A13: 5.1.1 | B13: Instituto Nacional de Securidade Social - INSS | D13: =ROUND(($B$8*C13/100),2) -> 0
A14: 5.1.2 | B14: Serviço Social da Indústria - SESI | D14: =ROUND(($B$8*C14/100),2) -> 0
A15: 5.1.3 | B15: Serviço Nacional de Aprendizagem Industrial - SENAI | D15: =ROUND(($B$8*C15/100),2) -> 0
A16: 5.1.4 | B16: Instituto Nacional de Colonização e Reforma Agrária - INCRA | D16: =ROUND(($B$8*C16/100),2) -> 0
A17: 5.1.5 | B17: Serviço de Apoio a Pequena e Média Empresa - SEBRAE | D17: =ROUND(($B$8*C17/100),2) -> 0
A18: 5.1.6 | B18: Salário Educação | D18: =ROUND(($B$8*C18/100),2) -> 0
A19: 5.1.7 | B19: Seguro contra os Riscos de Acidente de Trabalho | D19: =ROUND(($B$8*C19/100),2) -> 0
A20: 5.1.8 | B20: Fundo de Garantia por Tempo de Serviço - FGTS | D20: =ROUND(($B$8*C20/100),2) -> 0
A21: 5.1.9 | B21: Serviço Social da Construção Civil do Estado de Minas Gerais - SECONCI | D21: =ROUND(($B$8*C21/100),2) -> 0
A23: 5.2 | B23: GRUPO B | C23: =SUM(C24:C30) -> 0 | D23: =SUM(D24:D30) -> 0
A24: 5.2.1 | B24: Auxílio enfermidade | D24: =ROUND(($B$8*C24/100),2) -> 0
A25: 5.2.2 | B25: Décimo terceiro salário | D25: =ROUND(($B$8*C25/100),2) -> 0
A26: 5.2.3 | B26: Licença paternidade | D26: =ROUND(($B$8*C26/100),2) -> 0
A27: 5.2.4 | B27: Faltas justificadas | D27: =ROUND(($B$8*C27/100),2) -> 0
A28: 5.2.5 | B28: Auxílio acidente de trabalho | D28: =ROUND(($B$8*C28/100),2) -> 0
A29: 5.2.6 | B29: Férias gozadas | D29: =ROUND(($B$8*C29/100),2) -> 0
A30: 5.2.7 | B30: Salário Maternidade | D30: =ROUND(($B$8*C30/100),2) -> 0
A32: 5.3 | B32: GRUPO C - ENCARGOS DE DEMISSÃO | C32: =SUM(C33:C37) -> 0 | D32: =SUM(D33:D37) -> 0
A33: 5.3.1 | B33: Aviso prévio indenizado | D33: =ROUND(($B$8*C33/100),2) -> 0
A34: 5.3.2 | B34: Aviso prévio trabalhado | D34: =ROUND(($B$8*C34/100),2) -> 0
A35: 5.3.3 | B35: Férias indenizadas | D35: =ROUND(($B$8*C35/100),2) -> 0
A36: 5.3.4 | B36: Depósito rescisão sem justa causa | D36: =ROUND(($B$8*C36/100),2) -> 0
A37: 5.3.5 | B37: Indenização adicional | D37: =ROUND(($B$8*C37/100),2) -> 0
A39: 5.4 | B39: GRUPO D - REINCIDÊNCIAS | C39: =SUM(C40:C41) -> #REF! | D39: =SUM(D40:D41) -> #REF!
A40: 5.4.1 | B40: Reincidência do Grupo A sobre o Grupo B | C40: =#REF! -> #REF! | D40: =ROUND(($B$8*C40/100),2) -> #REF!
A41: 5.4.2 | B41: Reincidência do Grupo A sobre aviso prévio trabalhado e reincidência do FGTS sobre aviso prévio indenizado | C41: =#REF! -> #REF! | D41: =ROUND(($B$8*C41/100),2) -> #REF!
A43: TOTAL DE ENCARGOS SOCIAIS | C43: =C12+C23+C32+C39 -> #REF! | D43: =D12+D23+D32+D39 -> #REF!
A45: 6 | B45: ENCARGOS COMPLEMENTARES | C45: % | D45: R$
A46: 6.1 | B46: Alimentação | C46: =ROUND((D46/$B$8),4)*100 -> #DIV/0!
A47: 6.2 | B47: Transportes - Vale transporte | C47: =ROUND((D47/$B$8),4)*100 -> #DIV/0!
A48: 6.3 | B48: Equipamento de Proteção Individual – EPI | C48: =ROUND((D48/$B$8),4)*100 -> #DIV/0!
...

Sheet 1.4 ENC OPER
A1: PAINEL 16 | B1: 1.5 ENCARREGADO OPERACIONAL
A3: Item | B3: 1.4
A4: Código | B4: 40818
A5: Data Base | B5: 45017
A6: Fonte | B6: SINAPI
A7: Descrição | B7: Encarregado Operacional
A8: Salário Base
A10: 5 | B10: ENCARGOS SOCIAIS | C10: % | D10: R$
A12: 5.1 | B12: GRUPO A - ENCARGOS SOCIAIS SOBRE A FOLHA DE PAGAMENTO | C12: =SUM(C13:C21) -> 0 | D12: =SUM(D13:D21) -> 0
A13: 5.1.1 | B13: Instituto Nacional de Securidade Social - INSS | D13: =ROUND(($B$8*C13/100),2) -> 0
A14: 5.1.2 | B14: Serviço Social da Indústria - SESI | D14: =ROUND(($B$8*C14/100),2) -> 0
A15: 5.1.3 | B15: Serviço Nacional de Aprendizagem Industrial - SENAI | D15: =ROUND(($B$8*C15/100),2) -> 0
A16: 5.1.4 | B16: Instituto Nacional de Colonização e Reforma Agrária - INCRA | D16: =ROUND(($B$8*C16/100),2) -> 0
A17: 5.1.5 | B17: Serviço de Apoio a Pequena e Média Empresa - SEBRAE | D17: =ROUND(($B$8*C17/100),2) -> 0
A18: 5.1.6 | B18: Salário Educação | D18: =ROUND(($B$8*C18/100),2) -> 0
A19: 5.1.7 | B19: Seguro contra os Riscos de Acidente de Trabalho | D19: =ROUND(($B$8*C19/100),2) -> 0
A20: 5.1.8 | B20: Fundo de Garantia por Tempo de Serviço - FGTS | D20: =ROUND(($B$8*C20/100),2) -> 0
A21: 5.1.9 | B21: Serviço Social da Construção Civil do Estado de Minas Gerais - SECONCI | D21: =ROUND(($B$8*C21/100),2) -> 0
A23: 5.2 | B23: GRUPO B | C23: =SUM(C24:C30) -> 0 | D23: =SUM(D24:D30) -> 0
A24: 5.2.1 | B24: Auxílio enfermidade | D24: =ROUND(($B$8*C24/100),2) -> 0
A25: 5.2.2 | B25: Décimo terceiro salário | D25: =ROUND(($B$8*C25/100),2) -> 0
A26: 5.2.3 | B26: Licença paternidade | D26: =ROUND(($B$8*C26/100),2) -> 0
A27: 5.2.4 | B27: Faltas justificadas | D27: =ROUND(($B$8*C27/100),2) -> 0
A28: 5.2.5 | B28: Auxílio acidente de trabalho | D28: =ROUND(($B$8*C28/100),2) -> 0
A29: 5.2.6 | B29: Férias gozadas | D29: =ROUND(($B$8*C29/100),2) -> 0
A30: 5.2.7 | B30: Salário Maternidade | D30: =ROUND(($B$8*C30/100),2) -> 0
A32: 5.3 | B32: GRUPO C - ENCARGOS DE DEMISSÃO | C32: =SUM(C33:C37) -> 0 | D32: =SUM(D33:D37) -> 0
A33: 5.3.1 | B33: Aviso prévio indenizado | D33: =ROUND(($B$8*C33/100),2) -> 0
A34: 5.3.2 | B34: Aviso prévio trabalhado | D34: =ROUND(($B$8*C34/100),2) -> 0
A35: 5.3.3 | B35: Férias indenizadas | D35: =ROUND(($B$8*C35/100),2) -> 0
A36: 5.3.4 | B36: Depósito rescisão sem justa causa | D36: =ROUND(($B$8*C36/100),2) -> 0
A37: 5.3.5 | B37: Indenização adicional | D37: =ROUND(($B$8*C37/100),2) -> 0
A39: 5.4 | B39: GRUPO D - REINCIDÊNCIAS | C39: =SUM(C40:C41) -> 0 | D39: =SUM(D40:D41) -> 0
A40: 5.4.1 | B40: Reincidência do Grupo A sobre o Grupo B | D40: =ROUND(($B$8*C40/100),2) -> 0
A41: 5.4.2 | B41: Reincidência do Grupo A sobre aviso prévio trabalhado e reincidência do FGTS sobre aviso prévio indenizado | D41: =ROUND(($B$8*C41/100),2) -> 0
A43: TOTAL DE ENCARGOS SOCIAIS | C43: =C12+C23+C32+C39 -> 0 | D43: =D12+D23+D32+D39 -> 0
A45: 6 | B45: ENCARGOS COMPLEMENTARES | C45: % | D45: R$
A46: 6.1 | B46: Alimentação | C46: =ROUND((D46/$B$8),4)*100 -> #DIV/0!
A47: 6.2 | B47: Transportes - Vale transporte | C47: =ROUND((D47/$B$8),4)*100 -> #DIV/0!
A48: 6.3 | B48: Equipamento de Proteção Individual – EPI | C48: =ROUND((D48/$B$8),4)*100 -> #DIV/0!
...

Sheet 1.5 MOT
A1: PAINEL 17 | B1: 1.6 MOTORISTA
A3: Item | B3: 1.5
A4: Código | B4: 10512
A5: Data Base | B5: 46023
A6: Fonte | B6: SINAPI
A7: Descrição | B7: Motorista
A8: Salário Base
A10: 5 | B10: ENCARGOS SOCIAIS | C10: % | D10: R$
A12: 5.1 | B12: GRUPO A - ENCARGOS SOCIAIS SOBRE A FOLHA DE PAGAMENTO | C12: =SUM(C13:C21) -> 0 | D12: =SUM(D13:D21) -> 0
A13: 5.1.1 | B13: Instituto Nacional de Securidade Social - INSS | D13: =ROUND(($B$8*C13/100),2) -> 0
A14: 5.1.2 | B14: Serviço Social da Indústria - SESI | D14: =ROUND(($B$8*C14/100),2) -> 0
A15: 5.1.3 | B15: Serviço Nacional de Aprendizagem Industrial - SENAI | D15: =ROUND(($B$8*C15/100),2) -> 0
A16: 5.1.4 | B16: Instituto Nacional de Colonização e Reforma Agrária - INCRA | D16: =ROUND(($B$8*C16/100),2) -> 0
A17: 5.1.5 | B17: Serviço de Apoio a Pequena e Média Empresa - SEBRAE | D17: =ROUND(($B$8*C17/100),2) -> 0
A18: 5.1.6 | B18: Salário Educação | D18: =ROUND(($B$8*C18/100),2) -> 0
A19: 5.1.7 | B19: Seguro contra os Riscos de Acidente de Trabalho | D19: =ROUND(($B$8*C19/100),2) -> 0
A20: 5.1.8 | B20: Fundo de Garantia por Tempo de Serviço - FGTS | D20: =ROUND(($B$8*C20/100),2) -> 0
A21: 5.1.9 | B21: Serviço Social da Construção Civil do Estado de Minas Gerais - SECONCI | D21: =ROUND(($B$8*C21/100),2) -> 0
A23: 5.2 | B23: GRUPO B | C23: =SUM(C24:C30) -> 0 | D23: =SUM(D24:D30) -> 0
A24: 5.2.1 | B24: Auxílio enfermidade | D24: =ROUND(($B$8*C24/100),2) -> 0
A25: 5.2.2 | B25: Décimo terceiro salário | D25: =ROUND(($B$8*C25/100),2) -> 0
A26: 5.2.3 | B26: Licença paternidade | D26: =ROUND(($B$8*C26/100),2) -> 0
A27: 5.2.4 | B27: Faltas justificadas | D27: =ROUND(($B$8*C27/100),2) -> 0
A28: 5.2.5 | B28: Auxílio acidente de trabalho | D28: =ROUND(($B$8*C28/100),2) -> 0
A29: 5.2.6 | B29: Férias gozadas | D29: =ROUND(($B$8*C29/100),2) -> 0
A30: 5.2.7 | B30: Salário Maternidade | D30: =ROUND(($B$8*C30/100),2) -> 0
A32: 5.3 | B32: GRUPO C - ENCARGOS DE DEMISSÃO | C32: =SUM(C33:C37) -> 0 | D32: =SUM(D33:D37) -> 0
A33: 5.3.1 | B33: Aviso prévio indenizado | D33: =ROUND(($B$8*C33/100),2) -> 0
A34: 5.3.2 | B34: Aviso prévio trabalhado | D34: =ROUND(($B$8*C34/100),2) -> 0
A35: 5.3.3 | B35: Férias indenizadas | D35: =ROUND(($B$8*C35/100),2) -> 0
A36: 5.3.4 | B36: Depósito rescisão sem justa causa | D36: =ROUND(($B$8*C36/100),2) -> 0
A37: 5.3.5 | B37: Indenização adicional | D37: =ROUND(($B$8*C37/100),2) -> 0
A39: 5.4 | B39: GRUPO D - REINCIDÊNCIAS | C39: =SUM(C40:C41) -> 0 | D39: =SUM(D40:D41) -> 0
A40: 5.4.1 | B40: Reincidência do Grupo A sobre o Grupo B | D40: =ROUND(($B$8*C40/100),2) -> 0
A41: 5.4.2 | B41: Reincidência do Grupo A sobre aviso prévio trabalhado e reincidência do FGTS sobre aviso prévio indenizado | D41: =ROUND(($B$8*C41/100),2) -> 0
A43: TOTAL DE ENCARGOS SOCIAIS | C43: =C12+C23+C32+C39 -> 0 | D43: =D12+D23+D32+D39 -> 0
A45: 6 | B45: ENCARGOS COMPLEMENTARES | C45: % | D45: R$
A46: 6.1 | B46: Alimentação | C46: =ROUND((D46/$B$8),4)*100 -> #DIV/0!
A47: 6.2 | B47: Transportes - Vale transporte | C47: =ROUND((D47/$B$8),4)*100 -> #DIV/0!
A48: 6.3 | B48: Equipamento de Proteção Individual – EPI | C48: =ROUND((D48/$B$8),4)*100 -> #DIV/0!
...

Sheet 1.6 PEDR
A1: PAINEL 18 | B1: 1.8 PEDREIRO
A3: Item | B3: 1.6
A4: Código | B4: 41065
A5: Data Base | B5: 46023
A6: Fonte | B6: SINAPI
A7: Descrição | B7: Pedreiro
A8: Salário Base
A10: 5 | B10: ENCARGOS SOCIAIS | C10: % | D10: R$
A12: 5.1 | B12: GRUPO A - ENCARGOS SOCIAIS SOBRE A FOLHA DE PAGAMENTO | C12: =SUM(C13:C21) -> 0 | D12: =SUM(D13:D21) -> 0
A13: 5.1.1 | B13: Instituto Nacional de Securidade Social - INSS | D13: =ROUND(($B$8*C13/100),2) -> 0
A14: 5.1.2 | B14: Serviço Social da Indústria - SESI | D14: =ROUND(($B$8*C14/100),2) -> 0
A15: 5.1.3 | B15: Serviço Nacional de Aprendizagem Industrial - SENAI | D15: =ROUND(($B$8*C15/100),2) -> 0
A16: 5.1.4 | B16: Instituto Nacional de Colonização e Reforma Agrária - INCRA | D16: =ROUND(($B$8*C16/100),2) -> 0
A17: 5.1.5 | B17: Serviço de Apoio a Pequena e Média Empresa - SEBRAE | D17: =ROUND(($B$8*C17/100),2) -> 0
A18: 5.1.6 | B18: Salário Educação | D18: =ROUND(($B$8*C18/100),2) -> 0
A19: 5.1.7 | B19: Seguro contra os Riscos de Acidente de Trabalho | D19: =ROUND(($B$8*C19/100),2) -> 0
A20: 5.1.8 | B20: Fundo de Garantia por Tempo de Serviço - FGTS | D20: =ROUND(($B$8*C20/100),2) -> 0
A21: 5.1.9 | B21: Serviço Social da Construção Civil do Estado de Minas Gerais - SECONCI | D21: =ROUND(($B$8*C21/100),2) -> 0
A23: 5.2 | B23: GRUPO B | C23: =SUM(C24:C30) -> 0 | D23: =SUM(D24:D30) -> 0
A24: 5.2.1 | B24: Auxílio enfermidade | D24: =ROUND(($B$8*C24/100),2) -> 0
A25: 5.2.2 | B25: Décimo terceiro salário | D25: =ROUND(($B$8*C25/100),2) -> 0
A26: 5.2.3 | B26: Licença paternidade | D26: =ROUND(($B$8*C26/100),2) -> 0
A27: 5.2.4 | B27: Faltas justificadas | D27: =ROUND(($B$8*C27/100),2) -> 0
A28: 5.2.5 | B28: Auxílio acidente de trabalho | D28: =ROUND(($B$8*C28/100),2) -> 0
A29: 5.2.6 | B29: Férias gozadas | D29: =ROUND(($B$8*C29/100),2) -> 0
A30: 5.2.7 | B30: Salário Maternidade | D30: =ROUND(($B$8*C30/100),2) -> 0
A32: 5.3 | B32: GRUPO C - ENCARGOS DE DEMISSÃO | C32: =SUM(C33:C37) -> 0 | D32: =SUM(D33:D37) -> 0
A33: 5.3.1 | B33: Aviso prévio indenizado | D33: =ROUND(($B$8*C33/100),2) -> 0
A34: 5.3.2 | B34: Aviso prévio trabalhado | D34: =ROUND(($B$8*C34/100),2) -> 0
A35: 5.3.3 | B35: Férias indenizadas | D35: =ROUND(($B$8*C35/100),2) -> 0
A36: 5.3.4 | B36: Depósito rescisão sem justa causa | D36: =ROUND(($B$8*C36/100),2) -> 0
A37: 5.3.5 | B37: Indenização adicional | D37: =ROUND(($B$8*C37/100),2) -> 0
A39: 5.4 | B39: GRUPO D - REINCIDÊNCIAS | C39: =SUM(C40:C41) -> 0 | D39: =SUM(D40:D41) -> 0
A40: 5.4.1 | B40: Reincidência do Grupo A sobre o Grupo B | D40: =ROUND(($B$8*C40/100),2) -> 0
A41: 5.4.2 | B41: Reincidência do Grupo A sobre aviso prévio trabalhado e reincidência do FGTS sobre aviso prévio indenizado | D41: =ROUND(($B$8*C41/100),2) -> 0
A43: TOTAL DE ENCARGOS SOCIAIS | C43: =C12+C23+C32+C39 -> 0 | D43: =D12+D23+D32+D39 -> 0
A45: 6 | B45: ENCARGOS COMPLEMENTARES | C45: % | D45: R$
A46: 6.1 | B46: Alimentação | C46: =ROUND((D46/$B$8),4)*100 -> #DIV/0!
A47: 6.2 | B47: Transportes - Vale transporte | C47: =ROUND((D47/$B$8),4)*100 -> #DIV/0!
A48: 6.3 | B48: Equipamento de Proteção Individual – EPI | C48: =ROUND((D48/$B$8),4)*100 -> #DIV/0!
...

Sheet 1.7 SERV
A1: PAINEL 19 | B1: 1.9 SERVENTE
A3: Item | B3: 1.7
A4: Código | B4: 6111
A5: Data Base | B5: 46023
A6: Fonte | B6: SINAPI
A7: Descrição | B7: Servente
A8: Salário Base
A10: 5 | B10: ENCARGOS SOCIAIS | C10: % | D10: R$
A12: 5.1 | B12: GRUPO A - ENCARGOS SOCIAIS SOBRE A FOLHA DE PAGAMENTO | C12: =SUM(C13:C21) -> 0 | D12: =SUM(D13:D21) -> 0
A13: 5.1.1 | B13: Instituto Nacional de Securidade Social - INSS | D13: =ROUND(($B$8*C13/100),2) -> 0
A14: 5.1.2 | B14: Serviço Social da Indústria - SESI | D14: =ROUND(($B$8*C14/100),2) -> 0
A15: 5.1.3 | B15: Serviço Nacional de Aprendizagem Industrial - SENAI | D15: =ROUND(($B$8*C15/100),2) -> 0
A16: 5.1.4 | B16: Instituto Nacional de Colonização e Reforma Agrária - INCRA | D16: =ROUND(($B$8*C16/100),2) -> 0
A17: 5.1.5 | B17: Serviço de Apoio a Pequena e Média Empresa - SEBRAE | D17: =ROUND(($B$8*C17/100),2) -> 0
A18: 5.1.6 | B18: Salário Educação | D18: =ROUND(($B$8*C18/100),2) -> 0
A19: 5.1.7 | B19: Seguro contra os Riscos de Acidente de Trabalho | D19: =ROUND(($B$8*C19/100),2) -> 0
A20: 5.1.8 | B20: Fundo de Garantia por Tempo de Serviço - FGTS | D20: =ROUND(($B$8*C20/100),2) -> 0
A21: 5.1.9 | B21: Serviço Social da Construção Civil do Estado de Minas Gerais - SECONCI | D21: =ROUND(($B$8*C21/100),2) -> 0
A23: 5.2 | B23: GRUPO B | C23: =SUM(C24:C30) -> 0 | D23: =SUM(D24:D30) -> 0
A24: 5.2.1 | B24: Auxílio enfermidade | D24: =ROUND(($B$8*C24/100),2) -> 0
A25: 5.2.2 | B25: Décimo terceiro salário | D25: =ROUND(($B$8*C25/100),2) -> 0
A26: 5.2.3 | B26: Licença paternidade | D26: =ROUND(($B$8*C26/100),2) -> 0
A27: 5.2.4 | B27: Faltas justificadas | D27: =ROUND(($B$8*C27/100),2) -> 0
A28: 5.2.5 | B28: Auxílio acidente de trabalho | D28: =ROUND(($B$8*C28/100),2) -> 0
A29: 5.2.6 | B29: Férias gozadas | D29: =ROUND(($B$8*C29/100),2) -> 0
A30: 5.2.7 | B30: Salário Maternidade | D30: =ROUND(($B$8*C30/100),2) -> 0
A32: 5.3 | B32: GRUPO C - ENCARGOS DE DEMISSÃO | C32: =SUM(C33:C37) -> 0 | D32: =SUM(D33:D37) -> 0
A33: 5.3.1 | B33: Aviso prévio indenizado | D33: =ROUND(($B$8*C33/100),2) -> 0
A34: 5.3.2 | B34: Aviso prévio trabalhado | D34: =ROUND(($B$8*C34/100),2) -> 0
A35: 5.3.3 | B35: Férias indenizadas | D35: =ROUND(($B$8*C35/100),2) -> 0
A36: 5.3.4 | B36: Depósito rescisão sem justa causa | D36: =ROUND(($B$8*C36/100),2) -> 0
A37: 5.3.5 | B37: Indenização adicional | D37: =ROUND(($B$8*C37/100),2) -> 0
A39: 5.4 | B39: GRUPO D - REINCIDÊNCIAS | C39: =SUM(C40:C41) -> 0 | D39: =SUM(D40:D41) -> 0
A40: 5.4.1 | B40: Reincidência do Grupo A sobre o Grupo B | D40: =ROUND(($B$8*C40/100),2) -> 0
A41: 5.4.2 | B41: Reincidência do Grupo A sobre aviso prévio trabalhado e reincidência do FGTS sobre aviso prévio indenizado | D41: =ROUND(($B$8*C41/100),2) -> 0
A43: TOTAL DE ENCARGOS SOCIAIS | C43: =C12+C23+C32+C39 -> 0 | D43: =D12+D23+D32+D39 -> 0
A45: 6 | B45: ENCARGOS COMPLEMENTARES | C45: % | D45: R$
A46: 6.1 | B46: Alimentação | C46: =ROUND((D46/$B$8),4)*100 -> #DIV/0!
A47: 6.2 | B47: Transportes - Vale transporte | C47: =ROUND((D47/$B$8),4)*100 -> #DIV/0!
A48: 6.3 | B48: Equipamento de Proteção Individual – EPI | C48: =ROUND((D48/$B$8),4)*100 -> #DIV/0!
...

Sheet 7 FATOR K
A1: PAINEL 25 | B1: CÁLCULO DO K DO PROJETO
A3: Os K's foram calculados através de fórmulas estabelecidas pelo Acórdão 1787/2011. Os parâmetros utilizados foram estabelecidos pela Nota Técnica Conjunta nº 01/2012/SIP/SAF da Agência Nacional de Águas. Os valores para Administração, Risco e Despesas Financeiras, Lucro e Despesas Fiscais e Legais foram estabelecidas com base na análise do BDI x Fator K
A5: DETALHAMENTO DO FATOR K
A6: ES1 - ENCARGOS SOCIAIS
A7: ES2 - ENCARGOS COMPLEMENTARES*
A8: ES - ENCARGOS SOCIAIS + ENCARGOS COMPLEMENTARES | K8: =K6+K7 -> 0
A9: ES - EQUIPE TEMPORÁRIA
A10: ARDF - ADMINISTRAÇÃO, RISCO E DESPESAS FINANCEIRAS | K10: =K44 -> 0
A11: L - LUCRO | K11: =J38 -> 0
A12: DFL - DESPESAS FISCAIS LEGAIS - DFL=(PIS+COFINS+ISS)/(1-PIS+COFINS+ISS) | K12: =J13/(1-J13) -> 0
A13: PIS + COFINS + ISS | J13: =J14+J15+J16 -> 0
A14: PIS
A15: COFINS
A16: ISS
A18: K1 | B18: MÃO DE OBRA - EQUIPE PERMANENTE | C18: K1 = [(1+ES+ARDF)*(1+L)*(1+DFL)] | K18: =(1+K8+K10)*(1+K11)*(1+K12) -> 1
A19: K2 | B19: MÃO DE OBRA - EQUIPE TEMPORÁRIA | C19: K2 = [(1+ESA+ARDF)*(1+L)*(1+DFL)] | K19: =ROUND(((1+K9+K10)*(1+K11)*(1+K12)),2) -> 1
A20: K3 | B20: SERVIÇOS TÉCNICOS E DE APOIO | C20: K3 = [(1+ARDF)*(1+L)*(1+DFL)] | K20: =ROUND(((1+K10)*(1+K11)*(1+K12)),2) -> 1
A21: K4 | B21: DESPESAS DIRETAS | C21: K4 = (1+L)*(1+DFL) | K21: =ROUND(((1+K11)*(1+K12)),2) -> 1
A23: *Os encargos complementares e, consequentemente, o FATOR K1 serão definidos de maneira específica para cada profissional da equipe.
A25: QUADRO COMPARATIVO DA COMPOSIÇÃO DO BDI E FATOR K
A27: TIPO DE OBRA DO EMPREENDIMENTO | J27: DESONERAÇÃO
A28: CONSTRUÇÃO DE REDES DE ABASTECIMENTO DE ÁGUA, COLETA DE ESGOTO E CONSTRUÇÕES CORRELATAS | J28: Sim
A29: Conforme legislação tributária municipal, definir estimativa de percentual da base de cálculo para o ISS:
A30: Sobre a base de cálculo, definir a respectiva alíquota do ISS (entre 2% e 5%):
A32: ITENS | E32: SIGLAS | F32: % ADOTADO | G32: % MODIFICADO | H32: SITUAÇÃO | I32: INTERVALO DE ADMISSIBILIDADE
I33: 1º Quartil | J33: Médio | K33: 3º Quartil
A34: Administração Central | E34: AC | H34: -
A35: Seguro e Garantia | E35: SG | H35: -
A36: Risco | E36: R | H36: -
A37: Despesas Financeiras | E37: DF | H37: -
A38: Lucro | E38: L | H38: -
A39: Tributos (impostos COFINS 3%, e PIS 0,65%) | E39: CP | H39: -
A40: Tributos (ISS, variável de acordo com o município) | E40: ISS | H40: -
A41: Tributos (Contribuição Previdenciária - 0% ou 4,5%, conforme Lei 12.844/2013 - Desoneração) | E41: CPRB | H41: =IF(AND(G41>=I41, G41<=K41), "OK", "Não OK") -> OK
A42: BDI SEM desoneração (Fórmula Acórdão TCU) | E42: BDI PAD | F42: =ROUND((((1+F34+F35+F36)*(1+F37)*(1+F38)/(1-(F39+F40)))-1),4) -> 0 | G42: =ROUND((((1+G34+G35+G36)*(1+G37)*(1+G38)/(1-(G39+G40)))-1),4) -> 0 | H42: =IF(OR(AND(G42>=I42, G42<=K42)), "OK", "NÃO OK") -> NÃO OK | I42: 0.2076 | J42: 0.2418 | K42: 0.2644
A43: BDI COM desoneração | E43: BDI DES | F43: =ROUND((((1+F34+F35+F36)*(1+F37)*(1+F38)/(1-(F39+F40+F41)))-1),4) -> 0 | G43: =ROUND((((1+G34+G35+G36)*(1+G37)*(1+G38)/(1-(G39+G40+G41)))-1),4) -> 0 | H43: =H42 -> NÃO OK
J44: ARDF | K44: =SUM(J34:J37) -> 0
A46: Os valores de referência foram retirados da publicação Orientações para Elaboração de Planilhas Orçamentárias de Obras Públicas, do TCU. Os valores de BDI foram calculados com o emprego da fórmula:
E47: =IF(J28="Sim","BDI.DES =","BDI.PAD =") -> BDI.DES = | F47: (1+AC + S + R + G)*(1 + DF)*(1+L) | H47: -1
F48: (1-CP-ISS-CRPB)

Sheet Orç_20-30
A10: GOVERNO DO ESTADO DO RIO DE JANEIRO
A11: SECRETARIA DE ESTADO DO AMBIENTE - SEA
B13: Planilha Orçamentária | G13: I0 = AGO/2011
A14: Projeto: ELABORAÇÃO DE PLANO MUNICIPAL DE SANEAMENTO NAS MODALIDADES ÁGUA, ESGOTO E DRENAGEM URBANA PARA MUNICÍPIOS COM POPULAÇÃO ATÉ 15 MIL HABITANTES
A15: ITEM | B15: DESCRIÇÃO | C15: Código | D15: Unid. | E15: Quant. | F15: Preço unit. | G15: Custo total
F16: EMOP JUL/11
A17: 0 | B17: Supervisão e Suporte | G17: =SUM(G18:G20) -> #REF! | I17: h/mês | J17: nº meses | K17: nº prof.
A18: 0.1 | B18: =IF(C18="","",VLOOKUP(C18,#REF!,2,FALSE)) -> #REF! | C18: 05.105.034-0 | D18: h | E18: =I18*J18*K18 -> 240 | F18: =IF(C18="","",VLOOKUP(C18,#REF!,2,FALSE)) -> #REF! | G18: =E18*F18 -> #REF! | I18: 40 | J18: 6 | K18: 1
A19: 0.2 | B19: =IF(C19="","",VLOOKUP(C19,#REF!,2,FALSE)) -> #REF! | C19: 05.105.038-0 | D19: h | E19: =I19*J19*K19 -> 960 | F19: =IF(C19="","",VLOOKUP(C19,#REF!,2,FALSE)) -> #REF! | G19: =E19*F19 -> #REF! | I19: 160 | J19: 6 | K19: 1
A20: 0.3 | B20: =IF(C20="","",VLOOKUP(C20,#REF!,2,FALSE)) -> #REF! | C20: 05.105.041-0 | D20: h | E20: =I20*J20*K20 -> 960 | F20: =IF(C20="","",VLOOKUP(C20,#REF!,2,FALSE)) -> #REF! | G20: =E20*F20 -> #REF! | I20: 160 | J20: 6 | K20: 1
A21: 1 | B21: Plano de Trabalho (P1) e Projeto de Comunicação e Mobilização Social (P2) | G21: =SUM(G22:G29) -> #REF! | L21: 1 | M21: P1 + P2
A22: 1.1 | B22: MÃO-DE-OBRA DE ADVOGADO OU ASSESSOR JURÍDICO | D22: h | E22: =I22*J22*K22 -> 40 | F22: 53.9 | G22: =E22*F22 -> 2156 | I22: 40 | J22: 1 | K22: 1 | N22: 3719.74 | O22: =N22/160 -> 23.248375 | P22: =O22+O22*1.14 -> 49.751522
A23: 1.2 | B23: MÃO-DE-OBRA DE ASSISTENTE SOCIAL | D23: h | E23: =I23*J23*K23 -> 160 | F23: 53.9 | G23: =E23*F23 -> 8624 | I23: 160 | J23: 1 | K23: 1 | N23: 2076 | O23: =N23/160 -> 12.975 | P23: =O23+O23*1.14 -> 27.7665
A24: 1.3 | B24: MÃO-DE-OBRA DE ECONOMISTA | D24: h | E24: =I24*J24*K24 -> 0 | F24: 53.9 | G24: =E24*F24 -> 0 | I24: 160 | J24: 1 | K24: 0 | P24: 50
A25: 1.4 | B25: =IF(C25="","",VLOOKUP(C25,#REF!,2,FALSE)) -> #REF! | C25: 05.105.033-0 | D25: h | E25: =I25*J25*K25 -> 80 | F25: =IF(C25="","",VLOOKUP(C25,#REF!,2,FALSE)) -> #REF! | G25: =E25*F25 -> #REF! | I25: 80 | J25: 1 | K25: 1
A26: 1.5 | B26: =IF(C26="","",VLOOKUP(C26,#REF!,2,FALSE)) -> #REF! | C26: 05.105.032-0 | D26: h | E26: =I26*J26*K26 -> 160 | F26: =IF(C26="","",VLOOKUP(C26,#REF!,2,FALSE)) -> #REF! | G26: =E26*F26 -> #REF! | I26: 160 | J26: 1 | K26: 1
A27: 1.6 | B27: =IF(C27="","",VLOOKUP(C27,#REF!,2,FALSE)) -> #REF! | C27: 05.105.026-0 | D27: h | E27: =I27*J27*K27 -> 0 | F27: =IF(C27="","",VLOOKUP(C27,#REF!,2,FALSE)) -> #REF! | G27: =E27*F27 -> #REF! | I27: 160 | J27: 1 | K27: 0
A28: 1.7 | B28: =IF(C28="","",VLOOKUP(C28,#REF!,2,FALSE)) -> #REF! | C28: 05.105.035-0 | D28: h | E28: =I28*J28*K28 -> 0 | F28: =IF(C28="","",VLOOKUP(C28,#REF!,2,FALSE)) -> #REF! | G28: =E28*F28 -> #REF! | I28: 160 | J28: 1 | K28: 0
A29: 1.8 | B29: =IF(C29="","",VLOOKUP(C29,#REF!,2,FALSE)) -> #REF! | C29: 05.105.025-0 | E29: =I29*J29*K29 -> 0 | F29: =IF(C29="","",VLOOKUP(C29,#REF!,2,FALSE)) -> #REF! | G29: =E29*F29 -> #REF! | I29: 160 | J29: 1 | K29: 0
A30: 2 | B30: Caracterização do Município (P3) | G30: =SUM(G31:G39) -> #REF! | L30: 1 | M30: P3
A31: 2.1 | B31: MÃO-DE-OBRA DE ADVOGADO OU ASSESSOR JURÍDICO | D31: h | E31: =I31*J31*K31 -> 40 | F31: 53.9 | G31: =E31*F31 -> 2156 | I31: 40 | J31: 1 | K31: 1
A32: 2.2 | B32: MÃO-DE-OBRA DE ASSISTENTE SOCIAL | D32: h | E32: =I32*J32*K32 -> 40 | F32: 53.9 | G32: =E32*F32 -> 2156 | I32: 40 | J32: 1 | K32: 1
A33: 2.3 | B33: MÃO-DE-OBRA DE ECONOMISTA | D33: h | E33: =I33*J33*K33 -> 40 | F33: 53.9 | G33: =E33*F33 -> 2156 | I33: 40 | J33: 1 | K33: 1
A34: 2.4 | B34: =IF(C34="","",VLOOKUP(C34,#REF!,2,FALSE)) -> #REF! | C34: 05.105.033-0 | D34: h | E34: =I34*J34*K34 -> 40 | F34: =IF(C34="","",VLOOKUP(C34,#REF!,2,FALSE)) -> #REF! | G34: =E34*F34 -> #REF! | I34: 40 | J34: 1 | K34: 1
A35: 2.5 | B35: =IF(C35="","",VLOOKUP(C35,#REF!,2,FALSE)) -> #REF! | C35: 05.105.032-0 | D35: h | E35: =I35*J35*K35 -> 80 | F35: =IF(C35="","",VLOOKUP(C35,#REF!,2,FALSE)) -> #REF! | G35: =E35*F35 -> #REF! | I35: 80 | J35: 1 | K35: 1
A36: 2.6 | B36: =IF(C36="","",VLOOKUP(C36,#REF!,2,FALSE)) -> #REF! | C36: 05.105.026-0 | D36: h | E36: =I36*J36*K36 -> 0 | F36: =IF(C36="","",VLOOKUP(C36,#REF!,2,FALSE)) -> #REF! | G36: =E36*F36 -> #REF! | I36: 0 | J36: 1 | K36: 1
A37: 2.7 | B37: =IF(C37="","",VLOOKUP(C37,#REF!,2,FALSE)) -> #REF! | C37: 05.105.035-0 | D37: h | E37: =I37*J37*K37 -> 40 | F37: =IF(C37="","",VLOOKUP(C37,#REF!,2,FALSE)) -> #REF! | G37: =E37*F37 -> #REF! | I37: 40 | J37: 1 | K37: 1
A38: 2.8 | B38: =IF(C38="","",VLOOKUP(C38,#REF!,2,FALSE)) -> #REF! | C38: 05.105.025-0 | E38: =I38*J38*K38 -> 80 | F38: =IF(C38="","",VLOOKUP(C38,#REF!,2,FALSE)) -> #REF! | G38: =E38*F38 -> #REF! | I38: 80 | J38: 1 | K38: 1
A39: 2.9 | B39: =IF(C39="","",VLOOKUP(C39,#REF!,2,FALSE)) -> #REF! | C39: 19.004.042-2 | E39: =I39*J39*K39 -> 40 | F39: =IF(C39="","",VLOOKUP(C39,#REF!,2,FALSE)) -> #REF! | G39: =E39*F39 -> #REF! | I39: 40 | J39: 1 | K39: 1
A40: 3 | B40: Diagnóstico dos Serviços de Abastecimento de Água Potável (P4), Esgotamento Sanitário e Drenagem Pluvial Urbana (P5) | G40: =SUM(G41:G50) -> #REF! | L40: 1 | M40: P4
A41: 3.1 | B41: MÃO-DE-OBRA DE ADVOGADO OU ASSESSOR JURÍDICO | D41: h | E41: =I41*J41*K41 -> 40 | F41: 53.9 | G41: =E41*F41 -> 2156 | I41: 40 | J41: 1 | K41: 1
A42: 3.2 | B42: MÃO-DE-OBRA DE ASSISTENTE SOCIAL | D42: h | E42: =I42*J42*K42 -> 40 | F42: 53.9 | G42: =E42*F42 -> 2156 | I42: 40 | J42: 1 | K42: 1
A43: 3.3 | B43: MÃO-DE-OBRA DE ECONOMISTA | D43: h | E43: =I43*J43*K43 -> 40 | F43: 53.9 | G43: =E43*F43 -> 2156 | I43: 40 | J43: 1 | K43: 1
A44: 3.4 | B44: =IF(C44="","",VLOOKUP(C44,#REF!,2,FALSE)) -> #REF! | C44: 05.105.033-0 | D44: h | E44: =I44*J44*K44 -> 160 | F44: =IF(C44="","",VLOOKUP(C44,#REF!,2,FALSE)) -> #REF! | G44: =E44*F44 -> #REF! | I44: 160 | J44: 1 | K44: 1
A45: 3.5 | B45: =IF(C45="","",VLOOKUP(C45,#REF!,2,FALSE)) -> #REF! | C45: 05.105.032-0 | D45: h | E45: =I45*J45*K45 -> 320 | F45: =IF(C45="","",VLOOKUP(C45,#REF!,2,FALSE)) -> #REF! | G45: =E45*F45 -> #REF! | I45: 160 | J45: 1 | K45: 2
A46: 3.6 | B46: =IF(C46="","",VLOOKUP(C46,#REF!,2,FALSE)) -> #REF! | C46: 05.105.050-0 | D46: h | E46: =I46*J46*K46 -> 160 | F46: =IF(C46="","",VLOOKUP(C46,#REF!,2,FALSE)) -> #REF! | G46: =E46*F46 -> #REF! | I46: 160 | J46: 1 | K46: 1
A47: 3.7 | B47: =IF(C47="","",VLOOKUP(C47,#REF!,2,FALSE)) -> #REF! | C47: 05.105.026-0 | D47: h | E47: =I47*J47*K47 -> 160 | F47: =IF(C47="","",VLOOKUP(C47,#REF!,2,FALSE)) -> #REF! | G47: =E47*F47 -> #REF! | I47: 160 | J47: 1 | K47: 1
A48: 3.8 | B48: =IF(C48="","",VLOOKUP(C48,#REF!,2,FALSE)) -> #REF! | C48: 05.105.035-0 | D48: h | E48: =I48*J48*K48 -> 80 | F48: =IF(C48="","",VLOOKUP(C48,#REF!,2,FALSE)) -> #REF! | G48: =E48*F48 -> #REF! | I48: 80 | J48: 1 | K48: 1
A49: 3.9 | B49: =IF(C49="","",VLOOKUP(C49,#REF!,2,FALSE)) -> #REF! | C49: 05.105.025-0 | E49: =I49*J49*K49 -> 160 | F49: =IF(C49="","",VLOOKUP(C49,#REF!,2,FALSE)) -> #REF! | G49: =E49*F49 -> #REF! | I49: 160 | J49: 1 | K49: 1
A50: 3.10 | B50: =IF(C50="","",VLOOKUP(C50,#REF!,2,FALSE)) -> #REF! | C50: 19.004.042-2 | E50: =I50*J50*K50 -> 160 | F50: =IF(C50="","",VLOOKUP(C50,#REF!,2,FALSE)) -> #REF! | G50: =E50*F50 -> #REF! | I50: 160 | J50: 1 | K50: 1
...

Sheet Crono_20-30
A9: CRONOGRAMA FÍSICO-FINANCEIRO
A10: Projeto: ELABORAÇÃO DE PLANO MUNICIPAL DE SANEAMENTO NAS MODALIDADES ÁGUA, ESGOTO E DRENAGEM URBANA, PARA MUNICÍPIOS COM POPULAÇÃO ENTRE 15 E 30 MIL HABITANTES
A12: Atividade | B12: Supervisão/mês | C12: DIAS
C13: 30 | D13: 60 | E13: 90 | F13: 120 | G13: 150 | H13: 180
A15: Plano de Trabalho e Projeto de Comunicação e Mobilização Social (P1+P2) | B15: ='Orç_20-30'!$G$17/6 -> #REF!
C16: =('Orç_20-30'!G21+('Crono_20-30'!B15*1))*1.08 -> #REF!
A17: Caracterização do Município (P3) | B17: ='Orç_20-30'!$G$17/6 -> #REF!
D18: =('Orç_20-30'!G30+('Crono_20-30'!B17*1))*1.08 -> #REF!
A19: Diagnóstico do Serviço de Abastecimento de Água Potável (P4), Esgotamento Sanitário e Drenagem Pluvial Urbana (P5) | B19: ='Orç_20-30'!$G$17/6 -> #REF!
E20: =('Orç_20-30'!G40+('Crono_20-30'!B19*1))*1.08 -> #REF!
A21: Proposição de Arranjos Institucionais, Jurídicos e Econômico-Financeiros (P6), sistemas de Abastecimento de Água (P7), esgotamento sanitário e drenagem pluvial urbana (P8) | B21: ='Orç_20-30'!$G$17/6 -> #REF!
F22: =('Orç_20-30'!G51+('Crono_20-30'!B21*1))*1.08 -> #REF!
A23: Versão Preliminar do PMSB (P9) | B23: ='Orç_20-30'!$G$17/6 -> #REF!
G24: =('Orç_20-30'!G62+('Crono_20-30'!B23*1))*1.08 -> #REF!
A25: Banco de Dados (P10) e Versão Final do Plano (P11) | B25: ='Orç_20-30'!$G$17/6 -> #REF!
H26: =('Orç_20-30'!G71+('Crono_20-30'!B25*1))*1.08 -> #REF!
A27: Total | C27: =SUM(C15:C26) -> #REF! | D27: =SUM(D15:D26) -> #REF! | E27: =SUM(E15:E26) -> #REF! | F27: =SUM(F15:F26) -> #REF! | G27: =SUM(G15:G26) -> #REF! | H27: =SUM(H15:H26) -> #REF!
A28: Total Acumulado | C28: =SUM(C27) -> #REF! | D28: =SUM(C27:D27) -> #REF! | E28: =SUM(C27:E27) -> #REF! | F28: =SUM(C27:F27) -> #REF! | G28: =SUM(C27:G27) -> #REF! | H28: =SUM(C27:H27) -> #REF!
A29: Total (%) | C29: =(C27/$H$28)*100 -> #REF! | D29: =(D27/$H$28)*100 -> #REF! | E29: =(E27/$H$28)*100 -> #REF! | F29: =(F27/$H$28)*100 -> #REF! | G29: =(G27/$H$28)*100 -> #REF! | H29: =(H27/$H$28)*100 -> #REF!
A30: Total Acumulado (%) | C30: =(C28/$H$28)*100 -> #REF! | D30: =(D28/$H$28)*100 -> #REF! | E30: =(E28/$H$28)*100 -> #REF! | F30: =(F28/$H$28)*100 -> #REF! | G30: =(G28/$H$28)*100 -> #REF! | H30: =(H28/$H$28)*100 -> #REF!

Sheet REFERÊNCIAS
A1: PAINEL 26 | C1: REFERÊNCIAS
B3: ü | C3: TCU, Acórdão nº 1787, de 06 de julho de 2011. Levantamento de auditoria. FISCOBRAS 2011. barragem Congonhas/MG. Elaboração do plano de controle ambiental.
B4: ü | C4: TCU - BRASIL, Tribunal de Contas da União. Orientações para elaboração de planilhas orçamentárias de obras públicas / Tribunal de Contas da União, Coordenação-Geral de Controle Externo da Área de Infraestrutura e da Região Sudeste. Brasília, 2012
B5: ü | C5: DNIT, Resolução nº 11, de 21 de agosto de 2020, que institui a Tabela de Preços de Consultoria do Departamento Nacional de Infraestrutura de Transportes.
B6: ü | C6: SINAPI: Metodologias e Conceitos: Sistema Nacional de Pesquisa de Custos e Índices da Construção Civil / Caixa Econômica Federal. – 10ª Ed. – Brasília: CAIXA, 2024.
B7: ü | C7: SINAPI: Referências para Custos Horários e Encargos: Sistema Nacional de Pesquisa de Custos e Índices da Construção Civil / Caixa Econômica Federal. – 8ª Ed. – Brasília: CAIXA, 2026.
B8: ü | C8: DNIT: Relatório de Consolidação de Custos Gerais: Sistema de Custos Referenciais de Obras (SICRO) / Departamento Nacional de Infraestrutura de Transportes. Novembro de 2025.
B9: ü | C9: DNIT: Relatório de Consolidação de Custos de Mão de Obra: Sistema de Custos Referenciais de Obras (SICRO) / Departamento Nacional de Infraestrutura de Transportes. Novembro de 2025.
B10: ü | C10: DNIT: Relatório Sintético de Equipamentos: Sistema de Custos Referenciais de Obras (SICRO) / Departamento Nacional de Infraestrutura de Transportes. Novembro de 2025.
B11: ü | C11: DNIT: Relatório Sintético de Mão de Obra: Sistema de Custos Referenciais de Obras (SICRO) / Departamento Nacional de Infraestrutura de Transportes. Novembro de 2025.
B12: ü | C12: SINAPI: Preços de Insumos: Sistema Nacional de Pesquisa de Custos e Índices da Construção Civil / Caixa Econômica Federal. Fevereiro de 2026.
B13: ü | C13: ANA, Portaria nº 363, de 2 de fevereiro de 2021, que estabelece cálculos padronizados para consultoria da Agência Nacional de Águas e Saneamento Básico - ANA e dá outras providências.
B14: ü | C14: DNIT: Caderno Técnico Parâmetros de Equipamentos do SICRO: Sistema de Custos Referenciais de Obras (SICRO) / Departamento Nacional de Infraestrutura de Transportes. Novembro de 2026.
... B21: ü | C21: COPASA: Banco de Preços de Serviços - Portal de Licitações e Contratos. Referência Janeiro/2026
