Workbook

Sheet CAPA
S5: Preencher as células destacadas em verde
C10: NOME DA EMPRESA
B15: ORÇAMENTO DETALHADO - ATO CONVOCATÓRIO N° 22/2026
C19: LOTE 04 - CIRCUNSCRIÇÃO HIDROGRÁFICA DO RIO SUAÇUÍ (CH DO4)
C20: RESPONSÁVEL TÉCNICO PELA ELABORAÇÃO DO ORÇAMENTO
C21: CREA
F27: CIDADE, ESTADO
B30: DATA

Sheet CUSTOS FIXOS 
A1: PAINEL 4 | C1: CUSTOS FIXOS - LOTE 4 CH DO4 SUAÇUÍ | L1: Painel 1
A3: ITEM | B3: GRUPO | C3: CÓDIGO | D3: ÓRGÃO | E3: DESCRIÇÃO | F3: CUSTO MENSAL UNIT. | G3: CUSTO MENSAL UNIT. (COM FATOR K) | H3: UNIDADE | I3: Nº PROF./UNID. | J3: MESES | K3: CUSTO TOTAL | L3: PESO (%)
A5: 1 | B5: NÚCLEO COMPARTILHADO | G5: Com K1 | J5: SUBTOTAL | K5: =SUM(K6:K8) -> #DIV/0! | L5: =SUM(L6:L8) -> #DIV/0!
A6: 1.1 | B6: Núcleo compartilhado | E6: ='1.1 COORD'!B7 -> Coordenador do Projeto | F6: ='1.1 COORD'!B8/4 -> 0 | G6: =F6*'1.1 COORD'!D67 -> #DIV/0! | H6: mês | I6: 1 | J6: 15 | K6: =G6*I6*J6 -> #DIV/0! | L6: =K6/$K$24 -> #DIV/0!
A7: 1.2 | B7: Núcleo compartilhado | E7: ='1.2 MOB SOCIAL'!B7 -> Mobilizador Social | F7: ='1.2 MOB SOCIAL'!B8 -> 0 | G7: =F7*'1.2 MOB SOCIAL'!D67 -> #DIV/0! | H7: mês | I7: 1 | J7: 15 | K7: =G7*I7*J7 -> #DIV/0! | L7: =K7/$K$24 -> #DIV/0!
A8: 1.3 | B8: Núcleo compartilhado | E8: ='1.3 AUX ADM'!B7 -> Auxiliar Administrativo | F8: ='1.3 AUX ADM'!B8 -> 0 | G8: =F8*'1.3 AUX ADM'!D67 -> #DIV/0! | H8: mês | I8: 1 | J8: 15 | K8: =G8*I8*J8 -> #DIV/0! | L8: =K8/$K$24 -> #DIV/0!
A10: 2 | B10: EQUIPE OPERACIONAL AMPLIADA | G10: Com K1 | J10: SUBTOTAL | K10: =SUM(K11:K14) -> #DIV/0! | L10: =SUM(L11:L14) -> #DIV/0!
A11: 2.1 | B11: Execução | E11: ='1.4 ENC OPER'!B7 -> Encarregado Operacional | F11: ='1.4 ENC OPER'!B8 -> 0 | G11: =F11*'1.4 ENC OPER'!D67 -> #DIV/0! | H11: mês | I11: 2 | J11: 12 | K11: =G11*I11*J11 -> #DIV/0! | L11: =K11/$K$24 -> #DIV/0!
A12: 2.2 | B12: Logística operacional | E12: ='1.5 MOT'!B7 -> Motorista | F12: ='1.5 MOT'!B8 -> 0 | G12: =F12*'1.5 MOT'!D67 -> #DIV/0! | H12: mês | I12: 2 | J12: 12 | K12: =G12*I12*J12 -> #DIV/0! | L12: =K12/$K$24 -> #DIV/0!
A13: 2.3 | B13: Execução | E13: ='1.6 PEDR'!B7 -> Pedreiro | F13: ='1.6 PEDR'!B8 -> 0 | G13: =F13*'1.6 PEDR'!D67 -> #DIV/0! | H13: mês | I13: 2 | J13: 12 | K13: =G13*I13*J13 -> #DIV/0! | L13: =K13/$K$24 -> #DIV/0!
A14: 2.4 | B14: Execução | E14: ='1.7 SERV'!B7 -> Servente | F14: ='1.7 SERV'!B8 -> 0 | G14: =F14*'1.7 SERV'!D67 -> #DIV/0! | H14: mês | I14: 4 | J14: 12 | K14: =G14*I14*J14 -> #DIV/0! | L14: =K14/$K$24 -> #DIV/0!
A16: 3 | B16: LOGÍSTICA E DESPESAS FIXAS | G16: Com K4 | J16: SUBTOTAL | K16: =SUM(K17:K22) -> 0 | L16: =SUM(L17:L22) -> #DIV/0!
A17: 3.1 | B17: Logística | E17: Veículo caminhonete 4x4 | G17: =F17*' FATOR K'!$K$21 -> 0 | H17: mês | I17: 1 | J17: 15 | K17: =G17*I17*J17 -> 0 | L17: =K17/$K$24 -> #DIV/0!
A18: 3.2 | B18: Logística | E18: Caminhão toco 4x2 com guindauto hidráulico (Munck) | G18: =F18*' FATOR K'!$K$21 -> 0 | H18: mês | I18: 2 | J18: 12 | K18: =G18*I18*J18 -> 0 | L18: =K18/$K$24 -> #DIV/0!
A19: 3.3 | B19: Equipamento | E19: Compactador de solos | G19: =F19*' FATOR K'!$K$21 -> 0 | H19: mês | I19: 2 | J19: 12 | K19: =G19*I19*J19 -> 0 | L19: =K19/$K$24 -> #DIV/0!
A20: 3.4 | B20: Combustível | E20: Óleo diesel S10 | G20: =F20*' FATOR K'!$K$21 -> 0 | H20: mês | I20: 1 | J20: 15 | K20: =G20*I20*J20 -> 0 | L20: =K20/$K$24 -> #DIV/0!
A21: 3.5 | B21: Combustível | E21: Óleo diesel | G21: =F21*' FATOR K'!$K$21 -> 0 | H21: mês | I21: 2 | J21: 12 | K21: =G21*I21*J21 -> 0 | L21: =K21/$K$24 -> #DIV/0!
A22: 3.6 | B22: Deslocamento | E22: Diárias | G22: =F22*' FATOR K'!$K$21 -> 0 | H22: mês | I22: 1 | J22: 12 | K22: =G22*I22*J22 -> 0 | L22: =K22/$K$24 -> #DIV/0!
A24: TOTAL FIXO | K24: =K5+K10+K16 -> #DIV/0! | L24: =SUM(L5,L10,L16) -> #DIV/0!
A26: A carga horária do "Coordenador" é de 10 horas/semanais. Demais profissionais é de 40 horas/semanais.

Sheet CUSTOS VARIÁVEIS
A1: PAINEL 2 | C1: CUSTOS VARIÁVEIS - LOTE 4 CH DO4 SUAÇUÍ
A3: ITEM | B3: CÓDIGO | C3: ÓRGÃO | D3: DESCRIÇÃO | E3: CUSTO UNITÁRIO | F3: CUSTO UNITÁRIO COM FATOR K | G3: UNIDADE | H3: QUANTITATIVO | I3: CUSTO ANUAL | J3: PESO (%)
A5: 3 | B5: SERVIÇOS TÉCNICOS | F5: Com K3 | I5: =SUM(I7,I10:I10) -> 0 | J5: =SUM(J7,J10:J10) -> #DIV/0!
A6: 3.1 | B6: SERVIÇOS DE GEOPROCESSAMENTO
A7: 3.1.1 | D7: Técnico em Geoprocessamento | F7: =E7*' FATOR K'!K20 -> 0 | G7: hora | H7: 960 | I7: =ROUNDDOWN(F7*H7,0) -> 0 | J7: =I7/$I$19 -> #DIV/0!
A9: 3.2 | B9: SERVIÇOS DE TOPOGRAFIA
A10: 3.2.1 | D10: Alocação de equipe de topografia básica (inclui equipe composta por um engenheiro e auxiliar de topografia; equipamentos: estação total, rádio comunicador e equipamentos complementares; mobilização e desmobilização; hospedagem e alimentação) | F10: =E10*' FATOR K'!K20 -> 0 | G10: diária | H10: 12 | I10: =ROUNDDOWN(F10*H10,0) -> 0 | J10: =I10/$I$19 -> #DIV/0!
A12: 4 | B12: DESPESAS DIVERSAS | F12: Com K4 | I12: =SUM(I13:I17) -> 0 | J12: =SUM(J13:J17) -> #DIV/0!
A13: 4.1 | D13: Locação de retroescavadeira sobre rodas com carregadeira, tração 4x4, potência 88 HP (incluído operador e combustível) | F13: =E13*' FATOR K'!$K$21 -> 0 | G13: Hora | H13: 500 | I13: =ROUNDDOWN(F13*H13,0) -> 0 | J13: =I13/$I$19 -> #DIV/0!
A14: 4.2 | D14: Impressão preto e branco | F14: =E14*' FATOR K'!$K$21 -> 0 | G14: unidade | H14: 6000 | I14: =ROUNDDOWN(F14*H14,0) -> 0 | J14: =I14/$I$19 -> #DIV/0!
A15: 4.3 | D15: Refeição | F15: =E15*' FATOR K'!$K$21 -> 0 | G15: unidade | H15: 264 | I15: =ROUNDDOWN(F15*H15,0) -> 0 | J15: =I15/$I$19 -> #DIV/0!
A16: 4.4 | D16: Diária | F16: =E16*' FATOR K'!$K$21 -> 0 | G16: unidade | H16: 264 | I16: =ROUNDDOWN(F16*H16,0) -> 0 | J16: =I16/$I$19 -> #DIV/0!
A17: 4.5 | D17: Fornecimento e instalação de placa de obra com chapa galvanizada e estrutura de madeira | F17: =E17*' FATOR K'!$K$21 -> 0 | G17: M² | H17: 42 | I17: =ROUNDDOWN(F17*H17,0) -> 0 | J17: =I17/$I$19 -> #DIV/0!
F19: TOTAL GERAL | I19: =I5+I12 -> 0 | J19: =J5+J12 -> #DIV/0!

Sheet CURVA S
A1: PAINEL 3 | B1: SÍNTESE DO CRONOGRAMA – LOTE 4 CH DO4 SUAÇUÍ
A4: MÊS | B4: FÍSICO ACUMULADO | C4: FINANCEIRO ACUMULADO
A5: MÊS 1 | B5: ='CRONOGRAMA FINANCEIRO'!C25 -> 0 | C5: ='CRONOGRAMA FINANCEIRO'!C22 -> #DIV/0!
A6: MÊS 2 | B6: ='CRONOGRAMA FINANCEIRO'!D25 -> 0 | C6: ='CRONOGRAMA FINANCEIRO'!D22 -> #DIV/0!
A7: MÊS 3 | B7: ='CRONOGRAMA FINANCEIRO'!E25 -> 0.0833 | C7: ='CRONOGRAMA FINANCEIRO'!E22 -> #DIV/0!
A8: MÊS 4 | B8: ='CRONOGRAMA FINANCEIRO'!F25 -> 0.1666 | C8: ='CRONOGRAMA FINANCEIRO'!F22 -> #DIV/0!
A9: MÊS 5 | B9: ='CRONOGRAMA FINANCEIRO'!G25 -> 0.2499 | C9: ='CRONOGRAMA FINANCEIRO'!G22 -> #DIV/0!
A10: MÊS 6 | B10: ='CRONOGRAMA FINANCEIRO'!H25 -> 0.3332 | C10: ='CRONOGRAMA FINANCEIRO'!H22 -> #DIV/0!
A11: MÊS 7 | B11: ='CRONOGRAMA FINANCEIRO'!I25 -> 0.4165 | C11: ='CRONOGRAMA FINANCEIRO'!I22 -> #DIV/0!
A12: MÊS 8 | B12: ='CRONOGRAMA FINANCEIRO'!J25 -> 0.4998 | C12: ='CRONOGRAMA FINANCEIRO'!J22 -> #DIV/0!
A13: MÊS 9 | B13: ='CRONOGRAMA FINANCEIRO'!K25 -> 0.5831 | C13: ='CRONOGRAMA FINANCEIRO'!K22 -> #DIV/0!
A14: MÊS 10 | B14: ='CRONOGRAMA FINANCEIRO'!L25 -> 0.6664 | C14: ='CRONOGRAMA FINANCEIRO'!L22 -> #DIV/0!
A15: MÊS 11 | B15: ='CRONOGRAMA FINANCEIRO'!M25 -> 0.7497 | C15: ='CRONOGRAMA FINANCEIRO'!M22 -> #DIV/0!
A16: MÊS 12 | B16: ='CRONOGRAMA FINANCEIRO'!N25 -> 0.833 | C16: ='CRONOGRAMA FINANCEIRO'!N22 -> #DIV/0!
A17: MÊS 13 | B17: ='CRONOGRAMA FINANCEIRO'!O25 -> 0.9163 | C17: ='CRONOGRAMA FINANCEIRO'!O22 -> #DIV/0!
A18: MÊS 14 | B18: ='CRONOGRAMA FINANCEIRO'!P25 -> 0.9996 | C18: ='CRONOGRAMA FINANCEIRO'!P22 -> #DIV/0!
A19: MÊS 15 | B19: ='CRONOGRAMA FINANCEIRO'!Q25 -> 0.9996 | C19: ='CRONOGRAMA FINANCEIRO'!Q22 -> #DIV/0!

Sheet CRONOGRAMA PREMISSAS
A1: PAINEL 4 | B1: PREMISSAS DO CRONOGRAMA – LOTE 4 CH DO4 SUAÇUÍ
A3: PARÂMETRO | B3: VALOR | C3: UNIDADE
A4: Prazo total | B4: 17 | C4: meses
A5: Período de execução gerencial | B5: 12 | C5: meses
A6: Período de execução operacional | B6: 12 | C6: meses
A7: Equipe operacional | B7: 8 | C7: profissionais
A8: Custo fixo proposto | B8: ='CUSTOS FIXOS '!K24 -> #DIV/0! | C8: R$
A9: Custos variáveis | B9: ='CUSTOS VARIÁVEIS'!I19 -> 0 | C9: R$
A10: Custo global | B10: =B8+B9 -> #DIV/0! | C10: R$
A12: COMPONENTE DE CUSTO FIXO | B12: CUSTO MENSAL UNITÁRIO | C12: QTD. | D12: MESES | E12: CUSTO TOTAL | F12: REGIME NO CRONOGRAMA
A13: Coordenador do Projeto | B13: ='CUSTOS FIXOS '!G6 -> #DIV/0! | C13: 1 | D13: 15 | E13: =ROUND(B13*C13*D13,2) -> #DIV/0! | F13: M1–M15
A14: Mobilizador Social | B14: ='CUSTOS FIXOS '!G7 -> #DIV/0! | C14: 1 | D14: 15 | E14: =ROUND(B14*C14*D14,2) -> #DIV/0! | F14: M1–M15
A15: Auxiliar Administrativo | B15: ='CUSTOS FIXOS '!G8 -> #DIV/0! | C15: 1 | D15: 15 | E15: =ROUND(B15*C15*D15,2) -> #DIV/0! | F15: M1–M15
A16: Encarregado Operacional | B16: ='CUSTOS FIXOS '!G11 -> #DIV/0! | C16: 2 | D16: 12 | E16: =ROUND(B16*C16*D16,2) -> #DIV/0! | F16: M3–M14
A17: Motorista | B17: ='CUSTOS FIXOS '!G12 -> #DIV/0! | C17: 2 | D17: 12 | E17: =ROUND(B17*C17*D17,2) -> #DIV/0! | F17: M3–M14
A18: Pedreiro | B18: ='CUSTOS FIXOS '!G13 -> #DIV/0! | C18: 2 | D18: 12 | E18: =ROUND(B18*C18*D18,2) -> #DIV/0! | F18: M3–M14
A19: Servente | B19: ='CUSTOS FIXOS '!G14 -> #DIV/0! | C19: 4 | D19: 12 | E19: =ROUND(B19*C19*D19,2) -> #DIV/0! | F19: M3–M14
A20: Veículo caminhonete 4x4 | B20: ='CUSTOS FIXOS '!G17 -> 0 | C20: 1 | D20: 15 | E20: =ROUND(B20*C20*D20,2) -> 0 | F20: M1–M15
A21: Caminhão toco 4x2 c/ Munck | B21: ='CUSTOS FIXOS '!G18 -> 0 | C21: 2 | D21: 12 | E21: =ROUND(B21*C21*D21,2) -> 0 | F21: M3–M14
A22: Compactador de solos | B22: ='CUSTOS FIXOS '!G19 -> 0 | C22: 2 | D22: 12 | E22: =ROUND(B22*C22*D22,2) -> 0 | F22: M3–M14
A23: Óleo diesel S10 | B23: ='CUSTOS FIXOS '!G20 -> 0 | C23: 1 | D23: 15 | E23: =ROUND(B23*C23*D23,2) -> 0 | F23: M1–M15
A24: Óleo diesel | B24: ='CUSTOS FIXOS '!G21 -> 0 | C24: 2 | D24: 12 | E24: =ROUND(B24*C24*D24,2) -> 0 | F24: M3–M14
A25: Diárias | B25: ='CUSTOS FIXOS '!G22 -> 0 | C25: 1 | D25: 12 | E25: =ROUND(B25*C25*D25,2) -> 0 | F25: M3–M14

Sheet CRONOGRAMA FÍSICO
A1: PAINEL 5 | C1: CRONOGRAMA FÍSICO
A3: ETAPA | B3: ATIVIDADE | C3: MÊS 1 | D3: MÊS 2 | E3: MÊS 3 | F3: MÊS 4 | G3: MÊS 5 | H3: MÊS 6 | I3: MÊS 7 | J3: MÊS 8 | K3: MÊS 9 | L3: MÊS 10 | M3: MÊS 11 | N3: MÊS 12 | O3: MÊS 13 | P3: MÊS 14 | Q3: MÊS 15 | R3: MÊS 16 | S3: MÊS 17
A4: A | B4: Emissão da Autorização de Execução | C4: ● | R4: Encerramento contratual
A5: A | B5: Composição/recomposição das UGPs | C5: ● | D5: ●
A6: A | B6: Planejamento e Plano de Trabalho | C6: ● | D6: ●
A7: B | B7: Mobilização social inicial | C7: ● | D7: ● | E7: ●
A8: B | B8: Geoprocessamento, programação de campo e topografia | D8: ● | E8: ● | F8: ● | G8: ●
A9: B | B9: Implantação dos projetos – frentes operacionais | E9: ● | F9: ● | G9: ● | H9: ● | I9: ● | J9: ● | K9: ● | L9: ● | M9: ● | N9: ● | O9: ● | P9: ●
A10: B | B10: Mobilização social continuada | E10: ● | F10: ● | G10: ● | H10: ● | I10: ● | J10: ● | K10: ● | L10: ● | M10: ● | N10: ● | O10: ● | P10: ●
A11: B | B11: Relatórios mensais de implantação | E11: ● | F11: ● | G11: ● | H11: ● | I11: ● | J11: ● | K11: ● | L11: ● | M11: ● | N11: ● | O11: ● | P11: ●
A12: B | B12: Correção de pendências e conclusão das últimas intervenções | O12: ● | P12: ●
A13: B | B13: Relatório final, recebimento e encerramento | Q13: ●
A16: META DE AVANÇO FÍSICO | C16: 0 | D16: 0 | E16: 0.0833 | F16: 0.0833 | G16: 0.0833 | H16: 0.0833 | I16: 0.0833 | J16: 0.0833 | K16: 0.0833 | L16: 0.0833 | M16: 0.0833 | N16: 0.0833 | O16: 0.0833 | P16: 0.0833 | Q16: 0
A17: AVANÇO FÍSICO ACUMULADO | C17: =C16 -> 0 | D17: =C17+D16 -> 0 | E17: =D17+E16 -> 0.0833 | F17: =E17+F16 -> 0.1666 | G17: =F17+G16 -> 0.2499 | H17: =G17+H16 -> 0.3332 | I17: =H17+I16 -> 0.4165 | J17: =I17+J16 -> 0.4998 | K17: =J17+K16 -> 0.5831 | ... Q17: =P17+Q16 -> 0.9996

Sheet CRONOGRAMA FINANCEIRO
A1: PAINEL 6 | C1: CRONOGRAMA FINANCEIRO – FLUXO MENSAL E ACUMULADO
A3: GRUPO | B3: COMPONENTE | C3: MÊS 1 | D3: MÊS 2 | E3: MÊS 3 | F3: MÊS 4 | G3: MÊS 5 | H3: MÊS 6 | I3: MÊS 7 | J3: MÊS 8 | K3: MÊS 9 | L3: MÊS 10 | M3: MÊS 11 | N3: MÊS 12 | O3: MÊS 13 | P3: MÊS 14 | Q3: MÊS 15
A4: NÚCLEO | B4: Coordenador | C4: =ROUND('CRONOGRAMA PREMISSAS'!B13*'CRONOGRAMA PREMISSAS'!C13,2) -> #DIV/0! | D4: =ROUND('CRONOGRAMA PREMISSAS'!B13*'CRONOGRAMA PREMISSAS'!C13,2) -> #DIV/0! | E4: =ROUND('CRONOGRAMA PREMISSAS'!B13*'CRONOGRAMA PREMISSAS'!C13,2) -> #DIV/0! | F4: =ROUND('CRONOGRAMA PREMISSAS'!B13*'CRONOGRAMA PREMISSAS'!C13,2) -> #DIV/0! | G4: =ROUND('CRONOGRAMA PREMISSAS'!B13*'CRONOGRAMA PREMISSAS'!C13,2) -> #DIV/0! | H4: =ROUND('CRONOGRAMA PREMISSAS'!B13*'CRONOGRAMA PREMISSAS'!C13,2) -> #DIV/0! | I4: =ROUND('CRONOGRAMA PREMISSAS'!B13*'CRONOGRAMA PREMISSAS'!C13,2) -> #DIV/0! | J4: =ROUND('CRONOGRAMA PREMISSAS'!B13*'CRONOGRAMA PREMISSAS'!C13,2) -> #DIV/0! | K4: =ROUND('CRONOGRAMA PREMISSAS'!B13*'CRONOGRAMA PREMISSAS'!C13,2) -> #DIV/0! | L4: =ROUND('CRONOGRAMA PREMISSAS'!B13*'CRONOGRAMA PREMISSAS'!C13,2) -> #DIV/0! | M4: =ROUND('CRONOGRAMA PREMISSAS'!B13*'CRONOGRAMA PREMISSAS'!C13,2) -> #DIV/0! | N4: =ROUND('CRONOGRAMA PREMISSAS'!B13*'CRONOGRAMA PREMISSAS'!C13,2) -> #DIV/0! | O4: =ROUND('CRONOGRAMA PREMISSAS'!B13*'CRONOGRAMA PREMISSAS'!C13,2) -> #DIV/0! | P4: =ROUND('CRONOGRAMA PREMISSAS'!B13*'CRONOGRAMA PREMISSAS'!C13,2) -> #DIV/0! | Q4: =ROUND('CRONOGRAMA PREMISSAS'!B13*'CRONOGRAMA PREMISSAS'!C13,2) -> #DIV/0!
A5: NÚCLEO | B5: Mobilizador Social | C5: =ROUND('CRONOGRAMA PREMISSAS'!B14*'CRONOGRAMA PREMISSAS'!C14,2) -> #DIV/0! | D5: =ROUND('CRONOGRAMA PREMISSAS'!B14*'CRONOGRAMA PREMISSAS'!C14,2) -> #DIV/0! | E5: =ROUND('CRONOGRAMA PREMISSAS'!B14*'CRONOGRAMA PREMISSAS'!C14,2) -> #DIV/0! | F5: =ROUND('CRONOGRAMA PREMISSAS'!B14*'CRONOGRAMA PREMISSAS'!C14,2) -> #DIV/0! | G5: =ROUND('CRONOGRAMA PREMISSAS'!B14*'CRONOGRAMA PREMISSAS'!C14,2) -> #DIV/0! | H5: =ROUND('CRONOGRAMA PREMISSAS'!B14*'CRONOGRAMA PREMISSAS'!C14,2) -> #DIV/0! | I5: =ROUND('CRONOGRAMA PREMISSAS'!B14*'CRONOGRAMA PREMISSAS'!C14,2) -> #DIV/0! | J5: =ROUND('CRONOGRAMA PREMISSAS'!B14*'CRONOGRAMA PREMISSAS'!C14,2) -> #DIV/0! | K5: =ROUND('CRONOGRAMA PREMISSAS'!B14*'CRONOGRAMA PREMISSAS'!C14,2) -> #DIV/0! | L5: =ROUND('CRONOGRAMA PREMISSAS'!B14*'CRONOGRAMA PREMISSAS'!C14,2) -> #DIV/0! | M5: =ROUND('CRONOGRAMA PREMISSAS'!B14*'CRONOGRAMA PREMISSAS'!C14,2) -> #DIV/0! | N5: =ROUND('CRONOGRAMA PREMISSAS'!B14*'CRONOGRAMA PREMISSAS'!C14,2) -> #DIV/0! | O5: =ROUND('CRONOGRAMA PREMISSAS'!B14*'CRONOGRAMA PREMISSAS'!C14,2) -> #DIV/0! | P5: =ROUND('CRONOGRAMA PREMISSAS'!B14*'CRONOGRAMA PREMISSAS'!C14,2) -> #DIV/0! | Q5: =ROUND('CRONOGRAMA PREMISSAS'!B14*'CRONOGRAMA PREMISSAS'!C14,2) -> #DIV/0!
A6: NÚCLEO | B6: Auxiliar Administrativo | C6: =ROUND('CRONOGRAMA PREMISSAS'!B15*'CRONOGRAMA PREMISSAS'!C15,2) -> #DIV/0! | D6: =ROUND('CRONOGRAMA PREMISSAS'!B15*'CRONOGRAMA PREMISSAS'!C15,2) -> #DIV/0! | E6: =ROUND('CRONOGRAMA PREMISSAS'!B15*'CRONOGRAMA PREMISSAS'!C15,2) -> #DIV/0! | F6: =ROUND('CRONOGRAMA PREMISSAS'!B15*'CRONOGRAMA PREMISSAS'!C15,2) -> #DIV/0! | G6: =ROUND('CRONOGRAMA PREMISSAS'!B15*'CRONOGRAMA PREMISSAS'!C15,2) -> #DIV/0! | H6: =ROUND('CRONOGRAMA PREMISSAS'!B15*'CRONOGRAMA PREMISSAS'!C15,2) -> #DIV/0! | I6: =ROUND('CRONOGRAMA PREMISSAS'!B15*'CRONOGRAMA PREMISSAS'!C15,2) -> #DIV/0! | J6: =ROUND('CRONOGRAMA PREMISSAS'!B15*'CRONOGRAMA PREMISSAS'!C15,2) -> #DIV/0! | K6: =ROUND('CRONOGRAMA PREMISSAS'!B15*'CRONOGRAMA PREMISSAS'!C15,2) -> #DIV/0! | L6: =ROUND('CRONOGRAMA PREMISSAS'!B15*'CRONOGRAMA PREMISSAS'!C15,2) -> #DIV/0! | M6: =ROUND('CRONOGRAMA PREMISSAS'!B15*'CRONOGRAMA PREMISSAS'!C15,2) -> #DIV/0! | N6: =ROUND('CRONOGRAMA PREMISSAS'!B15*'CRONOGRAMA PREMISSAS'!C15,2) -> #DIV/0! | O6: =ROUND('CRONOGRAMA PREMISSAS'!B15*'CRONOGRAMA PREMISSAS'!C15,2) -> #DIV/0! | P6: =ROUND('CRONOGRAMA PREMISSAS'!B15*'CRONOGRAMA PREMISSAS'!C15,2) -> #DIV/0! | Q6: =ROUND('CRONOGRAMA PREMISSAS'!B15*'CRONOGRAMA PREMISSAS'!C15,2) -> #DIV/0!
A7: OPERAÇÃO | B7: Encarregados (2) | C7: =IF(AND(COLUMN()-2>=3,COLUMN()-2<=14),ROUND('CRONOGRAMA PREMISSAS'!B16*'CRONOGRAMA PREMISSAS'!C16,2),0) -> 0 | D7: =IF(AND(COLUMN()-2>=3,COLUMN()-2<=14),ROUND('CRONOGRAMA PREMISSAS'!B16*'CRONOGRAMA PREMISSAS'!C16,2),0) -> 0 | E7: =IF(AND(COLUMN()-2>=3,COLUMN()-2<=14),ROUND('CRONOGRAMA PREMISSAS'!B16*'CRONOGRAMA PREMISSAS'!C16,2),0) -> #DIV/0! | F7: =IF(AND(COLUMN()-2>=3,COLUMN()-2<=14),ROUND('CRONOGRAMA PREMISSAS'!B16*'CRONOGRAMA PREMISSAS'!C16,2),0) -> #DIV/0! | G7: =IF(AND(COLUMN()-2>=3,COLUMN()-2<=14),ROUND('CRONOGRAMA PREMISSAS'!B16*'CRONOGRAMA PREMISSAS'!C16,2),0) -> #DIV/0! | H7: =IF(AND(COLUMN()-2>=3,COLUMN()-2<=14),ROUND('CRONOGRAMA PREMISSAS'!B16*'CRONOGRAMA PREMISSAS'!C16,2),0) -> #DIV/0! | I7: =IF(AND(COLUMN()-2>=3,COLUMN()-2<=14),ROUND('CRONOGRAMA PREMISSAS'!B16*'CRONOGRAMA PREMISSAS'!C16,2),0) -> #DIV/0! | J7: =IF(AND(COLUMN()-2>=3,COLUMN()-2<=14),ROUND('CRONOGRAMA PREMISSAS'!B16*'CRONOGRAMA PREMISSAS'!C16,2),0) -> #DIV/0! | K7: =IF(AND(COLUMN()-2>=3,COLUMN()-2<=14),ROUND('CRONOGRAMA PREMISSAS'!B16*'CRONOGRAMA PREMISSAS'!C16,2),0) -> #DIV/0! | L7: =IF(AND(COLUMN()-2>=3,COLUMN()-2<=14),ROUND('CRONOGRAMA PREMISSAS'!B16*'CRONOGRAMA PREMISSAS'!C16,2),0) -> #DIV/0! | M7: =IF(AND(COLUMN()-2>=3,COLUMN()-2<=14),ROUND('CRONOGRAMA PREMISSAS'!B16*'CRONOGRAMA PREMISSAS'!C16,2),0) -> #DIV/0! | N7: =IF(AND(COLUMN()-2>=3,COLUMN()-2<=14),ROUND('CRONOGRAMA PREMISSAS'!B16*'CRONOGRAMA PREMISSAS'!C16,2),0) -> #DIV/0! | O7: =IF(AND(COLUMN()-2>=3,COLUMN()-2<=14),ROUND('CRONOGRAMA PREMISSAS'!B16*'CRONOGRAMA PREMISSAS'!C16,2),0) -> #DIV/0! | P7: =IF(AND(COLUMN()-2>=3,COLUMN()-2<=14),ROUND('CRONOGRAMA PREMISSAS'!B16*'CRONOGRAMA PREMISSAS'!C16,2),0) -> #DIV/0! | Q7: =IF(AND(COLUMN()-2>=3,COLUMN()-2<=14),ROUND('CRONOGRAMA PREMISSAS'!B16*'CRONOGRAMA PREMISSAS'!C16,2),0) -> 0
A8: OPERAÇÃO | B8: Motoristas (1) | C8: =IF(AND(COLUMN()-2>=3,COLUMN()-2<=14),ROUND('CRONOGRAMA PREMISSAS'!B17*'CRONOGRAMA PREMISSAS'!C17,2),0) -> 0 | D8: =IF(AND(COLUMN()-2>=3,COLUMN()-2<=14),ROUND('CRONOGRAMA PREMISSAS'!B17*'CRONOGRAMA PREMISSAS'!C17,2),0) -> 0 | E8: =IF(AND(COLUMN()-2>=3,COLUMN()-2<=14),ROUND('CRONOGRAMA PREMISSAS'!B17*'CRONOGRAMA PREMISSAS'!C17,2),0) -> #DIV/0! | F8: =IF(AND(COLUMN()-2>=3,COLUMN()-2<=14),ROUND('CRONOGRAMA PREMISSAS'!B17*'CRONOGRAMA PREMISSAS'!C17,2),0) -> #DIV/0! | G8: =IF(AND(COLUMN()-2>=3,COLUMN()-2<=14),ROUND('CRONOGRAMA PREMISSAS'!B17*'CRONOGRAMA PREMISSAS'!C17,2),0) -> #DIV/0! | H8: =IF(AND(COLUMN()-2>=3,COLUMN()-2<=14),ROUND('CRONOGRAMA PREMISSAS'!B17*'CRONOGRAMA PREMISSAS'!C17,2),0) -> #DIV/0! | I8: =IF(AND(COLUMN()-2>=3,COLUMN()-2<=14),ROUND('CRONOGRAMA PREMISSAS'!B17*'CRONOGRAMA PREMISSAS'!C17,2),0) -> #DIV/0! | J8: =IF(AND(COLUMN()-2>=3,COLUMN()-2<=14),ROUND('CRONOGRAMA PREMISSAS'!B17*'CRONOGRAMA PREMISSAS'!C17,2),0) -> #DIV/0! | K8: =IF(AND(COLUMN()-2>=3,COLUMN()-2<=14),ROUND('CRONOGRAMA PREMISSAS'!B17*'CRONOGRAMA PREMISSAS'!C17,2),0) -> #DIV/0! | L8: =IF(AND(COLUMN()-2>=3,COLUMN()-2<=14),ROUND('CRONOGRAMA PREMISSAS'!B17*'CRONOGRAMA PREMISSAS'!C17,2),0) -> #DIV/0! | M8: =IF(AND(COLUMN()-2>=3,COLUMN()-2<=14),ROUND('CRONOGRAMA PREMISSAS'!B17*'CRONOGRAMA PREMISSAS'!C17,2),0) -> #DIV/0! | N8: =IF(AND(COLUMN()-2>=3,COLUMN()-2<=14),ROUND('CRONOGRAMA PREMISSAS'!B17*'CRONOGRAMA PREMISSAS'!C17,2),0) -> #DIV/0! | O8: =IF(AND(COLUMN()-2>=3,COLUMN()-2<=14),ROUND('CRONOGRAMA PREMISSAS'!B17*'CRONOGRAMA PREMISSAS'!C17,2),0) -> #DIV/0! | P8: =IF(AND(COLUMN()-2>=3,COLUMN()-2<=14),ROUND('CRONOGRAMA PREMISSAS'!B17*'CRONOGRAMA PREMISSAS'!C17,2),0) -> #DIV/0! | Q8: =IF(AND(COLUMN()-2>=3,COLUMN()-2<=14),ROUND('CRONOGRAMA PREMISSAS'!B17*'CRONOGRAMA PREMISSAS'!C17,2),0) -> 0
A9: OPERAÇÃO | B9: Pedreiros (2) | C9: =IF(AND(COLUMN()-2>=3,COLUMN()-2<=14),ROUND('CRONOGRAMA PREMISSAS'!B18*'CRONOGRAMA PREMISSAS'!C18,2),0) -> 0 | D9: =IF(AND(COLUMN()-2>=3,COLUMN()-2<=14),ROUND('CRONOGRAMA PREMISSAS'!B18*'CRONOGRAMA PREMISSAS'!C18,2),0) -> 0 | E9: =IF(AND(COLUMN()-2>=3,COLUMN()-2<=14),ROUND('CRONOGRAMA PREMISSAS'!B18*'CRONOGRAMA PREMISSAS'!C18,2),0) -> #DIV/0! | F9: =IF(AND(COLUMN()-2>=3,COLUMN()-2<=14),ROUND('CRONOGRAMA PREMISSAS'!B18*'CRONOGRAMA PREMISSAS'!C18,2),0) -> #DIV/0! | G9: =IF(AND(COLUMN()-2>=3,COLUMN()-2<=14),ROUND('CRONOGRAMA PREMISSAS'!B18*'CRONOGRAMA PREMISSAS'!C18,2),0) -> #DIV/0! | H9: =IF(AND(COLUMN()-2>=3,COLUMN()-2<=14),ROUND('CRONOGRAMA PREMISSAS'!B18*'CRONOGRAMA PREMISSAS'!C18,2),0) -> #DIV/0! | I9: =IF(AND(COLUMN()-2>=3,COLUMN()-2<=14),ROUND('CRONOGRAMA PREMISSAS'!B18*'CRONOGRAMA PREMISSAS'!C18,2),0) -> #DIV/0! | J9: =IF(AND(COLUMN()-2>=3,COLUMN()-2<=14),ROUND('CRONOGRAMA PREMISSAS'!B18*'CRONOGRAMA PREMISSAS'!C18,2),0) -> #DIV/0! | K9: =IF(AND(COLUMN()-2>=3,COLUMN()-2<=14),ROUND('CRONOGRAMA PREMISSAS'!B18*'CRONOGRAMA PREMISSAS'!C18,2),0) -> #DIV/0! | L9: =IF(AND(COLUMN()-2>=3,COLUMN()-2<=14),ROUND('CRONOGRAMA PREMISSAS'!B18*'CRONOGRAMA PREMISSAS'!C18,2),0) -> #DIV/0! | M9: =IF(AND(COLUMN()-2>=3,COLUMN()-2<=14),ROUND('CRONOGRAMA PREMISSAS'!B18*'CRONOGRAMA PREMISSAS'!C18,2),0) -> #DIV/0! | N9: =IF(AND(COLUMN()-2>=3,COLUMN()-2<=14),ROUND('CRONOGRAMA PREMISSAS'!B18*'CRONOGRAMA PREMISSAS'!C18,2),0) -> #DIV/0! | O9: =IF(AND(COLUMN()-2>=3,COLUMN()-2<=14),ROUND('CRONOGRAMA PREMISSAS'!B18*'CRONOGRAMA PREMISSAS'!C18,2),0) -> #DIV/0! | P9: =IF(AND(COLUMN()-2>=3,COLUMN()-2<=14),ROUND('CRONOGRAMA PREMISSAS'!B18*'CRONOGRAMA PREMISSAS'!C18,2),0) -> #DIV/0! | Q9: =IF(AND(COLUMN()-2>=3,COLUMN()-2<=14),ROUND('CRONOGRAMA PREMISSAS'!B18*'CRONOGRAMA PREMISSAS'!C18,2),0) -> 0
A10: OPERAÇÃO | B10: Serventes (4) | C10: =IF(AND(COLUMN()-2>=3,COLUMN()-2<=14),ROUND('CRONOGRAMA PREMISSAS'!B19*'CRONOGRAMA PREMISSAS'!C19,2),0) -> 0 | D10: =IF(AND(COLUMN()-2>=3,COLUMN()-2<=14),ROUND('CRONOGRAMA PREMISSAS'!B19*'CRONOGRAMA PREMISSAS'!C19,2),0) -> 0 | E10: =IF(AND(COLUMN()-2>=3,COLUMN()-2<=14),ROUND('CRONOGRAMA PREMISSAS'!B19*'CRONOGRAMA PREMISSAS'!C19,2),0) -> #DIV/0! | F10: =IF(AND(COLUMN()-2>=3,COLUMN()-2<=14),ROUND('CRONOGRAMA PREMISSAS'!B19*'CRONOGRAMA PREMISSAS'!C19,2),0) -> #DIV/0! | G10: =IF(AND(COLUMN()-2>=3,COLUMN()-2<=14),ROUND('CRONOGRAMA PREMISSAS'!B19*'CRONOGRAMA PREMISSAS'!C19,2),0) -> #DIV/0! | H10: =IF(AND(COLUMN()-2>=3,COLUMN()-2<=14),ROUND('CRONOGRAMA PREMISSAS'!B19*'CRONOGRAMA PREMISSAS'!C19,2),0) -> #DIV/0! | I10: =IF(AND(COLUMN()-2>=3,COLUMN()-2<=14),ROUND('CRONOGRAMA PREMISSAS'!B19*'CRONOGRAMA PREMISSAS'!C19,2),0) -> #DIV/0! | J10: =IF(AND(COLUMN()-2>=3,COLUMN()-2<=14),ROUND('CRONOGRAMA PREMISSAS'!B19*'CRONOGRAMA PREMISSAS'!C19,2),0) -> #DIV/0! | K10: =IF(AND(COLUMN()-2>=3,COLUMN()-2<=14),ROUND('CRONOGRAMA PREMISSAS'!B19*'CRONOGRAMA PREMISSAS'!C19,2),0) -> #DIV/0! | L10: =IF(AND(COLUMN()-2>=3,COLUMN()-2<=14),ROUND('CRONOGRAMA PREMISSAS'!B19*'CRONOGRAMA PREMISSAS'!C19,2),0) -> #DIV/0! | M10: =IF(AND(COLUMN()-2>=3,COLUMN()-2<=14),ROUND('CRONOGRAMA PREMISSAS'!B19*'CRONOGRAMA PREMISSAS'!C19,2),0) -> #DIV/0! | N10: =IF(AND(COLUMN()-2>=3,COLUMN()-2<=14),ROUND('CRONOGRAMA PREMISSAS'!B19*'CRONOGRAMA PREMISSAS'!C19,2),0) -> #DIV/0! | O10: =IF(AND(COLUMN()-2>=3,COLUMN()-2<=14),ROUND('CRONOGRAMA PREMISSAS'!B19*'CRONOGRAMA PREMISSAS'!C19,2),0) -> #DIV/0! | P10: =IF(AND(COLUMN()-2>=3,COLUMN()-2<=14),ROUND('CRONOGRAMA PREMISSAS'!B19*'CRONOGRAMA PREMISSAS'!C19,2),0) -> #DIV/0! | Q10: =IF(AND(COLUMN()-2>=3,COLUMN()-2<=14),ROUND('CRONOGRAMA PREMISSAS'!B19*'CRONOGRAMA PREMISSAS'!C19,2),0) -> 0
A11: LOGÍSTICA | B11: Caminhonete 4x4 | C11: =ROUND('CRONOGRAMA PREMISSAS'!B20*'CRONOGRAMA PREMISSAS'!C20,2) -> 0 | D11: =ROUND('CRONOGRAMA PREMISSAS'!B20*'CRONOGRAMA PREMISSAS'!C20,2) -> 0 | E11: =ROUND('CRONOGRAMA PREMISSAS'!B20*'CRONOGRAMA PREMISSAS'!C20,2) -> 0 | F11: =ROUND('CRONOGRAMA PREMISSAS'!B20*'CRONOGRAMA PREMISSAS'!C20,2) -> 0 | G11: =ROUND('CRONOGRAMA PREMISSAS'!B20*'CRONOGRAMA PREMISSAS'!C20,2) -> 0 | H11: =ROUND('CRONOGRAMA PREMISSAS'!B20*'CRONOGRAMA PREMISSAS'!C20,2) -> 0 | I11: =ROUND('CRONOGRAMA PREMISSAS'!B20*'CRONOGRAMA PREMISSAS'!C20,2) -> 0 | J11: =ROUND('CRONOGRAMA PREMISSAS'!B20*'CRONOGRAMA PREMISSAS'!C20,2) -> 0 | K11: =ROUND('CRONOGRAMA PREMISSAS'!B20*'CRONOGRAMA PREMISSAS'!C20,2) -> 0 | L11: =ROUND('CRONOGRAMA PREMISSAS'!B20*'CRONOGRAMA PREMISSAS'!C20,2) -> 0 | M11: =ROUND('CRONOGRAMA PREMISSAS'!B20*'CRONOGRAMA PREMISSAS'!C20,2) -> 0 | N11: =ROUND('CRONOGRAMA PREMISSAS'!B20*'CRONOGRAMA PREMISSAS'!C20,2) -> 0 | O11: =ROUND('CRONOGRAMA PREMISSAS'!B20*'CRONOGRAMA PREMISSAS'!C20,2) -> 0 | P11: =ROUND('CRONOGRAMA PREMISSAS'!B20*'CRONOGRAMA PREMISSAS'!C20,2) -> 0 | Q11: =ROUND('CRONOGRAMA PREMISSAS'!B20*'CRONOGRAMA PREMISSAS'!C20,2) -> 0
A12: LOGÍSTICA | B12: Caminhões Munck (2) | C12: =IF(AND(COLUMN()-2>=3,COLUMN()-2<=14),ROUND('CRONOGRAMA PREMISSAS'!B21*'CRONOGRAMA PREMISSAS'!C21,2),0) -> 0 | D12: =IF(AND(COLUMN()-2>=3,COLUMN()-2<=14),ROUND('CRONOGRAMA PREMISSAS'!B21*'CRONOGRAMA PREMISSAS'!C21,2),0) -> 0 | E12: =IF(AND(COLUMN()-2>=3,COLUMN()-2<=14),ROUND('CRONOGRAMA PREMISSAS'!B21*'CRONOGRAMA PREMISSAS'!C21,2),0) -> 0 | F12: =IF(AND(COLUMN()-2>=3,COLUMN()-2<=14),ROUND('CRONOGRAMA PREMISSAS'!B21*'CRONOGRAMA PREMISSAS'!C21,2),0) -> 0 | G12: =IF(AND(COLUMN()-2>=3,COLUMN()-2<=14),ROUND('CRONOGRAMA PREMISSAS'!B21*'CRONOGRAMA PREMISSAS'!C21,2),0) -> 0 | H12: =IF(AND(COLUMN()-2>=3,COLUMN()-2<=14),ROUND('CRONOGRAMA PREMISSAS'!B21*'CRONOGRAMA PREMISSAS'!C21,2),0) -> 0 | I12: =IF(AND(COLUMN()-2>=3,COLUMN()-2<=14),ROUND('CRONOGRAMA PREMISSAS'!B21*'CRONOGRAMA PREMISSAS'!C21,2),0) -> 0 | J12: =IF(AND(COLUMN()-2>=3,COLUMN()-2<=14),ROUND('CRONOGRAMA PREMISSAS'!B21*'CRONOGRAMA PREMISSAS'!C21,2),0) -> 0 | K12: =IF(AND(COLUMN()-2>=3,COLUMN()-2<=14),ROUND('CRONOGRAMA PREMISSAS'!B21*'CRONOGRAMA PREMISSAS'!C21,2),0) -> 0 | L12: =IF(AND(COLUMN()-2>=3,COLUMN()-2<=14),ROUND('CRONOGRAMA PREMISSAS'!B21*'CRONOGRAMA PREMISSAS'!C21,2),0) -> 0 | M12: =IF(AND(COLUMN()-2>=3,COLUMN()-2<=14),ROUND('CRONOGRAMA PREMISSAS'!B21*'CRONOGRAMA PREMISSAS'!C21,2),0) -> 0 | N12: =IF(AND(COLUMN()-2>=3,COLUMN()-2<=14),ROUND('CRONOGRAMA PREMISSAS'!B21*'CRONOGRAMA PREMISSAS'!C21,2),0) -> 0 | O12: =IF(AND(COLUMN()-2>=3,COLUMN()-2<=14),ROUND('CRONOGRAMA PREMISSAS'!B21*'CRONOGRAMA PREMISSAS'!C21,2),0) -> 0 | P12: =IF(AND(COLUMN()-2>=3,COLUMN()-2<=14),ROUND('CRONOGRAMA PREMISSAS'!B21*'CRONOGRAMA PREMISSAS'!C21,2),0) -> 0 | Q12: =IF(AND(COLUMN()-2>=3,COLUMN()-2<=14),ROUND('CRONOGRAMA PREMISSAS'!B21*'CRONOGRAMA PREMISSAS'!C21,2),0) -> 0
A13: EQUIPAMENTO | B13: Compactadores (2) | C13: =IF(AND(COLUMN()-2>=3,COLUMN()-2<=14),ROUND('CRONOGRAMA PREMISSAS'!B22*'CRONOGRAMA PREMISSAS'!C22,2),0) -> 0 | D13: =IF(AND(COLUMN()-2>=3,COLUMN()-2<=14),ROUND('CRONOGRAMA PREMISSAS'!B22*'CRONOGRAMA PREMISSAS'!C22,2),0) -> 0 | E13: =IF(AND(COLUMN()-2>=3,COLUMN()-2<=14),ROUND('CRONOGRAMA PREMISSAS'!B22*'CRONOGRAMA PREMISSAS'!C22,2),0) -> 0 | F13: =IF(AND(COLUMN()-2>=3,COLUMN()-2<=14),ROUND('CRONOGRAMA PREMISSAS'!B22*'CRONOGRAMA PREMISSAS'!C22,2),0) -> 0 | G13: =IF(AND(COLUMN()-2>=3,COLUMN()-2<=14),ROUND('CRONOGRAMA PREMISSAS'!B22*'CRONOGRAMA PREMISSAS'!C22,2),0) -> 0 | H13: =IF(AND(COLUMN()-2>=3,COLUMN()-2<=14),ROUND('CRONOGRAMA PREMISSAS'!B22*'CRONOGRAMA PREMISSAS'!C22,2),0) -> 0 | I13: =IF(AND(COLUMN()-2>=3,COLUMN()-2<=14),ROUND('CRONOGRAMA PREMISSAS'!B22*'CRONOGRAMA PREMISSAS'!C22,2),0) -> 0 | J13: =IF(AND(COLUMN()-2>=3,COLUMN()-2<=14),ROUND('CRONOGRAMA PREMISSAS'!B22*'CRONOGRAMA PREMISSAS'!C22,2),0) -> 0 | K13: =IF(AND(COLUMN()-2>=3,COLUMN()-2<=14),ROUND('CRONOGRAMA PREMISSAS'!B22*'CRONOGRAMA PREMISSAS'!C22,2),0) -> 0 | L13: =IF(AND(COLUMN()-2>=3,COLUMN()-2<=14),ROUND('CRONOGRAMA PREMISSAS'!B22*'CRONOGRAMA PREMISSAS'!C22,2),0) -> 0 | M13: =IF(AND(COLUMN()-2>=3,COLUMN()-2<=14),ROUND('CRONOGRAMA PREMISSAS'!B22*'CRONOGRAMA PREMISSAS'!C22,2),0) -> 0 | N13: =IF(AND(COLUMN()-2>=3,COLUMN()-2<=14),ROUND('CRONOGRAMA PREMISSAS'!B22*'CRONOGRAMA PREMISSAS'!C22,2),0) -> 0 | O13: =IF(AND(COLUMN()-2>=3,COLUMN()-2<=14),ROUND('CRONOGRAMA PREMISSAS'!B22*'CRONOGRAMA PREMISSAS'!C22,2),0) -> 0 | P13: =IF(AND(COLUMN()-2>=3,COLUMN()-2<=14),ROUND('CRONOGRAMA PREMISSAS'!B22*'CRONOGRAMA PREMISSAS'!C22,2),0) -> 0 | Q13: =IF(AND(COLUMN()-2>=3,COLUMN()-2<=14),ROUND('CRONOGRAMA PREMISSAS'!B22*'CRONOGRAMA PREMISSAS'!C22,2),0) -> 0
A14: COMBUSTÍVEL | B14: Diesel S10 | C14: =ROUND('CRONOGRAMA PREMISSAS'!B23*'CRONOGRAMA PREMISSAS'!C23,2) -> 0 | D14: =ROUND('CRONOGRAMA PREMISSAS'!B23*'CRONOGRAMA PREMISSAS'!C23,2) -> 0 | E14: =ROUND('CRONOGRAMA PREMISSAS'!B23*'CRONOGRAMA PREMISSAS'!C23,2) -> 0 | F14: =ROUND('CRONOGRAMA PREMISSAS'!B23*'CRONOGRAMA PREMISSAS'!C23,2) -> 0 | G14: =ROUND('CRONOGRAMA PREMISSAS'!B23*'CRONOGRAMA PREMISSAS'!C23,2) -> 0 | H14: =ROUND('CRONOGRAMA PREMISSAS'!B23*'CRONOGRAMA PREMISSAS'!C23,2) -> 0 | I14: =ROUND('CRONOGRAMA PREMISSAS'!B23*'CRONOGRAMA PREMISSAS'!C23,2) -> 0 | J14: =ROUND('CRONOGRAMA PREMISSAS'!B23*'CRONOGRAMA PREMISSAS'!C23,2) -> 0 | K14: =ROUND('CRONOGRAMA PREMISSAS'!B23*'CRONOGRAMA PREMISSAS'!C23,2) -> 0 | L14: =ROUND('CRONOGRAMA PREMISSAS'!B23*'CRONOGRAMA PREMISSAS'!C23,2) -> 0 | M14: =ROUND('CRONOGRAMA PREMISSAS'!B23*'CRONOGRAMA PREMISSAS'!C23,2) -> 0 | N14: =ROUND('CRONOGRAMA PREMISSAS'!B23*'CRONOGRAMA PREMISSAS'!C23,2) -> 0 | O14: =ROUND('CRONOGRAMA PREMISSAS'!B23*'CRONOGRAMA PREMISSAS'!C23,2) -> 0 | P14: =ROUND('CRONOGRAMA PREMISSAS'!B23*'CRONOGRAMA PREMISSAS'!C23,2) -> 0 | Q14: =ROUND('CRONOGRAMA PREMISSAS'!B23*'CRONOGRAMA PREMISSAS'!C23,2) -> 0
A15: COMBUSTÍVEL | B15: Diesel | C15: =IF(AND(COLUMN()-2>=3,COLUMN()-2<=14),ROUND('CRONOGRAMA PREMISSAS'!B24*'CRONOGRAMA PREMISSAS'!C24,2),0) -> 0 | D15: =IF(AND(COLUMN()-2>=3,COLUMN()-2<=14),ROUND('CRONOGRAMA PREMISSAS'!B24*'CRONOGRAMA PREMISSAS'!C24,2),0) -> 0 | E15: =IF(AND(COLUMN()-2>=3,COLUMN()-2<=14),ROUND('CRONOGRAMA PREMISSAS'!B24*'CRONOGRAMA PREMISSAS'!C24,2),0) -> 0 | F15: =IF(AND(COLUMN()-2>=3,COLUMN()-2<=14),ROUND('CRONOGRAMA PREMISSAS'!B24*'CRONOGRAMA PREMISSAS'!C24,2),0) -> 0 | G15: =IF(AND(COLUMN()-2>=3,COLUMN()-2<=14),ROUND('CRONOGRAMA PREMISSAS'!B24*'CRONOGRAMA PREMISSAS'!C24,2),0) -> 0 | H15: =IF(AND(COLUMN()-2>=3,COLUMN()-2<=14),ROUND('CRONOGRAMA PREMISSAS'!B24*'CRONOGRAMA PREMISSAS'!C24,2),0) -> 0 | I15: =IF(AND(COLUMN()-2>=3,COLUMN()-2<=14),ROUND('CRONOGRAMA PREMISSAS'!B24*'CRONOGRAMA PREMISSAS'!C24,2),0) -> 0 | J15: =IF(AND(COLUMN()-2>=3,COLUMN()-2<=14),ROUND('CRONOGRAMA PREMISSAS'!B24*'CRONOGRAMA PREMISSAS'!C24,2),0) -> 0 | K15: =IF(AND(COLUMN()-2>=3,COLUMN()-2<=14),ROUND('CRONOGRAMA PREMISSAS'!B24*'CRONOGRAMA PREMISSAS'!C24,2),0) -> 0 | L15: =IF(AND(COLUMN()-2>=3,COLUMN()-2<=14),ROUND('CRONOGRAMA PREMISSAS'!B24*'CRONOGRAMA PREMISSAS'!C24,2),0) -> 0 | M15: =IF(AND(COLUMN()-2>=3,COLUMN()-2<=14),ROUND('CRONOGRAMA PREMISSAS'!B24*'CRONOGRAMA PREMISSAS'!C24,2),0) -> 0 | N15: =IF(AND(COLUMN()-2>=3,COLUMN()-2<=14),ROUND('CRONOGRAMA PREMISSAS'!B24*'CRONOGRAMA PREMISSAS'!C24,2),0) -> 0 | O15: =IF(AND(COLUMN()-2>=3,COLUMN()-2<=14),ROUND('CRONOGRAMA PREMISSAS'!B24*'CRONOGRAMA PREMISSAS'!C24,2),0) -> 0 | P15: =IF(AND(COLUMN()-2>=3,COLUMN()-2<=14),ROUND('CRONOGRAMA PREMISSAS'!B24*'CRONOGRAMA PREMISSAS'!C24,2),0) -> 0 | Q15: =IF(AND(COLUMN()-2>=3,COLUMN()-2<=14),ROUND('CRONOGRAMA PREMISSAS'!B24*'CRONOGRAMA PREMISSAS'!C24,2),0) -> 0
A16: DESLOCAMENTO | B16: Diárias | C16: =IF(AND(COLUMN()-2>=3,COLUMN()-2<=14),ROUND('CRONOGRAMA PREMISSAS'!B25*'CRONOGRAMA PREMISSAS'!C25,2),0) -> 0 | D16: =IF(AND(COLUMN()-2>=3,COLUMN()-2<=14),ROUND('CRONOGRAMA PREMISSAS'!B25*'CRONOGRAMA PREMISSAS'!C25,2),0) -> 0 | E16: =IF(AND(COLUMN()-2>=3,COLUMN()-2<=14),ROUND('CRONOGRAMA PREMISSAS'!B25*'CRONOGRAMA PREMISSAS'!C25,2),0) -> 0 | F16: =IF(AND(COLUMN()-2>=3,COLUMN()-2<=14),ROUND('CRONOGRAMA PREMISSAS'!B25*'CRONOGRAMA PREMISSAS'!C25,2),0) -> 0 | G16: =IF(AND(COLUMN()-2>=3,COLUMN()-2<=14),ROUND('CRONOGRAMA PREMISSAS'!B25*'CRONOGRAMA PREMISSAS'!C25,2),0) -> 0 | H16: =IF(AND(COLUMN()-2>=3,COLUMN()-2<=14),ROUND('CRONOGRAMA PREMISSAS'!B25*'CRONOGRAMA PREMISSAS'!C25,2),0) -> 0 | I16: =IF(AND(COLUMN()-2>=3,COLUMN()-2<=14),ROUND('CRONOGRAMA PREMISSAS'!B25*'CRONOGRAMA PREMISSAS'!C25,2),0) -> 0 | J16: =IF(AND(COLUMN()-2>=3,COLUMN()-2<=14),ROUND('CRONOGRAMA PREMISSAS'!B25*'CRONOGRAMA PREMISSAS'!C25,2),0) -> 0 | K16: =IF(AND(COLUMN()-2>=3,COLUMN()-2<=14),ROUND('CRONOGRAMA PREMISSAS'!B25*'CRONOGRAMA PREMISSAS'!C25,2),0) -> 0 | L16: =IF(AND(COLUMN()-2>=3,COLUMN()-2<=14),ROUND('CRONOGRAMA PREMISSAS'!B25*'CRONOGRAMA PREMISSAS'!C25,2),0) -> 0 | M16: =IF(AND(COLUMN()-2>=3,COLUMN()-2<=14),ROUND('CRONOGRAMA PREMISSAS'!B25*'CRONOGRAMA PREMISSAS'!C25,2),0) -> 0 | N16: =IF(AND(COLUMN()-2>=3,COLUMN()-2<=14),ROUND('CRONOGRAMA PREMISSAS'!B25*'CRONOGRAMA PREMISSAS'!C25,2),0) -> 0 | O16: =IF(AND(COLUMN()-2>=3,COLUMN()-2<=14),ROUND('CRONOGRAMA PREMISSAS'!B25*'CRONOGRAMA PREMISSAS'!C25,2),0) -> 0 | P16: =IF(AND(COLUMN()-2>=3,COLUMN()-2<=14),ROUND('CRONOGRAMA PREMISSAS'!B25*'CRONOGRAMA PREMISSAS'!C25,2),0) -> 0 | Q16: =IF(AND(COLUMN()-2>=3,COLUMN()-2<=14),ROUND('CRONOGRAMA PREMISSAS'!B25*'CRONOGRAMA PREMISSAS'!C25,2),0) -> 0
A17: SUBTOTAL | B17: CUSTOS FIXOS | C17: =ROUND(SUM(C4:C16),2) -> #DIV/0! | D17: =ROUND(SUM(D4:D16),2) -> #DIV/0! | E17: =ROUND(SUM(E4:E16),2) -> #DIV/0! | F17: =ROUND(SUM(F4:F16),2) -> #DIV/0! | G17: =ROUND(SUM(G4:G16),2) -> #DIV/0! | H17: =ROUND(SUM(H4:H16),2) -> #DIV/0! | I17: =ROUND(SUM(I4:I16),2) -> #DIV/0! | J17: =ROUND(SUM(J4:J16),2) -> #DIV/0! | ... P17: =ROUND(SUM(P4:P16),2) -> #DIV/0! | Q17: =ROUND('CRONOGRAMA PREMISSAS'!$B$8-SUM(C17:P17),2) -> #DIV/0!
A18: VARIÁVEL | B18: Custos variáveis | C18: 0 | D18: 0 | E18: =ROUND('CRONOGRAMA PREMISSAS'!$B$9*0.04,2) -> 0 | F18: =ROUND('CRONOGRAMA PREMISSAS'!$B$9*0.06,2) -> 0 | G18: =ROUND('CRONOGRAMA PREMISSAS'!$B$9*0.08,2) -> 0 | H18: =ROUND('CRONOGRAMA PREMISSAS'!$B$9*0.1,2) -> 0 | I18: =ROUND('CRONOGRAMA PREMISSAS'!$B$9*0.11,2) -> 0 | J18: =ROUND('CRONOGRAMA PREMISSAS'!$B$9*0.11,2) -> 0 | K18: =ROUND('CRONOGRAMA PREMISSAS'!$B$9*0.11,2) -> 0 | L18: =ROUND('CRONOGRAMA PREMISSAS'!$B$9*0.11,2) -> 0 | M18: =ROUND('CRONOGRAMA PREMISSAS'!$B$9*0.1,2) -> 0 | N18: =ROUND('CRONOGRAMA PREMISSAS'!$B$9*0.08,2) -> 0 | O18: =ROUND('CRONOGRAMA PREMISSAS'!$B$9*0.06,2) -> 0 | P18: =ROUND('CRONOGRAMA PREMISSAS'!$B$9-SUM(C18:O18)-Q18,2) -> 0 | Q18: 0
A19: TOTAL | B19: DESEMBOLSO MENSAL | C19: =ROUND(C17+C18,2) -> #DIV/0! | D19: =ROUND(D17+D18,2) -> #DIV/0! | E19: =ROUND(E17+E18,2) -> #DIV/0! | F19: =ROUND(F17+F18,2) -> #DIV/0! | G19: =ROUND(G17+G18,2) -> #DIV/0! | H19: =ROUND(H17+H18,2) -> #DIV/0! | I19: =ROUND(I17+I18,2) -> #DIV/0! | J19: =ROUND(J17+J18,2) -> #DIV/0! | ... Q19: =ROUND(Q17+Q18,2) -> #DIV/0!
A20: % | B20: % DO CUSTO GLOBAL | C20: =C19/'CRONOGRAMA PREMISSAS'!$B$10 -> #DIV/0! | D20: =D19/'CRONOGRAMA PREMISSAS'!$B$10 -> #DIV/0! | E20: =E19/'CRONOGRAMA PREMISSAS'!$B$10 -> #DIV/0! | F20: =F19/'CRONOGRAMA PREMISSAS'!$B$10 -> #DIV/0! | G20: =G19/'CRONOGRAMA PREMISSAS'!$B$10 -> #DIV/0! | H20: =H19/'CRONOGRAMA PREMISSAS'!$B$10 -> #DIV/0! | I20: =I19/'CRONOGRAMA PREMISSAS'!$B$10 -> #DIV/0! | J20: =J19/'CRONOGRAMA PREMISSAS'!$B$10 -> #DIV/0! | ... Q20: =Q19/'CRONOGRAMA PREMISSAS'!$B$10 -> #DIV/0!
A21: ACUM. | B21: DESEMBOLSO ACUMULADO | C21: =C19 -> #DIV/0! | D21: =ROUND(C21+D19,2) -> #DIV/0! | E21: =ROUND(D21+E19,2) -> #DIV/0! | F21: =ROUND(E21+F19,2) -> #DIV/0! | G21: =ROUND(F21+G19,2) -> #DIV/0! | H21: =ROUND(G21+H19,2) -> #DIV/0! | I21: =ROUND(H21+I19,2) -> #DIV/0! | J21: =ROUND(I21+J19,2) -> #DIV/0! | K21: =ROUND(J21+K19,2) -> #DIV/0! | ... Q21: =ROUND(P21+Q19,2) -> #DIV/0!
A22: ACUM. % | B22: % FINANCEIRO ACUMULADO | C22: =C21/'CRONOGRAMA PREMISSAS'!$B$10 -> #DIV/0! | D22: =D21/'CRONOGRAMA PREMISSAS'!$B$10 -> #DIV/0! | E22: =E21/'CRONOGRAMA PREMISSAS'!$B$10 -> #DIV/0! | F22: =F21/'CRONOGRAMA PREMISSAS'!$B$10 -> #DIV/0! | G22: =G21/'CRONOGRAMA PREMISSAS'!$B$10 -> #DIV/0! | H22: =H21/'CRONOGRAMA PREMISSAS'!$B$10 -> #DIV/0! | I22: =I21/'CRONOGRAMA PREMISSAS'!$B$10 -> #DIV/0! | J22: =J21/'CRONOGRAMA PREMISSAS'!$B$10 -> #DIV/0! | ... Q22: =Q21/'CRONOGRAMA PREMISSAS'!$B$10 -> #DIV/0!
A24: FÍSICO | B24: AVANÇO FÍSICO MENSAL | C24: 0 | D24: 0 | E24: 0.0833 | F24: 0.0833 | G24: 0.0833 | H24: 0.0833 | I24: 0.0833 | J24: 0.0833 | K24: 0.0833 | L24: 0.0833 | M24: 0.0833 | N24: 0.0833 | O24: 0.0833 | P24: 0.0833 | Q24: 0
A25: FÍSICO | B25: AVANÇO FÍSICO ACUMULADO | C25: =C24 -> 0 | D25: =C25+D24 -> 0 | E25: =D25+E24 -> 0.0833 | F25: =E25+F24 -> 0.1666 | G25: =F25+G24 -> 0.2499 | H25: =G25+H24 -> 0.3332 | I25: =H25+I24 -> 0.4165 | J25: =I25+J24 -> 0.4998 | K25: =J25+K24 -> 0.5831 | ... Q25: =P25+Q24 -> 0.9996

Sheet 1.1 COORD
A1: PAINEL 7 | B1: 1.1 COORDENADOR
A3: Item | B3: 1.1
A4: Código
A5: Data Base
A6: Fonte*
A7: Descrição** | B7: Coordenador do Projeto
A8: Salário Base
B10: ENCARGOS SOCIAIS | C10: % | D10: R$
A12: 5.1 | B12: GRUPO A - ENCARGOS SOCIAIS SOBRE A FOLHA DE PAGAMENTO | C12: =SUM(C13:C21) -> 0 | D12: =SUM(D13:D21) -> 0
A13: 5.1.1 | B13: Instituto Nacional de Securidade Social - INSS | D13: =ROUND(($B$8*C13/100),2) -> 0
A14: 5.1.2 | B14: Serviço Social da Indústria - SESI | D14: =ROUND(($B$8*C14/100),2) -> 0
A15: 5.1.3 | B15: Serviço Nacional de Aprendizagem Industrial - SENAI | D15: =ROUND(($B$8*C15/100),2) -> 0
A16: 5.1.4 | B16: Instituto Nacional de Colonização e Reforma Agrária - INCRA | D16: =ROUND(($B$8*C16/100),2) -> 0
A17: 5.1.5 | B17: Serviço de Apoio a Pequena e Média Empresa - SEBRAE | D17: =ROUND(($B$8*C17/100),2) -> 0
A18: 5.1.6 | B18: Salário Educação | D18: =ROUND(($B$8*C18/100),2) -> 0
A19: 5.1.7 | B19: Seguro contra os Riscos de Acidente de Trabalho | D19: =ROUND(($B$8*C19/100),2) -> 0
A20: 5.1.8 | B20: Fundo de Garantia por Tempo de Serviço - FGTS | D20: =ROUND(($B$8*C20/100),2) -> 0
A21: 5.1.9 | B21: Serviço Social da Construção Civil do Estado de Minas Gerais - SECONCI | D21: =ROUND(($B$8*C21/100),2) -> 0
A23: 5.2 | B23: GRUPO B | C23: =SUM(C24:C30) -> 0 | D23: =SUM(D24:D30) -> 0
A24: 5.2.1 | B24: Auxílio enfermidade | D24: =ROUND(($B$8*C24/100),2) -> 0
A25: 5.2.2 | B25: Décimo terceiro salário | D25: =ROUND(($B$8*C25/100),2) -> 0
A26: 5.2.3 | B26: Licença paternidade | D26: =ROUND(($B$8*C26/100),2) -> 0
A27: 5.2.4 | B27: Faltas justificadas | D27: =ROUND(($B$8*C27/100),2) -> 0
A28: 5.2.5 | B28: Auxílio acidente de trabalho | D28: =ROUND(($B$8*C28/100),2) -> 0
A29: 5.2.6 | B29: Férias gozadas | D29: =ROUND(($B$8*C29/100),2) -> 0
A30: 5.2.7 | B30: Salário Maternidade | D30: =ROUND(($B$8*C30/100),2) -> 0
A32: 5.3 | B32: GRUPO C - ENCARGOS DE DEMISSÃO | C32: =SUM(C33:C37) -> 0 | D32: =SUM(D33:D37) -> 0
A33: 5.3.1 | B33: Aviso prévio indenizado | D33: =ROUND(($B$8*C33/100),2) -> 0
A34: 5.3.2 | B34: Aviso prévio trabalhado | D34: =ROUND(($B$8*C34/100),2) -> 0
A35: 5.3.3 | B35: Férias indenizadas | D35: =ROUND(($B$8*C35/100),2) -> 0
A36: 5.3.4 | B36: Depósito rescisão sem justa causa | D36: =ROUND(($B$8*C36/100),2) -> 0
A37: 5.3.5 | B37: Indenização adicional | D37: =ROUND(($B$8*C37/100),2) -> 0
A39: 5.4 | B39: GRUPO D - REINCIDÊNCIAS | C39: =SUM(C40:C41) -> 0 | D39: =SUM(D40:D41) -> 0
A40: 5.4.1 | B40: Reincidência do Grupo A sobre o Grupo B | D40: =ROUND(($B$8*C40/100),2) -> 0
A41: 5.4.2 | B41: Reincidência do Grupo A sobre aviso prévio trabalhado e reincidência do FGTS sobre aviso prévio indenizado | D41: =ROUND(($B$8*C41/100),2) -> 0
A43: TOTAL DE ENCARGOS SOCIAIS | C43: =C12+C23+C32+C39 -> 0 | D43: =D12+D23+D32+D39 -> 0
A45: 6 | B45: ENCARGOS COMPLEMENTARES | C45: % | D45: R$
A46: 6.1 | B46: Alimentação | C46: =ROUND((D46/$B$8),4)*100 -> #DIV/0!
A47: 6.2 | B47: Transportes - Vale transporte | C47: =ROUND((D47/$B$8),4)*100 -> #DIV/0!
A48: 6.3 | B48: Equipamento de Proteção Individual – EPI | C48: =ROUND((D48/$B$8),4)*100 -> #DIV/0!
...

Sheet 1.2 MOB SOCIAL
A1: PAINEL 8 | B1: 1.2 MOBILIZADOR SOCIAL
A3: Item | B3: 1.2
A4: Código
A5: Data Base
A6: Fonte
A7: Descrição* | B7: Mobilizador Social
A8: Salário Base
A10: 5 | B10: ENCARGOS SOCIAIS | C10: % | D10: R$
A12: 5.1 | B12: GRUPO A - ENCARGOS SOCIAIS SOBRE A FOLHA DE PAGAMENTO | C12: =SUM(C13:C21) -> 0 | D12: =SUM(D13:D21) -> 0
A13: 5.1.1 | B13: Instituto Nacional de Securidade Social - INSS | D13: =ROUND(($B$8*C13/100),2) -> 0
A14: 5.1.2 | B14: Serviço Social da Indústria - SESI | D14: =ROUND(($B$8*C14/100),2) -> 0
A15: 5.1.3 | B15: Serviço Nacional de Aprendizagem Industrial - SENAI | D15: =ROUND(($B$8*C15/100),2) -> 0
A16: 5.1.4 | B16: Instituto Nacional de Colonização e Reforma Agrária - INCRA | D16: =ROUND(($B$8*C16/100),2) -> 0
A17: 5.1.5 | B17: Serviço de Apoio a Pequena e Média Empresa - SEBRAE | D17: =ROUND(($B$8*C17/100),2) -> 0
A18: 5.1.6 | B18: Salário Educação | D18: =ROUND(($B$8*C18/100),2) -> 0
A19: 5.1.7 | B19: Seguro contra os Riscos de Acidente de Trabalho | D19: =ROUND(($B$8*C19/100),2) -> 0
A20: 5.1.8 | B20: Fundo de Garantia por Tempo de Serviço - FGTS | D20: =ROUND(($B$8*C20/100),2) -> 0
A21: 5.1.9 | B21: Serviço Social da Construção Civil do Estado de Minas Gerais - SECONCI | D21: =ROUND(($B$8*C21/100),2) -> 0
A23: 5.2 | B23: GRUPO B | C23: =SUM(C24:C30) -> 0 | D23: =SUM(D24:D30) -> 0
A24: 5.2.1 | B24: Auxílio enfermidade | D24: =ROUND(($B$8*C24/100),2) -> 0
A25: 5.2.2 | B25: Décimo terceiro salário | D25: =ROUND(($B$8*C25/100),2) -> 0
A26: 5.2.3 | B26: Licença paternidade | D26: =ROUND(($B$8*C26/100),2) -> 0
A27: 5.2.4 | B27: Faltas justificadas | D27: =ROUND(($B$8*C27/100),2) -> 0
A28: 5.2.5 | B28: Auxílio acidente de trabalho | D28: =ROUND(($B$8*C28/100),2) -> 0
A29: 5.2.6 | B29: Férias gozadas | D29: =ROUND(($B$8*C29/100),2) -> 0
A30: 5.2.7 | B30: Salário Maternidade | D30: =ROUND(($B$8*C30/100),2) -> 0
A32: 5.3 | B32: GRUPO C - ENCARGOS DE DEMISSÃO | C32: =SUM(C33:C37) -> 0 | D32: =SUM(D33:D37) -> 0
A33: 5.3.1 | B33: Aviso prévio indenizado | D33: =ROUND(($B$8*C33/100),2) -> 0
A34: 5.3.2 | B34: Aviso prévio trabalhado | D34: =ROUND(($B$8*C34/100),2) -> 0
A35: 5.3.3 | B35: Férias indenizadas | D35: =ROUND(($B$8*C35/100),2) -> 0
A36: 5.3.4 | B36: Depósito rescisão sem justa causa | D36: =ROUND(($B$8*C36/100),2) -> 0
A37: 5.3.5 | B37: Indenização adicional | D37: =ROUND(($B$8*C37/100),2) -> 0
A39: 5.4 | B39: GRUPO D - REINCIDÊNCIAS | C39: =SUM(C40:C41) -> 0 | D39: =SUM(D40:D41) -> 0
A40: 5.4.1 | B40: Reincidência do Grupo A sobre o Grupo B | D40: =ROUND(($B$8*C40/100),2) -> 0
A41: 5.4.2 | B41: Reincidência do Grupo A sobre aviso prévio trabalhado e reincidência do FGTS sobre aviso prévio indenizado | D41: =ROUND(($B$8*C41/100),2) -> 0
A43: TOTAL DE ENCARGOS SOCIAIS | C43: =C12+C23+C32+C39 -> 0 | D43: =D12+D23+D32+D39 -> 0
A45: 6 | B45: ENCARGOS COMPLEMENTARES | C45: % | D45: R$
A46: 6.1 | B46: Alimentação | C46: =ROUND((D46/$B$8),4)*100 -> #DIV/0!
A47: 6.2 | B47: Transportes - Vale transporte | C47: =ROUND((D47/$B$8),4)*100 -> #DIV/0!
A48: 6.3 | B48: Equipamento de Proteção Individual – EPI | C48: =ROUND((D48/$B$8),4)*100 -> #DIV/0!
...

Sheet 1.3 AUX ADM
A1: PAINEL 9 | B1: 1.3 AUXILIAR ADMINISTRATIVO
A3: Item | B3: 1.3
A4: Código
A5: Data Base
A6: Fonte
A7: Descrição* | B7: Auxiliar Administrativo
A8: Salário Base
A10: 5 | B10: ENCARGOS SOCIAIS | C10: % | D10: R$
A12: 5.1 | B12: GRUPO A - ENCARGOS SOCIAIS SOBRE A FOLHA DE PAGAMENTO | C12: =SUM(C13:C21) -> 0 | D12: =SUM(D13:D21) -> 0
A13: 5.1.1 | B13: Instituto Nacional de Securidade Social - INSS | D13: =ROUND(($B$8*C13/100),2) -> 0
A14: 5.1.2 | B14: Serviço Social da Indústria - SESI | D14: =ROUND(($B$8*C14/100),2) -> 0
A15: 5.1.3 | B15: Serviço Nacional de Aprendizagem Industrial - SENAI | D15: =ROUND(($B$8*C15/100),2) -> 0
A16: 5.1.4 | B16: Instituto Nacional de Colonização e Reforma Agrária - INCRA | D16: =ROUND(($B$8*C16/100),2) -> 0
A17: 5.1.5 | B17: Serviço de Apoio a Pequena e Média Empresa - SEBRAE | D17: =ROUND(($B$8*C17/100),2) -> 0
A18: 5.1.6 | B18: Salário Educação | D18: =ROUND(($B$8*C18/100),2) -> 0
A19: 5.1.7 | B19: Seguro contra os Riscos de Acidente de Trabalho | D19: =ROUND(($B$8*C19/100),2) -> 0
A20: 5.1.8 | B20: Fundo de Garantia por Tempo de Serviço - FGTS | D20: =ROUND(($B$8*C20/100),2) -> 0
A21: 5.1.9 | B21: Serviço Social da Construção Civil do Estado de Minas Gerais - SECONCI | D21: =ROUND(($B$8*C21/100),2) -> 0
A23: 5.2 | B23: GRUPO B | C23: =SUM(C24:C30) -> 0 | D23: =SUM(D24:D30) -> 0
A24: 5.2.1 | B24: Auxílio enfermidade | D24: =ROUND(($B$8*C24/100),2) -> 0
A25: 5.2.2 | B25: Décimo terceiro salário | D25: =ROUND(($B$8*C25/100),2) -> 0
A26: 5.2.3 | B26: Licença paternidade | D26: =ROUND(($B$8*C26/100),2) -> 0
A27: 5.2.4 | B27: Faltas justificadas | D27: =ROUND(($B$8*C27/100),2) -> 0
A28: 5.2.5 | B28: Auxílio acidente de trabalho | D28: =ROUND(($B$8*C28/100),2) -> 0
A29: 5.2.6 | B29: Férias gozadas | D29: =ROUND(($B$8*C29/100),2) -> 0
A30: 5.2.7 | B30: Salário Maternidade | D30: =ROUND(($B$8*C30/100),2) -> 0
A32: 5.3 | B32: GRUPO C - ENCARGOS DE DEMISSÃO | C32: =SUM(C33:C37) -> 0 | D32: =SUM(D33:D37) -> 0
A33: 5.3.1 | B33: Aviso prévio indenizado | D33: =ROUND(($B$8*C33/100),2) -> 0
A34: 5.3.2 | B34: Aviso prévio trabalhado | D34: =ROUND(($B$8*C34/100),2) -> 0
A35: 5.3.3 | B35: Férias indenizadas | D35: =ROUND(($B$8*C35/100),2) -> 0
A36: 5.3.4 | B36: Depósito rescisão sem justa causa | D36: =ROUND(($B$8*C36/100),2) -> 0
A37: 5.3.5 | B37: Indenização adicional | D37: =ROUND(($B$8*C37/100),2) -> 0
A39: 5.4 | B39: GRUPO D - REINCIDÊNCIAS | C39: =SUM(C40:C41) -> 0 | D39: =SUM(D40:D41) -> 0
A40: 5.4.1 | B40: Reincidência do Grupo A sobre o Grupo B | D40: =ROUND(($B$8*C40/100),2) -> 0
A41: 5.4.2 | B41: Reincidência do Grupo A sobre aviso prévio trabalhado e reincidência do FGTS sobre aviso prévio indenizado | D41: =ROUND(($B$8*C41/100),2) -> 0
A43: TOTAL DE ENCARGOS SOCIAIS | C43: =C12+C23+C32+C39 -> 0 | D43: =D12+D23+D32+D39 -> 0
A45: 6 | B45: ENCARGOS COMPLEMENTARES | C45: % | D45: R$
A46: 6.1 | B46: Alimentação | C46: =ROUND((D46/$B$8),4)*100 -> #DIV/0!
A47: 6.2 | B47: Transportes - Vale transporte | C47: =ROUND((D47/$B$8),4)*100 -> #DIV/0!
A48: 6.3 | B48: Equipamento de Proteção Individual – EPI | C48: =ROUND((D48/$B$8),4)*100 -> #DIV/0!
...

Sheet 1.4 ENC OPER
A1: PAINEL 10 | B1: 1.4 ENCARREGADO OPERACIONAL
A3: Item | B3: 1.4
A4: Código
A5: Data Base
A6: Fonte
A7: Descrição* | B7: Encarregado Operacional
A8: Salário Base
A10: 5 | B10: ENCARGOS SOCIAIS | C10: % | D10: R$
A12: 5.1 | B12: GRUPO A - ENCARGOS SOCIAIS SOBRE A FOLHA DE PAGAMENTO | C12: =SUM(C13:C21) -> 0 | D12: =SUM(D13:D21) -> 0
A13: 5.1.1 | B13: Instituto Nacional de Securidade Social - INSS | D13: =ROUND(($B$8*C13/100),2) -> 0
A14: 5.1.2 | B14: Serviço Social da Indústria - SESI | D14: =ROUND(($B$8*C14/100),2) -> 0
A15: 5.1.3 | B15: Serviço Nacional de Aprendizagem Industrial - SENAI | D15: =ROUND(($B$8*C15/100),2) -> 0
A16: 5.1.4 | B16: Instituto Nacional de Colonização e Reforma Agrária - INCRA | D16: =ROUND(($B$8*C16/100),2) -> 0
A17: 5.1.5 | B17: Serviço de Apoio a Pequena e Média Empresa - SEBRAE | D17: =ROUND(($B$8*C17/100),2) -> 0
A18: 5.1.6 | B18: Salário Educação | D18: =ROUND(($B$8*C18/100),2) -> 0
A19: 5.1.7 | B19: Seguro contra os Riscos de Acidente de Trabalho | D19: =ROUND(($B$8*C19/100),2) -> 0
A20: 5.1.8 | B20: Fundo de Garantia por Tempo de Serviço - FGTS | D20: =ROUND(($B$8*C20/100),2) -> 0
A21: 5.1.9 | B21: Serviço Social da Construção Civil do Estado de Minas Gerais - SECONCI | D21: =ROUND(($B$8*C21/100),2) -> 0
A23: 5.2 | B23: GRUPO B | C23: =SUM(C24:C30) -> 0 | D23: =SUM(D24:D30) -> 0
A24: 5.2.1 | B24: Auxílio enfermidade | D24: =ROUND(($B$8*C24/100),2) -> 0
A25: 5.2.2 | B25: Décimo terceiro salário | D25: =ROUND(($B$8*C25/100),2) -> 0
A26: 5.2.3 | B26: Licença paternidade | D26: =ROUND(($B$8*C26/100),2) -> 0
A27: 5.2.4 | B27: Faltas justificadas | D27: =ROUND(($B$8*C27/100),2) -> 0
A28: 5.2.5 | B28: Auxílio acidente de trabalho | D28: =ROUND(($B$8*C28/100),2) -> 0
A29: 5.2.6 | B29: Férias gozadas | D29: =ROUND(($B$8*C29/100),2) -> 0
A30: 5.2.7 | B30: Salário Maternidade | D30: =ROUND(($B$8*C30/100),2) -> 0
A32: 5.3 | B32: GRUPO C - ENCARGOS DE DEMISSÃO | C32: =SUM(C33:C37) -> 0 | D32: =SUM(D33:D37) -> 0
A33: 5.3.1 | B33: Aviso prévio indenizado | D33: =ROUND(($B$8*C33/100),2) -> 0
A34: 5.3.2 | B34: Aviso prévio trabalhado | D34: =ROUND(($B$8*C34/100),2) -> 0
A35: 5.3.3 | B35: Férias indenizadas | D35: =ROUND(($B$8*C35/100),2) -> 0
A36: 5.3.4 | B36: Depósito rescisão sem justa causa | D36: =ROUND(($B$8*C36/100),2) -> 0
A37: 5.3.5 | B37: Indenização adicional | D37: =ROUND(($B$8*C37/100),2) -> 0
A39: 5.4 | B39: GRUPO D - REINCIDÊNCIAS | C39: =SUM(C40:C41) -> 0 | D39: =SUM(D40:D41) -> 0
A40: 5.4.1 | B40: Reincidência do Grupo A sobre o Grupo B | D40: =ROUND(($B$8*C40/100),2) -> 0
A41: 5.4.2 | B41: Reincidência do Grupo A sobre aviso prévio trabalhado e reincidência do FGTS sobre aviso prévio indenizado | D41: =ROUND(($B$8*C41/100),2) -> 0
A43: TOTAL DE ENCARGOS SOCIAIS | C43: =C12+C23+C32+C39 -> 0 | D43: =D12+D23+D32+D39 -> 0
A45: 6 | B45: ENCARGOS COMPLEMENTARES | C45: % | D45: R$
A46: 6.1 | B46: Alimentação | C46: =ROUND((D46/$B$8),4)*100 -> #DIV/0!
A47: 6.2 | B47: Transportes - Vale transporte | C47: =ROUND((D47/$B$8),4)*100 -> #DIV/0!
A48: 6.3 | B48: Equipamento de Proteção Individual – EPI | C48: =ROUND((D48/$B$8),4)*100 -> #DIV/0!
...

Sheet 1.5 MOT
A1: PAINEL 11 | B1: 1.5 MOTORISTA
A3: Item | B3: 1.5
A4: Código
A5: Data Base
A6: Fonte
A7: Descrição* | B7: Motorista
A8: Salário Base
A10: 5 | B10: ENCARGOS SOCIAIS | C10: % | D10: R$
A12: 5.1 | B12: GRUPO A - ENCARGOS SOCIAIS SOBRE A FOLHA DE PAGAMENTO | C12: =SUM(C13:C21) -> 0 | D12: =SUM(D13:D21) -> 0
A13: 5.1.1 | B13: Instituto Nacional de Securidade Social - INSS | D13: =ROUND(($B$8*C13/100),2) -> 0
A14: 5.1.2 | B14: Serviço Social da Indústria - SESI | D14: =ROUND(($B$8*C14/100),2) -> 0
A15: 5.1.3 | B15: Serviço Nacional de Aprendizagem Industrial - SENAI | D15: =ROUND(($B$8*C15/100),2) -> 0
A16: 5.1.4 | B16: Instituto Nacional de Colonização e Reforma Agrária - INCRA | D16: =ROUND(($B$8*C16/100),2) -> 0
A17: 5.1.5 | B17: Serviço de Apoio a Pequena e Média Empresa - SEBRAE | D17: =ROUND(($B$8*C17/100),2) -> 0
A18: 5.1.6 | B18: Salário Educação | D18: =ROUND(($B$8*C18/100),2) -> 0
A19: 5.1.7 | B19: Seguro contra os Riscos de Acidente de Trabalho | D19: =ROUND(($B$8*C19/100),2) -> 0
A20: 5.1.8 | B20: Fundo de Garantia por Tempo de Serviço - FGTS | D20: =ROUND(($B$8*C20/100),2) -> 0
A21: 5.1.9 | B21: Serviço Social da Construção Civil do Estado de Minas Gerais - SECONCI | D21: =ROUND(($B$8*C21/100),2) -> 0
A23: 5.2 | B23: GRUPO B | C23: =SUM(C24:C30) -> 0 | D23: =SUM(D24:D30) -> 0
A24: 5.2.1 | B24: Auxílio enfermidade | D24: =ROUND(($B$8*C24/100),2) -> 0
A25: 5.2.2 | B25: Décimo terceiro salário | D25: =ROUND(($B$8*C25/100),2) -> 0
A26: 5.2.3 | B26: Licença paternidade | D26: =ROUND(($B$8*C26/100),2) -> 0
A27: 5.2.4 | B27: Faltas justificadas | D27: =ROUND(($B$8*C27/100),2) -> 0
A28: 5.2.5 | B28: Auxílio acidente de trabalho | D28: =ROUND(($B$8*C28/100),2) -> 0
A29: 5.2.6 | B29: Férias gozadas | D29: =ROUND(($B$8*C29/100),2) -> 0
A30: 5.2.7 | B30: Salário Maternidade | D30: =ROUND(($B$8*C30/100),2) -> 0
A32: 5.3 | B32: GRUPO C - ENCARGOS DE DEMISSÃO | C32: =SUM(C33:C37) -> 0 | D32: =SUM(D33:D37) -> 0
A33: 5.3.1 | B33: Aviso prévio indenizado | D33: =ROUND(($B$8*C33/100),2) -> 0
A34: 5.3.2 | B34: Aviso prévio trabalhado | D34: =ROUND(($B$8*C34/100),2) -> 0
A35: 5.3.3 | B35: Férias indenizadas | D35: =ROUND(($B$8*C35/100),2) -> 0
A36: 5.3.4 | B36: Depósito rescisão sem justa causa | D36: =ROUND(($B$8*C36/100),2) -> 0
A37: 5.3.5 | B37: Indenização adicional | D37: =ROUND(($B$8*C37/100),2) -> 0
A39: 5.4 | B39: GRUPO D - REINCIDÊNCIAS | C39: =SUM(C40:C41) -> 0 | D39: =SUM(D40:D41) -> 0
A40: 5.4.1 | B40: Reincidência do Grupo A sobre o Grupo B | D40: =ROUND(($B$8*C40/100),2) -> 0
A41: 5.4.2 | B41: Reincidência do Grupo A sobre aviso prévio trabalhado e reincidência do FGTS sobre aviso prévio indenizado | D41: =ROUND(($B$8*C41/100),2) -> 0
A43: TOTAL DE ENCARGOS SOCIAIS | C43: =C12+C23+C32+C39 -> 0 | D43: =D12+D23+D32+D39 -> 0
A45: 6 | B45: ENCARGOS COMPLEMENTARES | C45: % | D45: R$
A46: 6.1 | B46: Alimentação | C46: =ROUND((D46/$B$8),4)*100 -> #DIV/0!
A47: 6.2 | B47: Transportes - Vale transporte | C47: =ROUND((D47/$B$8),4)*100 -> #DIV/0!
A48: 6.3 | B48: Equipamento de Proteção Individual – EPI | C48: =ROUND((D48/$B$8),4)*100 -> #DIV/0!
...

Sheet 1.6 PEDR
A1: PAINEL 12 | B1: 1.6 PEDREIRO
A3: Item | B3: 1.6
A4: Código
A5: Data Base
A6: Fonte
A7: Descrição | B7: Pedreiro
A8: Salário Base
A10: 5 | B10: ENCARGOS SOCIAIS | C10: % | D10: R$
A12: 5.1 | B12: GRUPO A - ENCARGOS SOCIAIS SOBRE A FOLHA DE PAGAMENTO | C12: =SUM(C13:C21) -> 0 | D12: =SUM(D13:D21) -> 0
A13: 5.1.1 | B13: Instituto Nacional de Securidade Social - INSS | D13: =ROUND(($B$8*C13/100),2) -> 0
A14: 5.1.2 | B14: Serviço Social da Indústria - SESI | D14: =ROUND(($B$8*C14/100),2) -> 0
A15: 5.1.3 | B15: Serviço Nacional de Aprendizagem Industrial - SENAI | D15: =ROUND(($B$8*C15/100),2) -> 0
A16: 5.1.4 | B16: Instituto Nacional de Colonização e Reforma Agrária - INCRA | D16: =ROUND(($B$8*C16/100),2) -> 0
A17: 5.1.5 | B17: Serviço de Apoio a Pequena e Média Empresa - SEBRAE | D17: =ROUND(($B$8*C17/100),2) -> 0
A18: 5.1.6 | B18: Salário Educação | D18: =ROUND(($B$8*C18/100),2) -> 0
A19: 5.1.7 | B19: Seguro contra os Riscos de Acidente de Trabalho | D19: =ROUND(($B$8*C19/100),2) -> 0
A20: 5.1.8 | B20: Fundo de Garantia por Tempo de Serviço - FGTS | D20: =ROUND(($B$8*C20/100),2) -> 0
A21: 5.1.9 | B21: Serviço Social da Construção Civil do Estado de Minas Gerais - SECONCI | D21: =ROUND(($B$8*C21/100),2) -> 0
A23: 5.2 | B23: GRUPO B | C23: =SUM(C24:C30) -> 0 | D23: =SUM(D24:D30) -> 0
A24: 5.2.1 | B24: Auxílio enfermidade | D24: =ROUND(($B$8*C24/100),2) -> 0
A25: 5.2.2 | B25: Décimo terceiro salário | D25: =ROUND(($B$8*C25/100),2) -> 0
A26: 5.2.3 | B26: Licença paternidade | D26: =ROUND(($B$8*C26/100),2) -> 0
A27: 5.2.4 | B27: Faltas justificadas | D27: =ROUND(($B$8*C27/100),2) -> 0
A28: 5.2.5 | B28: Auxílio acidente de trabalho | D28: =ROUND(($B$8*C28/100),2) -> 0
A29: 5.2.6 | B29: Férias gozadas | D29: =ROUND(($B$8*C29/100),2) -> 0
A30: 5.2.7 | B30: Salário Maternidade | D30: =ROUND(($B$8*C30/100),2) -> 0
A32: 5.3 | B32: GRUPO C - ENCARGOS DE DEMISSÃO | C32: =SUM(C33:C37) -> 0 | D32: =SUM(D33:D37) -> 0
A33: 5.3.1 | B33: Aviso prévio indenizado | D33: =ROUND(($B$8*C33/100),2) -> 0
A34: 5.3.2 | B34: Aviso prévio trabalhado | D34: =ROUND(($B$8*C34/100),2) -> 0
A35: 5.3.3 | B35: Férias indenizadas | D35: =ROUND(($B$8*C35/100),2) -> 0
A36: 5.3.4 | B36: Depósito rescisão sem justa causa | D36: =ROUND(($B$8*C36/100),2) -> 0
A37: 5.3.5 | B37: Indenização adicional | D37: =ROUND(($B$8*C37/100),2) -> 0
A39: 5.4 | B39: GRUPO D - REINCIDÊNCIAS | C39: =SUM(C40:C41) -> 0 | D39: =SUM(D40:D41) -> 0
A40: 5.4.1 | B40: Reincidência do Grupo A sobre o Grupo B | D40: =ROUND(($B$8*C40/100),2) -> 0
A41: 5.4.2 | B41: Reincidência do Grupo A sobre aviso prévio trabalhado e reincidência do FGTS sobre aviso prévio indenizado | D41: =ROUND(($B$8*C41/100),2) -> 0
A43: TOTAL DE ENCARGOS SOCIAIS | C43: =C12+C23+C32+C39 -> 0 | D43: =D12+D23+D32+D39 -> 0
A45: 6 | B45: ENCARGOS COMPLEMENTARES | C45: % | D45: R$
A46: 6.1 | B46: Alimentação | C46: =ROUND((D46/$B$8),4)*100 -> #DIV/0!
A47: 6.2 | B47: Transportes - Vale transporte | C47: =ROUND((D47/$B$8),4)*100 -> #DIV/0!
A48: 6.3 | B48: Equipamento de Proteção Individual – EPI | C48: =ROUND((D48/$B$8),4)*100 -> #DIV/0!
...

Sheet 1.7 SERV
A1: PAINEL 13 | B1: 1.7 SERVENTE
A3: Item | B3: 1.7
A4: Código
A5: Data Base
A6: Fonte
A7: Descrição | B7: Servente
A8: Salário Base
A10: 5 | B10: ENCARGOS SOCIAIS | C10: % | D10: R$
A12: 5.1 | B12: GRUPO A - ENCARGOS SOCIAIS SOBRE A FOLHA DE PAGAMENTO | C12: =SUM(C13:C21) -> 0 | D12: =SUM(D13:D21) -> 0
A13: 5.1.1 | B13: Instituto Nacional de Securidade Social - INSS | D13: =ROUND(($B$8*C13/100),2) -> 0
A14: 5.1.2 | B14: Serviço Social da Indústria - SESI | D14: =ROUND(($B$8*C14/100),2) -> 0
A15: 5.1.3 | B15: Serviço Nacional de Aprendizagem Industrial - SENAI | D15: =ROUND(($B$8*C15/100),2) -> 0
A16: 5.1.4 | B16: Instituto Nacional de Colonização e Reforma Agrária - INCRA | D16: =ROUND(($B$8*C16/100),2) -> 0
A17: 5.1.5 | B17: Serviço de Apoio a Pequena e Média Empresa - SEBRAE | D17: =ROUND(($B$8*C17/100),2) -> 0
A18: 5.1.6 | B18: Salário Educação | D18: =ROUND(($B$8*C18/100),2) -> 0
A19: 5.1.7 | B19: Seguro contra os Riscos de Acidente de Trabalho | D19: =ROUND(($B$8*C19/100),2) -> 0
A20: 5.1.8 | B20: Fundo de Garantia por Tempo de Serviço - FGTS | D20: =ROUND(($B$8*C20/100),2) -> 0
A21: 5.1.9 | B21: Serviço Social da Construção Civil do Estado de Minas Gerais - SECONCI | D21: =ROUND(($B$8*C21/100),2) -> 0
A23: 5.2 | B23: GRUPO B | C23: =SUM(C24:C30) -> 0 | D23: =SUM(D24:D30) -> 0
A24: 5.2.1 | B24: Auxílio enfermidade | D24: =ROUND(($B$8*C24/100),2) -> 0
A25: 5.2.2 | B25: Décimo terceiro salário | D25: =ROUND(($B$8*C25/100),2) -> 0
A26: 5.2.3 | B26: Licença paternidade | D26: =ROUND(($B$8*C26/100),2) -> 0
A27: 5.2.4 | B27: Faltas justificadas | D27: =ROUND(($B$8*C27/100),2) -> 0
A28: 5.2.5 | B28: Auxílio acidente de trabalho | D28: =ROUND(($B$8*C28/100),2) -> 0
A29: 5.2.6 | B29: Férias gozadas | D29: =ROUND(($B$8*C29/100),2) -> 0
A30: 5.2.7 | B30: Salário Maternidade | D30: =ROUND(($B$8*C30/100),2) -> 0
A32: 5.3 | B32: GRUPO C - ENCARGOS DE DEMISSÃO | C32: =SUM(C33:C37) -> 0 | D32: =SUM(D33:D37) -> 0
A33: 5.3.1 | B33: Aviso prévio indenizado | D33: =ROUND(($B$8*C33/100),2) -> 0
A34: 5.3.2 | B34: Aviso prévio trabalhado | D34: =ROUND(($B$8*C34/100),2) -> 0
A35: 5.3.3 | B35: Férias indenizadas | D35: =ROUND(($B$8*C35/100),2) -> 0
A36: 5.3.4 | B36: Depósito rescisão sem justa causa | D36: =ROUND(($B$8*C36/100),2) -> 0
A37: 5.3.5 | B37: Indenização adicional | D37: =ROUND(($B$8*C37/100),2) -> 0
A39: 5.4 | B39: GRUPO D - REINCIDÊNCIAS | C39: =SUM(C40:C41) -> 0 | D39: =SUM(D40:D41) -> 0
A40: 5.4.1 | B40: Reincidência do Grupo A sobre o Grupo B | D40: =ROUND(($B$8*C40/100),2) -> 0
A41: 5.4.2 | B41: Reincidência do Grupo A sobre aviso prévio trabalhado e reincidência do FGTS sobre aviso prévio indenizado | D41: =ROUND(($B$8*C41/100),2) -> 0
A43: TOTAL DE ENCARGOS SOCIAIS | C43: =C12+C23+C32+C39 -> 0 | D43: =D12+D23+D32+D39 -> 0
A45: 6 | B45: ENCARGOS COMPLEMENTARES | C45: % | D45: R$
A46: 6.1 | B46: Alimentação | C46: =ROUND((D46/$B$8),4)*100 -> #DIV/0!
A47: 6.2 | B47: Transportes - Vale transporte | C47: =ROUND((D47/$B$8),4)*100 -> #DIV/0!
A48: 6.3 | B48: Equipamento de Proteção Individual – EPI | C48: =ROUND((D48/$B$8),4)*100 -> #DIV/0!
...

Sheet  FATOR K
A1: PAINEL 14 | B1: CÁLCULO DO K DO PROJETO
A3: Os K's foram calculados através de fórmulas estabelecidas pelo Acórdão 1787/2011. Os parâmetros utilizados foram estabelecidos pela Nota Técnica Conjunta nº 01/2012/SIP/SAF da Agência Nacional de Águas. Os valores para Administração, Risco e Despesas Financeiras, Lucro e Despesas Fiscais e Legais foram estabelecidas com base na análise do BDI x Fator K
A5: DETALHAMENTO DO FATOR K
A6: ES1 - ENCARGOS SOCIAIS
A7: ES2 - ENCARGOS COMPLEMENTARES*
A8: ES - ENCARGOS SOCIAIS + ENCARGOS COMPLEMENTARES | K8: =K6+K7 -> 0
A9: ES - EQUIPE TEMPORÁRIA
A10: ARDF - ADMINISTRAÇÃO, RISCO E DESPESAS FINANCEIRAS
A11: L - LUCRO
A12: DFL - DESPESAS FISCAIS LEGAIS - DFL=(PIS+COFINS+ISS)/(1-PIS+COFINS+ISS) | K12: =J13/(1-J13) -> 0
A13: PIS + COFINS + ISS | J13: =J14+J15+J16 -> 0
A14: PIS
A15: COFINS
A16: ISS
A18: K1 | B18: MÃO DE OBRA - EQUIPE PERMANENTE | C18: K1 = [(1+ES+ARDF)*(1+L)*(1+DFL)] | K18: =(1+K8+K10)*(1+K11)*(1+K12) -> 1
A19: K2 | B19: MÃO DE OBRA - EQUIPE TEMPORÁRIA | C19: K2 = [(1+ESA+ARDF)*(1+L)*(1+DFL)] | K19: =ROUND(((1+K9+K10)*(1+K11)*(1+K12)),2) -> 1
A20: K3 | B20: SERVIÇOS TÉCNICOS E DE APOIO | C20: K3 = [(1+ARDF)*(1+L)*(1+DFL)] | K20: =ROUND(((1+K10)*(1+K11)*(1+K12)),2) -> 1
A21: K4 | B21: DESPESAS DIRETAS | C21: K4 = (1+L)*(1+DFL) | K21: =ROUND(((1+K11)*(1+K12)),2) -> 1
A23: *Os encargos complementares e, consequentemente, o FATOR K1 serão definidos de maneira específica para cada profissional da equipe.
