Workbook

Sheet Capa
A19: Contratação de empresa especializada para apoio à Escola de Projetos no gerenciamento, fiscalização e aprovação de projetos de Sistemas de Abastecimento de Água (SAA) e Sistemas de Esgotamento Sanitário (SES) nos municípios das Circunscrições Hidrográficas dos rios Piranga (DO1), Piracicaba (DO2), Santo Antônio (DO3) e Manhuaçu (DO6), contemplados pelo PROTRATAR Projetos de 2024 e 2025
B25: CBHs Piranga, Piracicaba, Santo Antônio e Manhuaçu
B31: GOVERNADOR VALADARES/MG
C48: PREENCHER DATA

Sheet Orç_20-30
A10: GOVERNO DO ESTADO DO RIO DE JANEIRO
A11: SECRETARIA DE ESTADO DO AMBIENTE - SEA
B13: Planilha Orçamentária | G13: I0 = AGO/2011
A14: Projeto: ELABORAÇÃO DE PLANO MUNICIPAL DE SANEAMENTO NAS MODALIDADES ÁGUA, ESGOTO E DRENAGEM URBANA PARA MUNICÍPIOS COM POPULAÇÃO ATÉ 15 MIL HABITANTES
A15: ITEM | B15: DESCRIÇÃO | C15: Código | D15: Unid. | E15: Quant. | F15: Preço unit. | G15: Custo total
F16: EMOP JUL/11
A17: 0 | B17: Supervisão e Suporte | G17: =SUM(G18:G20) -> #REF! | I17: h/mês | J17: nº meses | K17: nº prof.
A18: 0.1 | B18: =IF(C18="","",VLOOKUP(C18,#REF!,2,FALSE)) -> #REF! | C18: 05.105.034-0 | D18: h | E18: =I18*J18*K18 -> 240 | F18: =IF(C18="","",VLOOKUP(C18,#REF!,2,FALSE)) -> #REF! | G18: =E18*F18 -> #REF! | I18: 40 | J18: 6 | K18: 1
A19: 0.2 | B19: =IF(C19="","",VLOOKUP(C19,#REF!,2,FALSE)) -> #REF! | C19: 05.105.038-0 | D19: h | E19: =I19*J19*K19 -> 960 | F19: =IF(C19="","",VLOOKUP(C19,#REF!,2,FALSE)) -> #REF! | G19: =E19*F19 -> #REF! | I19: 160 | J19: 6 | K19: 1
A20: 0.3 | B20: =IF(C20="","",VLOOKUP(C20,#REF!,2,FALSE)) -> #REF! | C20: 05.105.041-0 | D20: h | E20: =I20*J20*K20 -> 960 | F20: =IF(C20="","",VLOOKUP(C20,#REF!,2,FALSE)) -> #REF! | G20: =E20*F20 -> #REF! | I20: 160 | J20: 6 | K20: 1
A21: 1 | B21: Plano de Trabalho (P1) e Projeto de Comunicação e Mobilização Social (P2) | G21: =SUM(G22:G29) -> #REF! | L21: 1 | M21: P1 + P2
A22: 1.1 | B22: MÃO-DE-OBRA DE ADVOGADO OU ASSESSOR JURÍDICO | D22: h | E22: =I22*J22*K22 -> 40 | F22: 53.9 | G22: =E22*F22 -> 2156 | I22: 40 | J22: 1 | K22: 1 | N22: 3719.74 | O22: =N22/160 -> 23.248375 | P22: =O22+O22*1.14 -> 49.751522
A23: 1.2 | B23: MÃO-DE-OBRA DE ASSISTENTE SOCIAL | D23: h | E23: =I23*J23*K23 -> 160 | F23: 53.9 | G23: =E23*F23 -> 8624 | I23: 160 | J23: 1 | K23: 1 | N23: 2076 | O23: =N23/160 -> 12.975 | P23: =O23+O23*1.14 -> 27.7665
A24: 1.3 | B24: MÃO-DE-OBRA DE ECONOMISTA | D24: h | E24: =I24*J24*K24 -> 0 | F24: 53.9 | G24: =E24*F24 -> 0 | I24: 160 | J24: 1 | K24: 0 | P24: 50
A25: 1.4 | B25: =IF(C25="","",VLOOKUP(C25,#REF!,2,FALSE)) -> #REF! | C25: 05.105.033-0 | D25: h | E25: =I25*J25*K25 -> 80 | F25: =IF(C25="","",VLOOKUP(C25,#REF!,2,FALSE)) -> #REF! | G25: =E25*F25 -> #REF! | I25: 80 | J25: 1 | K25: 1
A26: 1.5 | B26: =IF(C26="","",VLOOKUP(C26,#REF!,2,FALSE)) -> #REF! | C26: 05.105.032-0 | D26: h | E26: =I26*J26*K26 -> 160 | F26: =IF(C26="","",VLOOKUP(C26,#REF!,2,FALSE)) -> #REF! | G26: =E26*F26 -> #REF! | I26: 160 | J26: 1 | K26: 1
A27: 1.6 | B27: =IF(C27="","",VLOOKUP(C27,#REF!,2,FALSE)) -> #REF! | C27: 05.105.026-0 | D27: h | E27: =I27*J27*K27 -> 0 | F27: =IF(C27="","",VLOOKUP(C27,#REF!,2,FALSE)) -> #REF! | G27: =E27*F27 -> #REF! | I27: 160 | J27: 1 | K27: 0
A28: 1.7 | B28: =IF(C28="","",VLOOKUP(C28,#REF!,2,FALSE)) -> #REF! | C28: 05.105.035-0 | D28: h | E28: =I28*J28*K28 -> 0 | F28: =IF(C28="","",VLOOKUP(C28,#REF!,2,FALSE)) -> #REF! | G28: =E28*F28 -> #REF! | I28: 160 | J28: 1 | K28: 0
A29: 1.8 | B29: =IF(C29="","",VLOOKUP(C29,#REF!,2,FALSE)) -> #REF! | C29: 05.105.025-0 | E29: =I29*J29*K29 -> 0 | F29: =IF(C29="","",VLOOKUP(C29,#REF!,2,FALSE)) -> #REF! | G29: =E29*F29 -> #REF! | I29: 160 | J29: 1 | K29: 0
A30: 2 | B30: Caracterização do Município (P3) | G30: =SUM(G31:G39) -> #REF! | L30: 1 | M30: P3
A31: 2.1 | B31: MÃO-DE-OBRA DE ADVOGADO OU ASSESSOR JURÍDICO | D31: h | E31: =I31*J31*K31 -> 40 | F31: 53.9 | G31: =E31*F31 -> 2156 | I31: 40 | J31: 1 | K31: 1
A32: 2.2 | B32: MÃO-DE-OBRA DE ASSISTENTE SOCIAL | D32: h | E32: =I32*J32*K32 -> 40 | F32: 53.9 | G32: =E32*F32 -> 2156 | I32: 40 | J32: 1 | K32: 1
A33: 2.3 | B33: MÃO-DE-OBRA DE ECONOMISTA | D33: h | E33: =I33*J33*K33 -> 40 | F33: 53.9 | G33: =E33*F33 -> 2156 | I33: 40 | J33: 1 | K33: 1
A34: 2.4 | B34: =IF(C34="","",VLOOKUP(C34,#REF!,2,FALSE)) -> #REF! | C34: 05.105.033-0 | D34: h | E34: =I34*J34*K34 -> 40 | F34: =IF(C34="","",VLOOKUP(C34,#REF!,2,FALSE)) -> #REF! | G34: =E34*F34 -> #REF! | I34: 40 | J34: 1 | K34: 1
A35: 2.5 | B35: =IF(C35="","",VLOOKUP(C35,#REF!,2,FALSE)) -> #REF! | C35: 05.105.032-0 | D35: h | E35: =I35*J35*K35 -> 80 | F35: =IF(C35="","",VLOOKUP(C35,#REF!,2,FALSE)) -> #REF! | G35: =E35*F35 -> #REF! | I35: 80 | J35: 1 | K35: 1
A36: 2.6 | B36: =IF(C36="","",VLOOKUP(C36,#REF!,2,FALSE)) -> #REF! | C36: 05.105.026-0 | D36: h | E36: =I36*J36*K36 -> 0 | F36: =IF(C36="","",VLOOKUP(C36,#REF!,2,FALSE)) -> #REF! | G36: =E36*F36 -> #REF! | I36: 0 | J36: 1 | K36: 1
A37: 2.7 | B37: =IF(C37="","",VLOOKUP(C37,#REF!,2,FALSE)) -> #REF! | C37: 05.105.035-0 | D37: h | E37: =I37*J37*K37 -> 40 | F37: =IF(C37="","",VLOOKUP(C37,#REF!,2,FALSE)) -> #REF! | G37: =E37*F37 -> #REF! | I37: 40 | J37: 1 | K37: 1
A38: 2.8 | B38: =IF(C38="","",VLOOKUP(C38,#REF!,2,FALSE)) -> #REF! | C38: 05.105.025-0 | E38: =I38*J38*K38 -> 80 | F38: =IF(C38="","",VLOOKUP(C38,#REF!,2,FALSE)) -> #REF! | G38: =E38*F38 -> #REF! | I38: 80 | J38: 1 | K38: 1
A39: 2.9 | B39: =IF(C39="","",VLOOKUP(C39,#REF!,2,FALSE)) -> #REF! | C39: 19.004.042-2 | E39: =I39*J39*K39 -> 40 | F39: =IF(C39="","",VLOOKUP(C39,#REF!,2,FALSE)) -> #REF! | G39: =E39*F39 -> #REF! | I39: 40 | J39: 1 | K39: 1
A40: 3 | B40: Diagnóstico dos Serviços de Abastecimento de Água Potável (P4), Esgotamento Sanitário e Drenagem Pluvial Urbana (P5) | G40: =SUM(G41:G50) -> #REF! | L40: 1 | M40: P4
A41: 3.1 | B41: MÃO-DE-OBRA DE ADVOGADO OU ASSESSOR JURÍDICO | D41: h | E41: =I41*J41*K41 -> 40 | F41: 53.9 | G41: =E41*F41 -> 2156 | I41: 40 | J41: 1 | K41: 1
A42: 3.2 | B42: MÃO-DE-OBRA DE ASSISTENTE SOCIAL | D42: h | E42: =I42*J42*K42 -> 40 | F42: 53.9 | G42: =E42*F42 -> 2156 | I42: 40 | J42: 1 | K42: 1
A43: 3.3 | B43: MÃO-DE-OBRA DE ECONOMISTA | D43: h | E43: =I43*J43*K43 -> 40 | F43: 53.9 | G43: =E43*F43 -> 2156 | I43: 40 | J43: 1 | K43: 1
A44: 3.4 | B44: =IF(C44="","",VLOOKUP(C44,#REF!,2,FALSE)) -> #REF! | C44: 05.105.033-0 | D44: h | E44: =I44*J44*K44 -> 160 | F44: =IF(C44="","",VLOOKUP(C44,#REF!,2,FALSE)) -> #REF! | G44: =E44*F44 -> #REF! | I44: 160 | J44: 1 | K44: 1
A45: 3.5 | B45: =IF(C45="","",VLOOKUP(C45,#REF!,2,FALSE)) -> #REF! | C45: 05.105.032-0 | D45: h | E45: =I45*J45*K45 -> 320 | F45: =IF(C45="","",VLOOKUP(C45,#REF!,2,FALSE)) -> #REF! | G45: =E45*F45 -> #REF! | I45: 160 | J45: 1 | K45: 2
A46: 3.6 | B46: =IF(C46="","",VLOOKUP(C46,#REF!,2,FALSE)) -> #REF! | C46: 05.105.050-0 | D46: h | E46: =I46*J46*K46 -> 160 | F46: =IF(C46="","",VLOOKUP(C46,#REF!,2,FALSE)) -> #REF! | G46: =E46*F46 -> #REF! | I46: 160 | J46: 1 | K46: 1
A47: 3.7 | B47: =IF(C47="","",VLOOKUP(C47,#REF!,2,FALSE)) -> #REF! | C47: 05.105.026-0 | D47: h | E47: =I47*J47*K47 -> 160 | F47: =IF(C47="","",VLOOKUP(C47,#REF!,2,FALSE)) -> #REF! | G47: =E47*F47 -> #REF! | I47: 160 | J47: 1 | K47: 1
A48: 3.8 | B48: =IF(C48="","",VLOOKUP(C48,#REF!,2,FALSE)) -> #REF! | C48: 05.105.035-0 | D48: h | E48: =I48*J48*K48 -> 80 | F48: =IF(C48="","",VLOOKUP(C48,#REF!,2,FALSE)) -> #REF! | G48: =E48*F48 -> #REF! | I48: 80 | J48: 1 | K48: 1
A49: 3.9 | B49: =IF(C49="","",VLOOKUP(C49,#REF!,2,FALSE)) -> #REF! | C49: 05.105.025-0 | E49: =I49*J49*K49 -> 160 | F49: =IF(C49="","",VLOOKUP(C49,#REF!,2,FALSE)) -> #REF! | G49: =E49*F49 -> #REF! | I49: 160 | J49: 1 | K49: 1
A50: 3.10 | B50: =IF(C50="","",VLOOKUP(C50,#REF!,2,FALSE)) -> #REF! | C50: 19.004.042-2 | E50: =I50*J50*K50 -> 160 | F50: =IF(C50="","",VLOOKUP(C50,#REF!,2,FALSE)) -> #REF! | G50: =E50*F50 -> #REF! | I50: 160 | J50: 1 | K50: 1
...

Sheet Crono_20-30
A9: CRONOGRAMA FÍSICO-FINANCEIRO
A10: Projeto: ELABORAÇÃO DE PLANO MUNICIPAL DE SANEAMENTO NAS MODALIDADES ÁGUA, ESGOTO E DRENAGEM URBANA, PARA MUNICÍPIOS COM POPULAÇÃO ENTRE 15 E 30 MIL HABITANTES
A12: Atividade | B12: Supervisão/mês | C12: DIAS
C13: 30 | D13: 60 | E13: 90 | F13: 120 | G13: 150 | H13: 180
A15: Plano de Trabalho e Projeto de Comunicação e Mobilização Social (P1+P2) | B15: ='Orç_20-30'!$G$17/6 -> #REF!
C16: =('Orç_20-30'!G21+('Crono_20-30'!B15*1))*1.08 -> #REF!
A17: Caracterização do Município (P3) | B17: ='Orç_20-30'!$G$17/6 -> #REF!
D18: =('Orç_20-30'!G30+('Crono_20-30'!B17*1))*1.08 -> #REF!
A19: Diagnóstico do Serviço de Abastecimento de Água Potável (P4), Esgotamento Sanitário e Drenagem Pluvial Urbana (P5) | B19: ='Orç_20-30'!$G$17/6 -> #REF!
E20: =('Orç_20-30'!G40+('Crono_20-30'!B19*1))*1.08 -> #REF!
A21: Proposição de Arranjos Institucionais, Jurídicos e Econômico-Financeiros (P6), sistemas de Abastecimento de Água (P7), esgotamento sanitário e drenagem pluvial urbana (P8) | B21: ='Orç_20-30'!$G$17/6 -> #REF!
F22: =('Orç_20-30'!G51+('Crono_20-30'!B21*1))*1.08 -> #REF!
A23: Versão Preliminar do PMSB (P9) | B23: ='Orç_20-30'!$G$17/6 -> #REF!
G24: =('Orç_20-30'!G62+('Crono_20-30'!B23*1))*1.08 -> #REF!
A25: Banco de Dados (P10) e Versão Final do Plano (P11) | B25: ='Orç_20-30'!$G$17/6 -> #REF!
H26: =('Orç_20-30'!G71+('Crono_20-30'!B25*1))*1.08 -> #REF!
A27: Total | C27: =SUM(C15:C26) -> #REF! | D27: =SUM(D15:D26) -> #REF! | E27: =SUM(E15:E26) -> #REF! | F27: =SUM(F15:F26) -> #REF! | G27: =SUM(G15:G26) -> #REF! | H27: =SUM(H15:H26) -> #REF!
A28: Total Acumulado | C28: =SUM(C27) -> #REF! | D28: =SUM(C27:D27) -> #REF! | E28: =SUM(C27:E27) -> #REF! | F28: =SUM(C27:F27) -> #REF! | G28: =SUM(C27:G27) -> #REF! | H28: =SUM(C27:H27) -> #REF!
A29: Total (%) | C29: =(C27/$H$28)*100 -> #REF! | D29: =(D27/$H$28)*100 -> #REF! | E29: =(E27/$H$28)*100 -> #REF! | F29: =(F27/$H$28)*100 -> #REF! | G29: =(G27/$H$28)*100 -> #REF! | H29: =(H27/$H$28)*100 -> #REF!
A30: Total Acumulado (%) | C30: =(C28/$H$28)*100 -> #REF! | D30: =(D28/$H$28)*100 -> #REF! | E30: =(E28/$H$28)*100 -> #REF! | F30: =(F28/$H$28)*100 -> #REF! | G30: =(G28/$H$28)*100 -> #REF! | H30: =(H28/$H$28)*100 -> #REF!

Sheet K
A1: =Capa!A19 -> Contratação de empresa especializada para apoio à Escola de Projetos no gerenciamento, fiscalização e aprovação de projetos de Sistemas de Abastecimento de Água (SAA) e Sistemas de Esgotamento Sanitário (SES) nos municípios das Circunscrições Hidrográficas dos rios Piranga (DO1), Piracicaba (DO2), Santo Antônio (DO3) e Manhuaçu (DO6), contemplados pelo PROTRATAR Projetos de 2024 e 2025
A4: Detalhamento do Fator K | F4: Data: | G4: =TODAY() -> 46308
A5: Os K's foram calculados através de fórmulas estabelecidas pelo Acórdão 1787/2011. Os parâmetros utilizados foram estabelecidos pela Nota Técnica Conjunta nº 01/2012/SIP/SAF da Agência Nacional de Águas.
A8: DETALHAMENTO DO FATOR K
A9: ES - ENCARGOS SOCIAIS | G9: 0.8179
A10: ESA - ENCARGOS SOCIAIS SOBRE RPA | G10: 0.2
A11: ARDF - ADMINISTRAÇÃO, RISCO E DESPESAS FINANCEIRAS | G11: 0.1729
A12: L - LUCRO | G12: 0.0876
A13: DFL - DESPESAS FISCAIS LEGAIS | G13: 0.1662
A14: DFL=(PIS+COFINS+ISS)/(1-PIS+COFINS+ISS)
A15: PIS | E15: 0.0165
A16: COFINS | E16: 0.076
A17: ISS | E17: 0.05
A19: K1 | B19: Permanente | C19: K1 = [(1+ES+ARDF)*(1+L)*(1+DFL)] | G19: =TRUNC((1+G9+G11)*(1+G12)*(1+G13),2) -> 2.52
A20: K2 | B20: Consultores | C20: K2 = [(1+ESA+ARDF)*(1+L)*(1+DFL)] | G20: =TRUNC((1+G10+G11)*(1+G12)*(1+G13),2) -> 1.74
A21: K3 | B21: Serviço de Apoio Técnico | C21: K3 = [(1+ARDF)*(1+L)*(1+DFL)] | G21: =TRUNC((1+G11)*(1+G12)*(1+G13),2) -> 1.48
A22: K4 | B22: Despesas diretas | C22: K4 = (1+L)*(1+DFL) | G22: =(1+G12)*(1+G13) -> 1.2683591

Sheet Planejamento (PT)
A1: =Capa!A19 -> Contratação de empresa especializada para apoio à Escola de Projetos no gerenciamento, fiscalização e aprovação de projetos de Sistemas de Abastecimento de Água (SAA) e Sistemas de Esgotamento Sanitário (SES) nos municípios das Circunscrições Hidrográficas dos rios Piranga (DO1), Piracicaba (DO2), Santo Antônio (DO3) e Manhuaçu (DO6), contemplados pelo PROTRATAR Projetos de 2024 e 2025
A3: Produto 1: | C3: Plano de Trabalho (PT) | I3: Data: | J3: =TODAY() -> 46308
A5: Item | B5: Código | C5: Órgão | D5: Descrição | E5: Custo (R$) | G5: Quantitativo | H5: Custo total (R$) | I5: Custo total com K R$) | J5: Peso (%)
A6: 1 | B6: EQUIPE TÉCNICA | H6: =SUM(H7:H9) -> 0 | I6: =SUM(I7:I9) -> 0 | J6: =SUM(J7:J9) -> #DIV/0!
B7: P8061 | C7: DNIT | D7: Engenheiro Coordenador | F7: Hora | G7: 44 | H7: =E7*G7 -> 0 | I7: =H7*K!$G$20 -> 0 | J7: =I7/$I$21 -> #DIV/0!
B8: P8066 | C8: DNIT | D8: Engenheiro de Projetos - Nível Pleno | F8: Hora | G8: 0 | H8: =E8*G8 -> 0 | I8: =H8*K!$G$20 -> 0 | J8: =I8/$I$21 -> #DIV/0!
B9: P8026 | C9: DNIT | D9: Auxiliar administrativo | F9: Hora | G9: 45.875 | H9: =E9*G9 -> 0 | I9: =H9*K!$G$20 -> 0 | J9: =I9/$I$21 -> #DIV/0!
A11: 2 | B11: EQUIPE DE CONSULTORES | H11: =SUM(H12:H13) -> 0 | I11: =SUM(I12:I13) -> 0 | J11: =SUM(J12:J13) -> #DIV/0!
B12: P8067 | C12: DNIT | D12: Engenheiro de projetos Sênior - Estrutural | E12: 0 | F12: Hora | G12: 0 | H12: =E12*G12 -> 0 | I12: =H12*K!$G$20 -> 0 | J12: =I12/$I$21 -> #DIV/0!
B13: P8067 | C13: DNIT | D13: Engenheiro de projetos Sênior- Eletricista | E13: 0 | F13: Hora | G13: 0 | H13: =E13*G13 -> 0 | I13: =H13*K!$G$20 -> 0 | J13: =I13/$I$21 -> #DIV/0!
A16: 3 | B16: DESPESAS DIVERSAS | I16: =SUM(I19:I20) -> 0 | J16: =SUM(J19:J20) -> #DIV/0!
A18: 3.1 | B18: Outras despesas
B19: CO-27499 | C19: SICOR-MG | D19: Deslocamento Intermunicipal | E19: 0 | F19: km | G19: 0 | H19: =E19*G19 -> 0 | I19: =H19*K!$G$22 -> 0 | J19: =I19/$I$21 -> #DIV/0!
B20: Estimativa | C20: AGEVAP | D20: Diárias/ per noite | E20: 0 | F20: dia | G20: 0 | H20: =E20*G20 -> 0 | I20: =H20*K!$G$22 -> 0 | J20: =I20/$I$21 -> #DIV/0!
A21: VALOR TOTAL - Inclusos K's | H21: R$ | I21: =I6+I11+I16 -> 0 | J21: =+J11+J6+J16 -> #DIV/0!
A23: Observações:
A24: 1- | B24: Os K's foram calculados através de fórmulas estabelecidas pelo Acórdão 1787/2011. Os parâmetros utilizados foram estabelecidos pela Nota Técnica Conjunta nº 01/2012/SIP/SAF da Agência Nacional de Águas.
A25: 2- | B25: A remuneração horária é determinada dividindo-se o valor da remuneração mensal pela carga horária efetivamente trabalhada.
A26: 3- | B26: No valor do veículo já estão inclusos os valores de locação, gasolina e pedágio.

Sheet P1
A1: =Capa!A19 -> Contratação de empresa especializada para apoio à Escola de Projetos no gerenciamento, fiscalização e aprovação de projetos de Sistemas de Abastecimento de Água (SAA) e Sistemas de Esgotamento Sanitário (SES) nos municípios das Circunscrições Hidrográficas dos rios Piranga (DO1), Piracicaba (DO2), Santo Antônio (DO3) e Manhuaçu (DO6), contemplados pelo PROTRATAR Projetos de 2024 e 2025
A3: Produto 2.1: | C3: Plano de Trabalho | I3: Data: | J3: =TODAY() -> 46308
A5: Item | B5: Código | C5: Órgão | D5: Descrição | E5: Custo (R$) | G5: Quantitativo | H5: Custo total (R$) | I5: Custo total com K R$) | J5: Peso (%)
A6: 1 | B6: EQUIPE TÉCNICA | H6: =SUM(H7:H9) -> 0 | I6: =SUM(I7:I10) -> 0 | J6: =SUM(J7:J9) -> #DIV/0!
B7: P8061 | C7: DNIT | D7: Engenheiro Coordenador | F7: Hora | G7: 105.34937 | H7: =E7*G7 -> 0 | I7: =H7*K!$G$20 -> 0 | J7: =I7/$I$21 -> #DIV/0!
B8: P8066 | C8: DNIT | D8: Engenheiro de Projetos - Nível Pleno | E8: 0 | F8: Hora | G8: 0 | H8: =E8*G8 -> 0 | I8: =H8*K!$G$20 -> 0 | J8: =I8/$I$21 -> #DIV/0!
B9: P8026 | C9: DNIT | D9: Auxiliar administrativo | F9: Hora | G9: 163.8 | H9: =E9*G9 -> 0 | I9: =H9*K!$G$20 -> 0 | J9: =I9/$I$21 -> #DIV/0!
A11: 2 | B11: EQUIPE DE CONSULTORES | H11: =SUM(H12:H13) -> 0 | I11: =SUM(I12:I13) -> 0 | J11: =SUM(J12:J13) -> #DIV/0!
B12: P8067 | C12: DNIT | D12: Engenheiro de projetos Sênior - Estrutural | E12: 0 | F12: Hora | G12: 0 | H12: =E12*G12 -> 0 | I12: =H12*K!$G$20 -> 0 | J12: =I12/$I$21 -> #DIV/0!
B13: P8067 | C13: DNIT | D13: Engenheiro de projetos Sênior- Eletricista | E13: 0 | F13: Hora | G13: 0 | H13: =E13*G13 -> 0 | I13: =H13*K!$G$20 -> 0 | J13: =I13/$I$21 -> #DIV/0!
A15: 3 | B15: DESPESAS DIVERSAS | I15: =SUM(I16:I19) -> 0 | J15: =SUM(J18:J19) -> #DIV/0!
A17: 3.1 | B17: Outras despesas
B18: CO-27499 | C18: SICOR-MG | D18: Deslocamento Intermunicipal | E18: 0 | F18: km | G18: 0 | H18: =E18*G18 -> 0 | I18: =H18*K!$G$22 -> 0 | J18: =I18/$I$21 -> #DIV/0!
B19: Estimativa | C19: AGEVAP | D19: Diárias/ per noite | E19: 0 | F19: dia | G19: 0 | H19: =E19*G19 -> 0 | I19: =H19*K!$G$22 -> 0 | J19: =I19/$I$21 -> #DIV/0!
A21: VALOR TOTAL - Inclusos K's | H21: R$ | I21: =I6+I15+I11 -> 0 | J21: =J15+J11+J6 -> #DIV/0!
A23: Observações:
A24: 1- | B24: Os K's foram calculados através de fórmulas estabelecidas pelo Acórdão 1787/2011. Os parâmetros utilizados foram estabelecidos pela Nota Técnica Conjunta nº 01/2012/SIP/SAF da Agência Nacional de Águas.
A25: 2- | B25: A remuneração horária é determinada dividindo-se o valor da remuneração mensal pela carga horária efetivamente trabalhada.
A26: 3- | B26: No valor do veículo já estão inclusos os valores de locação, gasolina e pedágio.

Sheet P2
A1: =Capa!A19 -> Contratação de empresa especializada para apoio à Escola de Projetos no gerenciamento, fiscalização e aprovação de projetos de Sistemas de Abastecimento de Água (SAA) e Sistemas de Esgotamento Sanitário (SES) nos municípios das Circunscrições Hidrográficas dos rios Piranga (DO1), Piracicaba (DO2), Santo Antônio (DO3) e Manhuaçu (DO6), contemplados pelo PROTRATAR Projetos de 2024 e 2025
A3: Produto 2.2: | C3: Estudos Topográficos | I3: Data: | J3: =TODAY() -> 46308
A5: Item | B5: Código | C5: Órgão | D5: Descrição | E5: Custo (R$) | G5: Quantitativo | H5: Custo total (R$) | I5: Custo total com K R$) | J5: Peso (%)
A6: 1 | B6: EQUIPE TÉCNICA | H6: =SUM(H7:H9) -> 0 | I6: =SUM(I7:I10) -> 0 | J6: =SUM(J7:J9) -> #DIV/0!
B7: P8061 | C7: DNIT | D7: Engenheiro Coordenador | F7: Hora | G7: 105 | H7: =E7*G7 -> 0 | I7: =H7*K!$G$20 -> 0 | J7: =I7/$I$21 -> #DIV/0!
B8: P8066 | C8: DNIT | D8: Engenheiro de Projetos - Nível Pleno | F8: Hora | G8: 252 | H8: =E8*G8 -> 0 | I8: =H8*K!$G$20 -> 0 | J8: =I8/$I$21 -> #DIV/0!
B9: P8026 | C9: DNIT | D9: Auxiliar administrativo | F9: Hora | G9: 264.6 | H9: =E9*G9 -> 0 | I9: =H9*K!$G$20 -> 0 | J9: =I9/$I$21 -> #DIV/0!
A11: 2 | B11: EQUIPE DE CONSULTORES | H11: =SUM(H12:H13) -> 0 | I11: =SUM(I12:I13) -> 0 | J11: =SUM(J12:J13) -> #DIV/0!
B12: P8067 | C12: DNIT | D12: Engenheiro de projetos Sênior - Estrutural | E12: 0 | F12: Hora | G12: 0 | H12: =E12*G12 -> 0 | I12: =H12*K!$G$20 -> 0 | J12: =I12/$I$21 -> #DIV/0!
B13: P8067 | C13: DNIT | D13: Engenheiro de projetos Sênior- Eletricista | E13: 0 | F13: Hora | G13: 0 | H13: =E13*G13 -> 0 | I13: =H13*K!$G$20 -> 0 | J13: =I13/$I$21 -> #DIV/0!
A15: 3 | B15: DESPESAS DIVERSAS | I15: =SUM(I16:I19) -> 0 | J15: =SUM(J18:J19) -> #DIV/0!
A17: 3.1 | B17: Outras despesas
B18: CO-27499 | C18: SICOR-MG | D18: Deslocamento Intermunicipal | E18: 0 | F18: km | G18: 0 | H18: =E18*G18 -> 0 | I18: =H18*K!$G$22 -> 0 | J18: =I18/$I$21 -> #DIV/0!
B19: Estimativa | C19: AGEVAP | D19: Diárias/ per noite | E19: 0 | F19: dia | G19: 0 | H19: =E19*G19 -> 0 | I19: =H19*K!$G$22 -> 0 | J19: =I19/$I$21 -> #DIV/0!
A21: VALOR TOTAL - Inclusos K's | H21: R$ | I21: =I6+I15+I11 -> 0 | J21: =J15+J11+J6 -> #DIV/0!
A23: Observações:
A24: 1- | B24: Os K's foram calculados através de fórmulas estabelecidas pelo Acórdão 1787/2011. Os parâmetros utilizados foram estabelecidos pela Nota Técnica Conjunta nº 01/2012/SIP/SAF da Agência Nacional de Águas.
A25: 2- | B25: A remuneração horária é determinada dividindo-se o valor da remuneração mensal pela carga horária efetivamente trabalhada.
A26: 3- | B26: No valor do veículo já estão inclusos os valores de locação, gasolina e pedágio.

Sheet P3
A1: =Capa!A19 -> Contratação de empresa especializada para apoio à Escola de Projetos no gerenciamento, fiscalização e aprovação de projetos de Sistemas de Abastecimento de Água (SAA) e Sistemas de Esgotamento Sanitário (SES) nos municípios das Circunscrições Hidrográficas dos rios Piranga (DO1), Piracicaba (DO2), Santo Antônio (DO3) e Manhuaçu (DO6), contemplados pelo PROTRATAR Projetos de 2024 e 2025
A3: Produto 2.3: | C3: Cadastro Técnico | I3: Data: | J3: =TODAY() -> 46308
A5: Item | B5: Código | C5: Órgão | D5: Descrição | E5: Custo (R$) | G5: Quantitativo | H5: Custo total (R$) | I5: Custo total com K R$) | J5: Peso (%)
A6: 1 | B6: EQUIPE TÉCNICA | H6: =SUM(H7:H9) -> 0 | I6: =SUM(I7:I9) -> 0 | J6: =SUM(J7:J9) -> #DIV/0!
B7: P8061 | C7: DNIT | D7: Engenheiro Coordenador | F7: Hora | G7: 105 | H7: =E7*G7 -> 0 | I7: =H7*K!$G$20 -> 0 | J7: =I7/$I$21 -> #DIV/0! | K7: =SUM(G7:G7) -> 105
B8: P8066 | C8: DNIT | D8: Engenheiro de Projetos - Nível Pleno | F8: Hora | G8: 462 | H8: =E8*G8 -> 0 | I8: =H8*K!$G$20 -> 0 | J8: =I8/$I$21 -> #DIV/0!
B9: P8026 | C9: DNIT | D9: Auxiliar administrativo | F9: Hora | G9: 264.6 | H9: =E9*G9 -> 0 | I9: =H9*K!$G$20 -> 0 | J9: =I9/$I$21 -> #DIV/0!
A11: 2 | B11: EQUIPE DE CONSULTORES | H11: =SUM(H12:H13) -> 0 | I11: =SUM(I12:I13) -> 0 | J11: =SUM(J12:J13) -> #DIV/0!
B12: P8067 | C12: DNIT | D12: Engenheiro de projetos Sênior - Estrutural | E12: 0 | F12: Hora | G12: 0 | H12: =E12*G12 -> 0 | I12: =TRUNC(H12*K!$G$20,2) -> 0 | J12: =I12/$I$21 -> #DIV/0!
B13: P8067 | C13: DNIT | D13: Engenheiro de projetos Sênior- Eletricista | E13: 0 | F13: Hora | G13: 0 | H13: =E13*G13 -> 0 | I13: =TRUNC(H13*K!$G$20,2) -> 0 | J13: =I13/$I$21 -> #DIV/0!
A15: 3 | B15: DESPESAS DIVERSAS | I15: =SUM(I16:I19) -> 0 | J15: =SUM(J18:J19) -> #DIV/0!
A17: 3.1 | B17: Outras despesas
B18: CO-27499 | C18: SICOR-MG | D18: Deslocamento Intermunicipal | F18: km | G18: 15669.36 | H18: =E18*G18 -> 0 | I18: =H18*K!$G$22 -> 0 | J18: =I18/$I$21 -> #DIV/0!
B19: Estimativa | C19: AGEVAP | D19: Diárias/ per noite | F19: Dia | G19: 52 | H19: =E19*G19 -> 0 | I19: =H19*K!$G$22 -> 0 | J19: =I19/$I$21 -> #DIV/0!
A21: VALOR TOTAL - Inclusos K's | H21: R$ | I21: =I6+I15+I11 -> 0 | J21: =J15+J11+J6 -> #DIV/0!
A23: Observações:
A24: 1- | B24: Os K's foram calculados através de fórmulas estabelecidas pelo Acórdão 1787/2011. Os parâmetros utilizados foram estabelecidos pela Nota Técnica Conjunta nº 01/2012/SIP/SAF da Agência Nacional de Águas.
A25: 2- | B25: A remuneração horária é determinada dividindo-se o valor da remuneração mensal pela carga horária efetivamente trabalhada.
A26: 3- | B26: No valor do veículo já estão inclusos os valores de locação, gasolina e pedágio.

Sheet P4
A1: =Capa!A19 -> Contratação de empresa especializada para apoio à Escola de Projetos no gerenciamento, fiscalização e aprovação de projetos de Sistemas de Abastecimento de Água (SAA) e Sistemas de Esgotamento Sanitário (SES) nos municípios das Circunscrições Hidrográficas dos rios Piranga (DO1), Piracicaba (DO2), Santo Antônio (DO3) e Manhuaçu (DO6), contemplados pelo PROTRATAR Projetos de 2024 e 2025
A3: Produto 2.4: | C3: Estudo de Concepção | I3: Data: | J3: =TODAY() -> 46308
A5: Item | B5: Código | C5: Órgão | D5: Descrição | E5: Custo (R$) | G5: Quantitativo | H5: Custo total (R$) | I5: Custo total com K R$) | J5: Peso (%)
A6: 1 | B6: EQUIPE TÉCNICA | H6: =SUM(H7:H9) -> 0 | I6: =SUM(I7:I9) -> 0 | J6: =SUM(J7:J9) -> #DIV/0!
B7: P8061 | C7: DNIT | D7: Engenheiro Coordenador | F7: Hora | G7: 336 | H7: =E7*G7 -> 0 | I7: =H7*K!$G$20 -> 0 | J7: =I7/$I$21 -> #DIV/0! | K7: =SUM(G7:G7) -> 336
B8: P8066 | C8: DNIT | D8: Engenheiro de Projetos - Nível Pleno | F8: Hora | G8: 358.70982 | H8: =E8*G8 -> 0 | I8: =H8*K!$G$20 -> 0 | J8: =I8/$I$21 -> #DIV/0!
B9: P8026 | C9: DNIT | D9: Auxiliar administrativo | F9: Hora | G9: 264.6 | H9: =E9*G9 -> 0 | I9: =H9*K!$G$20 -> 0 | J9: =I9/$I$21 -> #DIV/0!
A11: 2 | B11: EQUIPE DE CONSULTORES | H11: =SUM(H12:H13) -> 0 | I11: =SUM(I12:I13) -> 0 | J11: =SUM(J12:J13) -> #DIV/0!
B12: P8067 | C12: DNIT | D12: Engenheiro de projetos Sênior - Estrutural | E12: 0 | F12: Hora | G12: 0 | H12: =E12*G12 -> 0 | I12: =H12*K!$G$20 -> 0 | J12: =I12/$I$21 -> #DIV/0!
B13: P8067 | C13: DNIT | D13: Engenheiro de projetos Sênior- Eletricista | E13: 0 | F13: Hora | G13: 0 | H13: =E13*G13 -> 0 | I13: =H13*K!$G$20 -> 0 | J13: =I13/$I$21 -> #DIV/0!
A15: 3 | B15: DESPESAS DIVERSAS | I15: =SUM(I16:I19) -> 0 | J15: =SUM(J18:J19) -> #DIV/0!
A17: 3.1 | B17: Outras despesas
B18: CO-27499 | C18: SICOR-MG | D18: Deslocamento Intermunicipal | E18: 0 | F18: km | G18: 0 | H18: =E18*G18 -> 0 | I18: =H18*K!$G$22 -> 0 | J18: =I18/$I$21 -> #DIV/0!
B19: Estimativa | C19: AGEVAP | D19: Diárias/ per noite | E19: 0 | F19: Dia | G19: 0 | H19: =E19*G19 -> 0 | I19: =H19*K!$G$22 -> 0 | J19: =I19/$I$21 -> #DIV/0!
A21: VALOR TOTAL - Inclusos K's | H21: R$ | I21: =I6+I15+I11 -> 0 | J21: =J15+J11+J6 -> #DIV/0!
A23: Observações:
A24: 1- | B24: Os K's foram calculados através de fórmulas estabelecidas pelo Acórdão 1787/2011. Os parâmetros utilizados foram estabelecidos pela Nota Técnica Conjunta nº 01/2012/SIP/SAF da Agência Nacional de Águas.
A25: 2- | B25: A remuneração horária é determinada dividindo-se o valor da remuneração mensal pela carga horária efetivamente trabalhada.
A26: 3- | B26: No valor do veículo já estão inclusos os valores de locação, gasolina e pedágio.

Sheet P5
A1: =Capa!A19 -> Contratação de empresa especializada para apoio à Escola de Projetos no gerenciamento, fiscalização e aprovação de projetos de Sistemas de Abastecimento de Água (SAA) e Sistemas de Esgotamento Sanitário (SES) nos municípios das Circunscrições Hidrográficas dos rios Piranga (DO1), Piracicaba (DO2), Santo Antônio (DO3) e Manhuaçu (DO6), contemplados pelo PROTRATAR Projetos de 2024 e 2025
A3: Produto 2.5: | C3: Projeto Básico | I3: Data: | J3: =TODAY() -> 46308
A5: Item | B5: Código | C5: Órgão | D5: Descrição | E5: Custo (R$) | G5: Quantitativo | H5: Custo total (R$) | I5: Custo total com K R$) | J5: Peso (%)
A6: 1 | B6: EQUIPE TÉCNICA | H6: =SUM(H7:H9) -> 0 | I6: =SUM(I7:I9) -> 0 | J6: =SUM(J7:J9) -> #DIV/0!
B7: P8061 | C7: DNIT | D7: Engenheiro Coordenador | F7: Hora | G7: 357 | H7: =E7*G7 -> 0 | I7: =H7*K!$G$20 -> 0 | J7: =I7/$I$21 -> #DIV/0!
B8: P8066 | C8: DNIT | D8: Engenheiro de Projetos - Nível Pleno | F8: Hora | G8: 714 | H8: =E8*G8 -> 0 | I8: =H8*K!$G$20 -> 0 | J8: =I8/$I$21 -> #DIV/0!
B9: P8026 | C9: DNIT | D9: Auxiliar administrativo | F9: Hora | G9: 264.6 | H9: =E9*G9 -> 0 | I9: =H9*K!$G$20 -> 0 | J9: =I9/$I$21 -> #DIV/0!
A11: 2 | B11: EQUIPE DE CONSULTORES | H11: =SUM(H12:H13) -> 0 | I11: =SUM(I12:I13) -> 0 | J11: =SUM(J12:J13) -> #DIV/0!
B12: P8067 | C12: DNIT | D12: Engenheiro de projetos Sênior - Estrutural | E12: 0 | F12: Hora | G12: 0 | H12: =E12*G12 -> 0 | I12: =H12*K!$G$20 -> 0 | J12: =I12/$I$21 -> #DIV/0!
B13: P8067 | C13: DNIT | D13: Engenheiro de projetos Sênior- Eletricista | E13: 0 | F13: Hora | G13: 0 | H13: =E13*G13 -> 0 | I13: =H13*K!$G$20 -> 0 | J13: =I13/$I$21 -> #DIV/0!
A15: 3 | B15: DESPESAS DIVERSAS | I15: =SUM(I16:I19) -> 0 | J15: =SUM(J18:J19) -> #DIV/0!
A17: 3.1 | B17: Outras despesas
B18: CO-27499 | C18: SICOR-MG | D18: Deslocamento Intermunicipal | E18: 0 | F18: km | G18: 0 | H18: =E18*G18 -> 0 | I18: =H18*K!$G$22 -> 0 | J18: =I18/$I$21 -> #DIV/0!
B19: Estimativa | C19: AGEVAP | D19: Diárias/ per noite | E19: 0 | F19: Dia | G19: 0 | H19: =E19*G19 -> 0 | I19: =H19*K!$G$22 -> 0 | J19: =I19/$I$21 -> #DIV/0!
A21: VALOR TOTAL - Inclusos K's | H21: R$ | I21: =I6+I15+I11 -> 0 | J21: =J15+J11+J6 -> #DIV/0!
A23: Observações:
A24: 1- | B24: Os K's foram calculados através de fórmulas estabelecidas pelo Acórdão 1787/2011. Os parâmetros utilizados foram estabelecidos pela Nota Técnica Conjunta nº 01/2012/SIP/SAF da Agência Nacional de Águas.
A25: 2- | B25: A remuneração horária é determinada dividindo-se o valor da remuneração mensal pela carga horária efetivamente trabalhada.
A26: 3- | B26: No valor do veículo já estão inclusos os valores de locação, gasolina e pedágio.

Sheet P6
A1: =Capa!A19 -> Contratação de empresa especializada para apoio à Escola de Projetos no gerenciamento, fiscalização e aprovação de projetos de Sistemas de Abastecimento de Água (SAA) e Sistemas de Esgotamento Sanitário (SES) nos municípios das Circunscrições Hidrográficas dos rios Piranga (DO1), Piracicaba (DO2), Santo Antônio (DO3) e Manhuaçu (DO6), contemplados pelo PROTRATAR Projetos de 2024 e 2025
A3: Produto 2.6: | C3: Estudos Geotécnicos | I3: Data: | J3: =TODAY() -> 46308
A5: Item | B5: Código | C5: Órgão | D5: Descrição | E5: Custo (R$) | G5: Quantitativo | H5: Custo total (R$) | I5: Custo total com K R$) | J5: Peso (%)
A6: 1 | B6: EQUIPE TÉCNICA | H6: =SUM(H7:H9) -> 0 | I6: =SUM(I7:I9) -> 0 | J6: =SUM(J7:J9) -> #DIV/0!
B7: P8061 | C7: DNIT | D7: Engenheiro Coordenador | F7: Hora | G7: 273 | H7: =E7*G7 -> 0 | I7: =H7*K!$G$20 -> 0 | J7: =I7/$I$21 -> #DIV/0! | K7: =SUM(G7:G7) -> 273
B8: P8066 | C8: DNIT | D8: Engenheiro de Projetos - Nível Pleno | F8: Hora | G8: 115.5 | H8: =E8*G8 -> 0 | I8: =H8*K!$G$20 -> 0 | J8: =I8/$I$21 -> #DIV/0!
B9: P8026 | C9: DNIT | D9: Auxiliar administrativo | F9: Hora | G9: 264.6 | H9: =E9*G9 -> 0 | I9: =H9*K!$G$20 -> 0 | J9: =I9/$I$21 -> #DIV/0!
A11: 2 | B11: EQUIPE DE CONSULTORES | H11: =SUM(H12:H13) -> 0 | I11: =SUM(I12:I13) -> 0 | J11: =SUM(J12:J13) -> #DIV/0!
B12: P8067 | C12: DNIT | D12: Engenheiro de projetos Sênior - Estrutural | E12: 0 | F12: Hora | G12: 0 | H12: =E12*G12 -> 0 | I12: =H12*K!$G$20 -> 0 | J12: =I12/$I$21 -> #DIV/0!
B13: P8067 | C13: DNIT | D13: Engenheiro de projetos Sênior- Eletricista | E13: 0 | F13: Hora | G13: 0 | H13: =E13*G13 -> 0 | I13: =H13*K!$G$20 -> 0 | J13: =I13/$I$21 -> #DIV/0!
A15: 3 | B15: DESPESAS DIVERSAS | I15: =SUM(I16:I19) -> 0 | J15: =SUM(J18:J19) -> #DIV/0!
A17: 3.1 | B17: Outras despesas
B18: CO-27499 | C18: SICOR-MG | D18: Deslocamento Intermunicipal | E18: 0 | F18: km | G18: 0 | H18: =E18*G18 -> 0 | I18: =H18*K!$G$22 -> 0 | J18: =I18/$I$21 -> #DIV/0!
B19: Estimativa | C19: AGEVAP | D19: Diárias/ per noite | E19: 0 | F19: Dia | G19: 0 | H19: =E19*G19 -> 0 | I19: =H19*K!$G$22 -> 0 | J19: =I19/$I$21 -> #DIV/0!
A21: VALOR TOTAL - Inclusos K's | H21: R$ | I21: =I6+I15+I11 -> 0 | J21: =J15+J11+J6 -> #DIV/0!
A23: Observações:
A24: 1- | B24: Os K's foram calculados através de fórmulas estabelecidas pelo Acórdão 1787/2011. Os parâmetros utilizados foram estabelecidos pela Nota Técnica Conjunta nº 01/2012/SIP/SAF da Agência Nacional de Águas.
A25: 2- | B25: A remuneração horária é determinada dividindo-se o valor da remuneração mensal pela carga horária efetivamente trabalhada.
A26: 3- | B26: No valor do veículo já estão inclusos os valores de locação, gasolina e pedágio.

Sheet P7
A1: =Capa!A19 -> Contratação de empresa especializada para apoio à Escola de Projetos no gerenciamento, fiscalização e aprovação de projetos de Sistemas de Abastecimento de Água (SAA) e Sistemas de Esgotamento Sanitário (SES) nos municípios das Circunscrições Hidrográficas dos rios Piranga (DO1), Piracicaba (DO2), Santo Antônio (DO3) e Manhuaçu (DO6), contemplados pelo PROTRATAR Projetos de 2024 e 2025
A3: Produto 2.7: | C3: Estudos Ambientais | I3: Data: | J3: =TODAY() -> 46308
A5: Item | B5: Código | C5: Órgão | D5: Descrição | E5: Custo (R$) | G5: Quantitativo | H5: Custo total (R$) | I5: Custo total com K R$) | J5: Peso (%)
A6: 1 | B6: EQUIPE TÉCNICA | H6: =SUM(H7:H9) -> 0 | I6: =SUM(I7:I9) -> 0 | J6: =SUM(J7:J9) -> #DIV/0!
B7: P8061 | C7: DNIT | D7: Engenheiro Coordenador | F7: Hora | G7: 357 | H7: =E7*G7 -> 0 | I7: =H7*K!$G$20 -> 0 | J7: =I7/$I$21 -> #DIV/0!
B8: P8066 | C8: DNIT | D8: Engenheiro de Projetos - Nível Pleno | F8: Hora | G8: 210 | H8: =E8*G8 -> 0 | I8: =H8*K!$G$20 -> 0 | J8: =I8/$I$21 -> #DIV/0!
B9: P8026 | C9: DNIT | D9: Auxiliar administrativo | F9: Hora | G9: 264.6 | H9: =E9*G9 -> 0 | I9: =H9*K!$G$20 -> 0 | J9: =I9/$I$21 -> #DIV/0!
A11: 2 | B11: EQUIPE DE CONSULTORES | H11: =SUM(H12:H13) -> 0 | I11: =SUM(I12:I13) -> 0 | J11: =SUM(J12:J13) -> #DIV/0!
B12: P8067 | C12: DNIT | D12: Engenheiro de projetos Sênior - Estrutural | E12: 0 | F12: Hora | G12: 0 | H12: =E12*G12 -> 0 | I12: =H12*K!$G$20 -> 0 | J12: =I12/$I$21 -> #DIV/0!
B13: P8067 | C13: DNIT | D13: Engenheiro de projetos Sênior- Eletricista | E13: 0 | F13: Hora | G13: 0 | H13: =E13*G13 -> 0 | I13: =H13*K!$G$20 -> 0 | J13: =I13/$I$21 -> #DIV/0!
A15: 3 | B15: DESPESAS DIVERSAS | I15: =SUM(I16:I19) -> 0 | J15: =SUM(J18:J19) -> #DIV/0!
A17: 3.1 | B17: Outras despesas
B18: CO-27499 | C18: SICOR-MG | D18: Deslocamento Intermunicipal | E18: 0 | F18: km | G18: 0 | H18: =E18*G18 -> 0 | I18: =H18*K!$G$22 -> 0 | J18: =I18/$I$21 -> #DIV/0!
B19: Estimativa | C19: AGEVAP | D19: Diárias/ per noite | E19: 0 | F19: Dia | G19: 0 | H19: =E19*G19 -> 0 | I19: =H19*K!$G$22 -> 0 | J19: =I19/$I$21 -> #DIV/0!
A21: VALOR TOTAL - Inclusos K's | H21: R$ | I21: =I6+I15+I11 -> 0 | J21: =J15+J11+J6 -> #DIV/0!
A23: Observações:
A24: 1- | B24: Os K's foram calculados através de fórmulas estabelecidas pelo Acórdão 1787/2011. Os parâmetros utilizados foram estabelecidos pela Nota Técnica Conjunta nº 01/2012/SIP/SAF da Agência Nacional de Águas.
A25: 2- | B25: A remuneração horária é determinada dividindo-se o valor da remuneração mensal pela carga horária efetivamente trabalhada.
A26: 3- | B26: No valor do veículo já estão inclusos os valores de locação, gasolina e pedágio.

Sheet P8
A1: =Capa!A19 -> Contratação de empresa especializada para apoio à Escola de Projetos no gerenciamento, fiscalização e aprovação de projetos de Sistemas de Abastecimento de Água (SAA) e Sistemas de Esgotamento Sanitário (SES) nos municípios das Circunscrições Hidrográficas dos rios Piranga (DO1), Piracicaba (DO2), Santo Antônio (DO3) e Manhuaçu (DO6), contemplados pelo PROTRATAR Projetos de 2024 e 2025
A3: Produto 2.8: | C3: Projeto Executivo | I3: Data: | J3: =TODAY() -> 46308
A5: Item | B5: Código | C5: Órgão | D5: Descrição | E5: Custo (R$) | G5: Quantitativo | H5: Custo total (R$) | I5: Custo total com K R$) | J5: Peso (%)
A6: 1 | B6: EQUIPE TÉCNICA | H6: =SUM(H7:H9) -> 0 | I6: =SUM(I7:I9) -> 0 | J6: =SUM(J7:J9) -> #DIV/0!
B7: P8061 | C7: DNIT | D7: Engenheiro Coordenador | F7: Hora | G7: 84 | H7: =E7*G7 -> 0 | I7: =H7*K!$G$20 -> 0 | J7: =I7/$I$21 -> #DIV/0!
B8: P8066 | C8: DNIT | D8: Engenheiro de Projetos - Nível Pleno | F8: Hora | G8: 126 | H8: =E8*G8 -> 0 | I8: =H8*K!$G$20 -> 0 | J8: =I8/$I$21 -> #DIV/0!
B9: P8026 | C9: DNIT | D9: Auxiliar administrativo | F9: Hora | G9: 264.6 | H9: =E9*G9 -> 0 | I9: =H9*K!$G$20 -> 0 | J9: =I9/$I$21 -> #DIV/0!
A11: 2 | B11: EQUIPE DE CONSULTORES | H11: =SUM(H12:H13) -> 0 | I11: =SUM(I12:I13) -> 0 | J11: =SUM(J12:J13) -> #DIV/0!
B12: P8067 | C12: DNIT | D12: Engenheiro de projetos Sênior - Estrutural | F12: Hora | G12: 882.67431 | H12: =E12*G12 -> 0 | I12: =H12*K!$G$20 -> 0 | J12: =I12/$I$21 -> #DIV/0!
B13: P8067 | C13: DNIT | D13: Engenheiro de projetos Sênior- Eletricista | F13: Hora | G13: 882.67431 | H13: =E13*G13 -> 0 | I13: =H13*K!$G$20 -> 0 | J13: =I13/$I$21 -> #DIV/0!
A15: 3 | B15: DESPESAS DIVERSAS | I15: =SUM(I16:I19) -> 0 | J15: =SUM(J18:J19) -> #DIV/0!
A17: 3.1 | B17: Outras despesas
B18: CO-27499 | C18: SICOR-MG | D18: Deslocamento Intermunicipal | E18: 0 | F18: km | G18: 0 | H18: =E18*G18 -> 0 | I18: =H18*K!$G$22 -> 0 | J18: =I18/$I$21 -> #DIV/0!
B19: Estimativa | C19: AGEVAP | D19: Diárias/ per noite | E19: 0 | F19: Dia | G19: 0 | H19: =E19*G19 -> 0 | I19: =H19*K!$G$22 -> 0 | J19: =I19/$I$21 -> #DIV/0!
A21: VALOR TOTAL - Inclusos K's | H21: R$ | I21: =I6+I15+I11 -> 0 | J21: =J15+J11+J6 -> #DIV/0!
A23: Observações:
A24: 1- | B24: Os K's foram calculados através de fórmulas estabelecidas pelo Acórdão 1787/2011. Os parâmetros utilizados foram estabelecidos pela Nota Técnica Conjunta nº 01/2012/SIP/SAF da Agência Nacional de Águas.
A25: 2- | B25: A remuneração horária é determinada dividindo-se o valor da remuneração mensal pela carga horária efetivamente trabalhada.
A26: 3- | B26: No valor do veículo já estão inclusos os valores de locação, gasolina e pedágio.

Sheet R$ TOTAL (Consolidado)
A1: =Capa!A19 -> Contratação de empresa especializada para apoio à Escola de Projetos no gerenciamento, fiscalização e aprovação de projetos de Sistemas de Abastecimento de Água (SAA) e Sistemas de Esgotamento Sanitário (SES) nos municípios das Circunscrições Hidrográficas dos rios Piranga (DO1), Piracicaba (DO2), Santo Antônio (DO3) e Manhuaçu (DO6), contemplados pelo PROTRATAR Projetos de 2024 e 2025
A3: Produto: | C3: Consolidado | I3: Data: | J3: =TODAY() -> 46308
A5: Item | B5: Código | C5: Órgão | D5: Descrição | E5: Custo (R$) | G5: Quantitativo | H5: Custo total (R$) | I5: Custo total com K R$) | J5: Peso (%)
A6: 1 | B6: EQUIPE TÉCNICA | H6: =SUM(H7:H9) -> 0 | I6: =SUM(I7:I9) -> 0 | J6: =SUM(J7:J9) -> #DIV/0!
B7: P8061 | C7: DNIT | D7: Engenheiro Coordenador | E7: ='Planejamento (PT)'!E7 -> 0 | F7: Hora | G7: =SUM('Planejamento (PT)'!G7,'P1'!G7,'P2'!G7,'P3'!G7,'P4'!G7,'P5'!G7,'P6'!G7,'P7'!G7,'P8'!G7,) -> 1766.3494 | H7: =E7*G7 -> 0 | I7: =H7*K!$G$20 -> 0 | J7: =I7/$I$22 -> #DIV/0!
B8: P8066 | C8: DNIT | D8: Engenheiro de Projetos - Nível Pleno | E8: ='P3'!E8 -> 0 | F8: Hora | G8: =SUM('Planejamento (PT)'!G8,'P1'!G8,'P2'!G8,'P3'!G8,'P4'!G8,'P5'!G8,'P6'!G8,'P7'!G8,'P8'!G8,) -> 2238.2098 | H8: =E8*G8 -> 0 | I8: =H8*K!$G$20 -> 0 | J8: =I8/$I$22 -> #DIV/0!
B9: P8026 | C9: DNIT | D9: Auxiliar administrativo | E9: ='Planejamento (PT)'!E9 -> 0 | F9: Hora | G9: =SUM('Planejamento (PT)'!G9,'P1'!G9,'P2'!G9,'P3'!G9,'P4'!G9,'P5'!G9,'P6'!G9,'P7'!G9,'P8'!G9,) -> 2061.875 | H9: =E9*G9 -> 0 | I9: =TRUNC((H9*K!$G$20),2) -> 0 | J9: =I9/$I$22 -> #DIV/0!
A11: 2 | B11: EQUIPE DE CONSULTORES | H11: =SUM(H12:H13) -> 0 | I11: =SUM(I12:I13) -> 0 | J11: =SUM(J12:J13) -> #DIV/0!
B12: P8067 | C12: DNIT | D12: Engenheiro de projetos Sênior - Estrutural | E12: ='P8'!E12 -> 0 | F12: Hora | G12: =SUM('Planejamento (PT)'!G12,'P1'!G12,'P2'!G12,'P3'!G12,'P4'!G12,'P5'!G12,'P6'!G12,'P7'!G12,'P8'!G12,) -> 882.67431 | H12: =E12*G12 -> 0 | I12: =H12*K!$G$20 -> 0 | J12: =I12/$I$22 -> #DIV/0!
B13: P8067 | C13: DNIT | D13: Engenheiro de projetos Sênior- Eletricista | E13: ='P8'!E13 -> 0 | F13: Hora | G13: =SUM('Planejamento (PT)'!G13,'P1'!G13,'P2'!G13,'P3'!G13,'P4'!G13,'P5'!G13,'P6'!G13,'P7'!G13,'P8'!G13,) -> 882.67431 | H13: =E13*G13 -> 0 | I13: =H13*K!$G$20 -> 0 | J13: =I13/$I$22 -> #DIV/0!
B14: =#REF! -> #REF! | C14: =#REF! -> #REF! | D14: =#REF! -> #REF! | E14: =#REF! -> #REF! | F14: Hora | G14: 0 | H14: =E14*G14 -> #REF! | I14: =H14*K!$G$20 -> #REF! | J14: =I14/$I$22 -> #REF!
B15: =#REF! -> #REF! | C15: =#REF! -> #REF! | D15: =#REF! -> #REF! | E15: =#REF! -> #REF! | F15: Hora | G15: 0 | H15: =E15*G15 -> #REF! | I15: =H15*K!$G$20 -> #REF! | J15: =I15/$I$22 -> #REF!
A16: 3 | B16: DESPESAS DIVERSAS | I16: =SUM(I17:I20) -> 0 | J16: =SUM(J19:J20) -> #DIV/0!
A18: 3.1 | B18: Outras despesas
B19: CO-27499 | C19: SICOR-MG | D19: Deslocamento Intermunicipal | E19: ='P3'!E18 -> 0 | F19: km | G19: =SUM('Planejamento (PT)'!G19,'P1'!G18,'P2'!G18,'P3'!G18,'P4'!G18,'P5'!G18,'P6'!G18,'P7'!G18,'P8'!G18,) -> 15669.36 | H19: =E19*G19 -> 0 | I19: =H19*K!$G$22 -> 0 | J19: =I19/$I$22 -> #DIV/0!
B20: Estimativa | C20: AGEVAP | D20: Diárias/ per noite | E20: ='P3'!E19 -> 0 | F20: Dia | G20: =SUM('Planejamento (PT)'!G20,'P1'!G19,'P2'!G19,'P3'!G19,'P4'!G19,'P5'!G19,'P6'!G19,'P7'!G19,'P8'!G19,) -> 52 | H20: =E20*G20 -> 0 | I20: =H20*K!$G$22 -> 0 | J20: =I20/$I$22 -> #DIV/0!
A22: VALOR TOTAL - Inclusos K's | H22: R$ | I22: =(I6+I16+I11) -> 0 | J22: =J16+J11+J6 -> #DIV/0!
A24: Observações:
A25: 1- | B25: Os K's foram calculados através de fórmulas estabelecidas pelo Acórdão 1787/2011. Os parâmetros utilizados foram estabelecidos pela Nota Técnica Conjunta nº 01/2012/SIP/SAF da Agência Nacional de Águas.
A26: 2- | B26: A remuneração horária é determinada dividindo-se o valor da remuneração mensal pela carga horária efetivamente trabalhada.
A27: 3- | B27: No valor do veículo já estão inclusos os valores de locação, gasolina e pedágio.

Sheet Cronograma_percentuais
A1: CRONOGRAMA FÍSICO FINANCEIRO - GERENCIADORA
A3: PRODUTO | B3: ATIVIDADE | C3: INCIDÊNCIA (%) | D3: MESES
D4: 1 | E4: 2 | F4: 3 | G4: 4 | H4: 5 | I4: 6 | J4: 7 | K4: 8 | L4: 9 | M4: 10 | N4: 11 | O4: 12 | P4: 13 | Q4: 14 | R4: 15
A5: 1 | B5: Elaboração e entrega do Produto 1 - Plano de trabalho | C5: ='R$ Produto (Total)'!D9 -> #DIV/0! | D5: 1
C6: =C5*'R$ Produto (Total)'!E20 -> #DIV/0! | D6: =D5*C6 -> #DIV/0!
A7: 2 | B7: Elaboração e entrega do Produto 2 - Relatórios atividades de apoio | C7: ='R$ Produto (Total)'!D10 -> 0 | D7: =$S$7 -> 0.06666667 | E7: =$S$7 -> 0.06666667 | F7: =$S$7 -> 0.06666667 | G7: =$S$7 -> 0.06666667 | H7: =$S$7 -> 0.06666667 | I7: =$S$7 -> 0.06666667 | J7: =$S$7 -> 0.06666667 | K7: =$S$7 -> 0.06666667 | ... R7: =$S$7 -> 0.06666667 | S7: 0.06666667
C8: ='R$ Produto (Total)'!E10 -> 0 | D8: =D7*$C$8 -> 0 | E8: =E7*$C$8 -> 0 | F8: =F7*$C$8 -> 0 | G8: =G7*$C$8 -> 0 | H8: =H7*$C$8 -> 0 | I8: =I7*$C$8 -> 0 | J8: =J7*$C$8 -> 0 | K8: =K7*$C$8 -> 0 | ... R8: =R7*$C$8 -> 0
A9: 2 | B9: (DAP) P2.1 - Plano de Trabalho. | C9: ='R$ Produto (Total)'!D12 -> #DIV/0! | E9: 0.5 | F9: 0.5
C10: =C9*'R$ Produto (Total)'!E20 -> #DIV/0! | E10: =E9*C10 -> #DIV/0! | F10: =F9*C10 -> #DIV/0!
B11: (DAP) P2.2- Levantamento Topográfico. | C11: ='R$ Produto (Total)'!D13 -> #DIV/0! | F11: 0.5 | G11: 0.5
C12: =C11*'R$ Produto (Total)'!E20 -> #DIV/0! | F12: =F11*C12 -> #DIV/0! | G12: =G11*C12 -> #DIV/0!
B13: (DAP) P2.3 - Cadastro Técnico. | C13: ='R$ Produto (Total)'!D14 -> #DIV/0! | G13: 0.5 | H13: 0.5
C14: =C13*'R$ Produto (Total)'!E20 -> #DIV/0! | G14: =G13*C14 -> #DIV/0! | H14: =H13*C14 -> #DIV/0!
B15: (DAP) P2.4 - Estudo de Concepção. | C15: ='R$ Produto (Total)'!D15 -> #DIV/0! | H15: 0.25 | I15: 0.25 | J15: 0.25 | K15: 0.25
C16: =C15*'R$ Produto (Total)'!E20 -> #DIV/0! | H16: =H15*$C$16 -> #DIV/0! | I16: =I15*$C$16 -> #DIV/0! | J16: =J15*$C$16 -> #DIV/0! | K16: =K15*$C$16 -> #DIV/0!
B17: (DAP) P2.5 - Projeto Básico. | C17: ='R$ Produto (Total)'!D16 -> #DIV/0! | I17: 0.25 | J17: 0.25 | K17: 0.25 | L17: 0.25
C18: =C17*'R$ Produto (Total)'!E20 -> #DIV/0! | I18: =I17*$C$18 -> #DIV/0! | J18: =J17*$C$18 -> #DIV/0! | K18: =K17*$C$18 -> #DIV/0! | L18: =L17*$C$18 -> #DIV/0!
B19: (DAP) P2.6 - Estudos Geoténicos. | C19: ='R$ Produto (Total)'!D17 -> #DIV/0! | L19: 0.25 | M19: 0.25 | N19: 0.25 | O19: 0.25
C20: =C19*'R$ Produto (Total)'!E20 -> #DIV/0! | L20: =L19*$C$20 -> #DIV/0! | M20: =M19*$C$20 -> #DIV/0! | N20: =N19*$C$20 -> #DIV/0! | O20: =O19*$C$20 -> #DIV/0!
B21: (DAP) P2.7- Estudos Ambientais. | C21: ='R$ Produto (Total)'!D18 -> #DIV/0! | L21: 0.25 | M21: 0.25 | N21: 0.25 | O21: 0.25
C22: =C21*'R$ Produto (Total)'!E20 -> #DIV/0! | L22: =L21*$C$22 -> #DIV/0! | M22: =M21*$C$22 -> #DIV/0! | N22: =N21*$C$22 -> #DIV/0! | O22: =O21*$C$22 -> #DIV/0!
B23: (DAP) P2.8 - Projeto Executivo. | C23: ='R$ Produto (Total)'!D19 -> #DIV/0! | O23: 0.25 | P23: 0.25 | Q23: 0.25 | R23: 0.25
C24: =C23*'R$ Produto (Total)'!E20 -> #DIV/0! | O24: =O23*$C$24 -> #DIV/0! | P24: =P23*$C$24 -> #DIV/0! | Q24: =Q23*$C$24 -> #DIV/0! | R24: =R23*$C$24 -> #DIV/0!
A26: Total | C26: =SUM(C5,C7,C9,C11,C13,C15,C17,C19,C21,C23) -> #DIV/0! | D26: =D27/$C$27 -> #DIV/0! | E26: =E27/$C$27 -> #DIV/0! | F26: =F27/$C$27 -> #DIV/0! | G26: =G27/$C$27 -> #DIV/0! | H26: =H27/$C$27 -> #DIV/0! | I26: =I27/$C$27 -> #DIV/0! | J26: =J27/$C$27 -> #DIV/0! | K26: =K27/$C$27 -> #DIV/0! | ... R26: =R27/$C$27 -> #DIV/0!
C27: =SUM(C6,C8,C10,C12,C14,C16,C18,C20,C22,C24) -> #DIV/0! | D27: =SUM(D6,D8,D10,D12,D14,D16,D18,D20,D22,D24) -> #DIV/0! | E27: =SUM(E6,E8,E10,E12,E14,E16,E18,E20,E22,E24) -> #DIV/0! | F27: =SUM(F6,F8,F10,F12,F14,F16,F18,F20,F22,F24) -> #DIV/0! | G27: =SUM(G6,G8,G10,G12,G14,G16,G18,G20,G22,G24) -> #DIV/0! | H27: =SUM(H6,H8,H10,H12,H14,H16,H18,H20,H22,H24) -> #DIV/0! | I27: =SUM(I6,I8,I10,I12,I14,I16,I18,I20,I22,I24) -> #DIV/0! | J27: =SUM(J6,J8,J10,J12,J14,J16,J18,J20,J22,J24) -> #DIV/0! | ... P27: =SUM(P6,P8,P10,P12,P14,P16,P18,P20,P22,P24) -> #DIV/0! | Q27: =TRUNC(SUM(Q6,Q8,Q10,Q12,Q14,Q16,Q18,Q20,Q22,Q24),2) -> #DIV/0! | R27: =SUM(R6,R8,R10,R12,R14,R16,R18,R20,R22,R24) -> #DIV/0!
A28: Total acumulado | C28: =C26 -> #DIV/0! | D28: =D26 -> #DIV/0! | E28: =E26+D28 -> #DIV/0! | F28: =F26+E28 -> #DIV/0! | G28: =G26+F28 -> #DIV/0! | H28: =H26+G28 -> #DIV/0! | I28: =I26+H28 -> #DIV/0! | J28: =J26+I28 -> #DIV/0! | K28: =K26+J28 -> #DIV/0! | L28: =L26+K28 -> #DIV/0! | ... R28: =R26+Q28 -> #DIV/0!
C29: =C27 -> #DIV/0! | D29: =D27 -> #DIV/0! | E29: =E27+D29 -> #DIV/0! | F29: =F27+E29 -> #DIV/0! | G29: =G27+F29 -> #DIV/0! | H29: =H27+G29 -> #DIV/0! | I29: =I27+H29 -> #DIV/0! | J29: =J27+I29 -> #DIV/0! | K29: =K27+J29 -> #DIV/0! | L29: =L27+K29 -> #DIV/0! | ... R29: =R27+Q29 -> #DIV/0!

Sheet R$ Produto (Total)
B1: CONTRATAÇÃO DE EMPRESA ESPECIALIZADA EM PROJETOS DE ENGENHARIA PARA APOIAR A ESCOLA DE PROJETOS NO GERENCIAMENTO E FISCALIZAÇÃO DE PROJETOS DE SISTEMAS COLETIVOS DE ESGOTAMENTO SANITÁRIO DOS MUNICÍPIOS DA BACIA DO RIO DOCE
A3: Custo por produto | D3: Data: | E3: =TODAY() -> 46308
A4: Comitê: | B4: =Capa!B25 -> CBHs Piranga, Piracicaba, Santo Antônio e Manhuaçu
A5: Município: | B5: =Capa!B31 -> GOVERNADOR VALADARES/MG
A7: CUSTO GLOBAL MÁXIMO ( EQUIPE PERMANENTE + EQUIPE DE CONSULTORES)
A8: DESCRIÇÃO DAS ENTREGAS (PRODUTOS) | D8: INCIDÊNCIA | E8: CUSTO (R$) | F8: QUANTIDADE | G8: CUSTO/PRODUTO (R$)
A9: Produto 1: | B9: Plano de Trabalho | C9: .......................................................................................... | D9: =E9/$E$20 -> #DIV/0! | E9: ='Planejamento (PT)'!I21 -> 0 | F9: 1 | G9: =E9/F9 -> 0
A11: Produto 2: | B11: Documento de Aprovação do Produto (DAP) | C11: .......................................................................................... | D11: =SUM(D12:D19) -> #DIV/0! | E11: =TRUNC(SUM(E12:E19),2) -> 0 | F11: =SUM(F12:F19) -> 336
A12: 2.1 | B12: Plano de Trabalho | C12: .......................................................................................... | D12: =E12/$E$20 -> #DIV/0! | E12: ='P1'!I21 -> 0 | F12: 42 | G12: =E12/F12 -> 0
A13: 2.2 | B13: Levantamento Topográfico | C13: .......................................................................................... | D13: =E13/$E$20 -> #DIV/0! | E13: ='P2'!I21 -> 0 | F13: 42 | G13: =E13/F13 -> 0
A14: 2.3 | B14: Cadastro técnico | C14: .......................................................................................... | D14: =E14/$E$20 -> #DIV/0! | E14: ='P3'!I21 -> 0 | F14: 42 | G14: =E14/F14 -> 0
A15: 2.4 | B15: Estudo de Concepção | C15: .......................................................................................... | D15: =E15/$E$20 -> #DIV/0! | E15: ='P4'!I21 -> 0 | F15: 42 | G15: =E15/F15 -> 0
A16: 2.5 | B16: Projeto Básico | C16: .......................................................................................... | D16: =E16/$E$20 -> #DIV/0! | E16: ='P5'!I21 -> 0 | F16: 42 | G16: =E16/F16 -> 0
A17: 2.6 | B17: Estudos Geotécnicos | C17: .......................................................................................... | D17: =E17/$E$20 -> #DIV/0! | E17: ='P6'!I21 -> 0 | F17: 42 | G17: =E17/F17 -> 0
A18: 2.7 | B18: Estudos Ambientais | C18: .......................................................................................... | D18: =E18/$E$20 -> #DIV/0! | E18: ='P7'!I21 -> 0 | F18: 42 | G18: =E18/F18 -> 0
A19: 2.8 | B19: Projeto executivo | C19: .......................................................................................... | D19: =E19/$E$20 -> #DIV/0! | E19: ='P8'!I21 -> 0 | F19: 42 | G19: =E19/F19 -> 0
C20: TOTAL | D20: =D9+D10+D11 -> #DIV/0! | E20: =(E9+E10+E11) -> 0 | F20: =F11+F10+F9 -> 337 | G20: =TRUNC((G9*F9)+(G10*F10)+(G12*F12)+(G13*F13)+(G14*F14)+(G15*F15)+(G16*F16)+(G17*F17)+(G18*F18)+(G19*F19),2) -> 0

Sheet Divisão CBHs
G1: Linha 2.1.1.1 - SAA
G2: DAP | H2: PT | I2: RAA | J2: Total
F3: DO1 | G3: =SUMIFS(#REF!,#REF!,"SAA",#REF!,"DO1") -> #REF! | H3: =$E$4 -> 0 | I3: =$E$5 -> 0 | J3: =SUM(G3:I3) -> #REF! | K3: =COUNTIFS(#REF!,"SAA",#REF!,"DO1") -> #REF!
B4: PT | C4: ='R$ Produto (Total)'!G9 -> 0 | D4: =C4/2 -> 0 | E4: =D4/4 -> 0 | F4: DO2 | G4: =SUMIFS(#REF!,#REF!,"SAA",#REF!,"DO2") -> #REF! | H4: =$E$4 -> 0 | I4: =$E$5 -> 0 | J4: =SUM(G4:I4) -> #REF! | K4: =COUNTIFS(#REF!,"SAA",#REF!,"DO2") -> #REF!
B5: RAA | C5: ='R$ Produto (Total)'!E10 -> 0 | D5: =C5/2 -> 0 | E5: =D5/4 -> 0 | F5: DO3 | G5: =SUMIFS(#REF!,#REF!,"SAA",#REF!,"DO3") -> #REF! | H5: =$E$4 -> 0 | I5: =$E$5 -> 0 | J5: =SUM(G5:I5) -> #REF! | K5: =COUNTIFS(#REF!,"SAA",#REF!,"DO3") -> #REF!
F6: DO6 | G6: =SUMIFS(#REF!,#REF!,"SAA",#REF!,"DO6") -> #REF! | H6: =$E$4 -> 0 | I6: =$E$5 -> 0 | J6: =SUM(G6:I6) -> #REF! | K6: =COUNTIFS(#REF!,"SAA",#REF!,"DO6") -> #REF!
J8: =SUM(J3:J7) -> #REF! | K8: =SUM(K3:K7) -> #REF!
G10: Linha 2.1.1.2 - SES
G11: DAP | H11: PT | I11: RAA | J11: Total
F12: DO1 | G12: =SUMIFS(#REF!,#REF!,"SES",#REF!,"DO1") -> #REF! | H12: =$E$4 -> 0 | I12: =$E$5 -> 0 | J12: =SUM(G12:I12) -> #REF! | K12: =COUNTIFS(#REF!,"SES",#REF!,"DO1") -> #REF!
F13: DO2 | G13: =SUMIFS(#REF!,#REF!,"SES",#REF!,"DO2") -> #REF! | H13: =$E$4 -> 0 | I13: =$E$5 -> 0 | J13: =SUM(G13:I13) -> #REF! | K13: =COUNTIFS(#REF!,"SES",#REF!,"DO2") -> #REF!
F14: DO3 | G14: =SUMIFS(#REF!,#REF!,"SES",#REF!,"DO3") -> #REF! | H14: =$E$4 -> 0 | I14: =$E$5 -> 0 | J14: =SUM(G14:I14) -> #REF! | K14: =COUNTIFS(#REF!,"SES",#REF!,"DO3") -> #REF!
F15: DO6 | G15: =SUMIFS(#REF!,#REF!,"SES",#REF!,"DO6") -> #REF! | H15: =$E$4 -> 0 | I15: =$E$5 -> 0 | J15: =SUM(G15:I15) -> #REF! | K15: =COUNTIFS(#REF!,"SES",#REF!,"DO6") -> #REF!
J17: =SUM(J12:J16) -> #REF! | K17: =SUM(K12:K16) -> #REF!
G19: Total geral | J19: =(J17+J8) -> #REF!
G22: =SUM(G3:G7,G12:G16) -> #REF! | H22: =C4+C5 -> 0 | I22: =H22+G22 -> #REF!
